From mboxrd@z Thu Jan  1 00:00:00 1970
Return-Path: <test-report-bounces@dpdk.org>
Received: from mails.dpdk.org (mails.dpdk.org [217.70.189.124])
	by inbox.dpdk.org (Postfix) with ESMTP id EA33343C8E
	for <public@inbox.dpdk.org>; Tue, 12 Mar 2024 09:32:26 +0100 (CET)
Received: from mails.dpdk.org (localhost [127.0.0.1])
	by mails.dpdk.org (Postfix) with ESMTP id E0961402D8;
	Tue, 12 Mar 2024 09:32:26 +0100 (CET)
Received: from mail-pl1-f225.google.com (mail-pl1-f225.google.com
 [209.85.214.225])
 by mails.dpdk.org (Postfix) with ESMTP id E249640282
 for <test-report@dpdk.org>; Tue, 12 Mar 2024 09:32:25 +0100 (CET)
Received: by mail-pl1-f225.google.com with SMTP id
 d9443c01a7336-1dd916ad172so16594415ad.2
 for <test-report@dpdk.org>; Tue, 12 Mar 2024 01:32:25 -0700 (PDT)
DKIM-Signature: v=1; a=rsa-sha256; c=relaxed/relaxed;
 d=iol.unh.edu; s=unh-iol; t=1710232345; x=1710837145; darn=dpdk.org;
 h=references:in-reply-to:cc:to:from:subject:message-id:date:from:to
 :cc:subject:date:message-id:reply-to;
 bh=uZhgGAn2JTOLFXRnzktKT618Qyjz0k8BQfqYRbRNEGo=;
 b=dczc9VCRxLRmWzhO5kA5bxfcNROXZ3FG1GPVjneNfcwICcLHYUIaCReYKbgbpuOjO/
 +A5MrjgX2tKyd00jFHel4ys+yapp4uCr6IHGwJhDpsNzL/398zESGGGrPj5M5yfqrk4u
 7PLuK/+5qebZudAoPXag4LDTYa+aPMv8E1pes=
X-Google-DKIM-Signature: v=1; a=rsa-sha256; c=relaxed/relaxed;
 d=1e100.net; s=20230601; t=1710232345; x=1710837145;
 h=references:in-reply-to:cc:to:from:subject:message-id:date
 :x-gm-message-state:from:to:cc:subject:date:message-id:reply-to;
 bh=uZhgGAn2JTOLFXRnzktKT618Qyjz0k8BQfqYRbRNEGo=;
 b=kxJI+521nNbb6m0avwub6c2gHd2LfxOB5iK7gtuONN7ct4qE0h1m++/XmXB0nQkDm9
 vWm9rmnsECefw41xKUW4BlIegZ/2ofycz3yZ9Ep0boBHsRHujbWr8NerhMrqEIdvQ2Ym
 7lxuCJuLkZ8c8N1mfEiyIC4lJnzBcFQmgyjQYzSJKT1WU6GVV/xYHgW74r8WV4VmqpkD
 wSfIAdpoRvq7LYxq839SS+PSgJYJh9KOLT5i0UYE7GEH4fYJw3Q4H31VMVa09vzKBSlj
 +YveHtTHoKzqk83OObdet/unTjmLw4Rtd8tlISxU9zOch9GfyQQi0Wxf/oG0JcjK/dJs
 k9lQ==
X-Gm-Message-State: AOJu0YzK9DfJdQJLR1I999QFsybusYbPk3dGIPIZ+gMpgOXQFSj2U+Pb
 +KZFN5xkCWaN6YtzIJbdnYt0tJyG1e5ThUZqRZYMLb1hSlUe18ObxYFwQSQ2AbEQuXSIWPDmbBg
 bcKDkhTMXxPMy/y9+LhfhGKu6iafmidBO96sgkstbi2Q7qaH8demXglYF
X-Google-Smtp-Source: AGHT+IHuogr7Wzcxc0AhFa9Vs3cxee+U0/x3epSrHZuVhdk8jpcPT26fHeStiK32bnUky3NH13mVHhMJt8E2
X-Received: by 2002:a17:903:2285:b0:1dd:8ff9:40b1 with SMTP id
 b5-20020a170903228500b001dd8ff940b1mr9009453plh.59.1710232345237; 
 Tue, 12 Mar 2024 01:32:25 -0700 (PDT)
Received: from postal.iol.unh.edu (postal.iol.unh.edu.
 [2606:4100:3880:1234::84]) by smtp-relay.gmail.com with ESMTPS id
 u4-20020a17090282c400b001db52418047sm130354plz.133.2024.03.12.01.32.25
 (version=TLS1_2 cipher=ECDHE-ECDSA-AES128-GCM-SHA256 bits=128/128);
 Tue, 12 Mar 2024 01:32:25 -0700 (PDT)
X-Relaying-Domain: iol.unh.edu
Date: Tue, 12 Mar 2024 01:32:25 -0700 (PDT)
Message-ID: <65f01319.170a0220.1ca9a.7b0fSMTPIN_ADDED_MISSING@mx.google.com>
Received: from [172.17.0.7] (unknown [172.18.0.217])
 by postal.iol.unh.edu (Postfix) with ESMTP id 629FF6052471;
 Tue, 12 Mar 2024 04:32:24 -0400 (EDT)
Subject: |SUCCESS| pw138178-138198 [PATCH] [v2,21/21] test/security: add out 
From: dpdklab@iol.unh.edu
To: Test Report <test-report@dpdk.org>
Cc: dpdk-test-reports@iol.unh.edu
In-Reply-To: <20240312071805.1354530-22-asasidharan@marvell.com>
References: <20240312071805.1354530-22-asasidharan@marvell.com>
Content-Type: text/plain
X-BeenThere: test-report@dpdk.org
X-Mailman-Version: 2.1.29
Precedence: list
List-Id: automatic DPDK test reports <test-report.dpdk.org>
List-Unsubscribe: <https://mails.dpdk.org/options/test-report>,
 <mailto:test-report-request@dpdk.org?subject=unsubscribe>
List-Archive: <http://mails.dpdk.org/archives/test-report/>
List-Post: <mailto:test-report@dpdk.org>
List-Help: <mailto:test-report-request@dpdk.org?subject=help>
List-Subscribe: <https://mails.dpdk.org/listinfo/test-report>,
 <mailto:test-report-request@dpdk.org?subject=subscribe>
Errors-To: test-report-bounces@dpdk.org

Test-Label: iol-unit-amd64-testing
Test-Status: SUCCESS
http://dpdk.org/patch/138198

_Testing PASS_

Submitter: Aakash Sasidharan <asasidharan@marvell.com>
Date: Tuesday, March 12 2024 07:18:05 
DPDK git baseline: Repo:dpdk
  Branch: master
  CommitID:a86f381b826660e88794754c41d3aec79ce9b87c

138178-138198 --> testing pass

Test environment and result as below:

+---------------------+----------------+
|     Environment     | dpdk_unit_test |
+=====================+================+
| CentOS Stream 8     | PASS           |
+---------------------+----------------+
| Debian Bullseye     | PASS           |
+---------------------+----------------+
| Debian 12 (arm)     | PASS           |
+---------------------+----------------+
| CentOS Stream 9     | PASS           |
+---------------------+----------------+
| Fedora 37           | PASS           |
+---------------------+----------------+
| Fedora 38           | PASS           |
+---------------------+----------------+
| Ubuntu 20.04        | PASS           |
+---------------------+----------------+
| RHEL8               | PASS           |
+---------------------+----------------+
| openSUSE Leap 15    | PASS           |
+---------------------+----------------+
| Ubuntu 22.04        | PASS           |
+---------------------+----------------+
| Windows Server 2019 | PASS           |
+---------------------+----------------+


CentOS Stream 8
	Kernel: 4.18.0-240.10.1.el8_3.x86_64
	Compiler: gcc 8.4.1 20200928

Debian Bullseye
	Kernel: 5.4.0-122-generic
	Compiler: gcc 10.2.1-6

Debian 12 (arm)
	Kernel: Container Host Kernel
	Compiler: gcc 11

CentOS Stream 9
	Kernel: 4.18.0-240.10.1.el8_3.x86_64
	Compiler: gcc 11.3.1 20220421

Fedora 37
	Kernel: Depends on container host system
	Compiler: gcc 12.3.1

Fedora 38
	Kernel: Depends on container host
	Compiler: gcc 13.1.1

Ubuntu 20.04
	Kernel: 5.4.0-153-generic
	Compiler: gcc 9.4.0-1ubuntu1~20.04.1

RHEL8
	Kernel: 4.18.0-240.10.1.el8_3.x86_64
	Compiler: gcc 8.3.1 20191121 (Red Hat 8.3.1-5)

openSUSE Leap 15
	Kernel: 4.18.0-240.10.1.el8_3.x86_64
	Compiler: gcc 7.5.0

Ubuntu 22.04
	Kernel: 4.18.0-240.10.1.el8_3.x86_64
	Compiler: gcc 11.3.0

Windows Server 2019
	Kernel: 10.0
	Compiler: clang 14.0 and gcc 8.1.0 (MinGW)

To view detailed results, visit:
https://lab.dpdk.org/results/dashboard/patchsets/29508/

UNH-IOL DPDK Community Lab

To manage your email subscriptions, visit: 
https://lab.dpdk.org/results/dashboard/preferences/subscriptions/