From mboxrd@z Thu Jan  1 00:00:00 1970
Return-Path: <test-report-bounces@dpdk.org>
Received: from mails.dpdk.org (mails.dpdk.org [217.70.189.124])
	by inbox.dpdk.org (Postfix) with ESMTP id A4BCD43C8E
	for <public@inbox.dpdk.org>; Tue, 12 Mar 2024 09:33:22 +0100 (CET)
Received: from mails.dpdk.org (localhost [127.0.0.1])
	by mails.dpdk.org (Postfix) with ESMTP id 9FFA5402D8;
	Tue, 12 Mar 2024 09:33:22 +0100 (CET)
Received: from mail-pf1-f225.google.com (mail-pf1-f225.google.com
 [209.85.210.225])
 by mails.dpdk.org (Postfix) with ESMTP id B3F1840282
 for <test-report@dpdk.org>; Tue, 12 Mar 2024 09:33:21 +0100 (CET)
Received: by mail-pf1-f225.google.com with SMTP id
 d2e1a72fcca58-6e6a6d486d6so160480b3a.1
 for <test-report@dpdk.org>; Tue, 12 Mar 2024 01:33:21 -0700 (PDT)
DKIM-Signature: v=1; a=rsa-sha256; c=relaxed/relaxed;
 d=iol.unh.edu; s=unh-iol; t=1710232401; x=1710837201; darn=dpdk.org;
 h=references:in-reply-to:cc:to:from:subject:message-id:date:from:to
 :cc:subject:date:message-id:reply-to;
 bh=BAcyftavNWqxCSP1T8pEzQ/+Ii2+Uqq1gAlmFP+CiL4=;
 b=Q6TD/gzGmXJd6P/B59iHzzBhOu6G6h0TFS03cYaOdNFY5wOmVXJGSvS5Pu6Wxh2Rs0
 8VDFliRsyTPIH6WhiHoi+QJNn6fXi+2UGrwkAWxxAjJZm3JfpfJ9swRFfuG/X6vOIlw9
 9jDZnL0aW3Eni9aOeiv7AHNMV/p0lgXTKmMt0=
X-Google-DKIM-Signature: v=1; a=rsa-sha256; c=relaxed/relaxed;
 d=1e100.net; s=20230601; t=1710232401; x=1710837201;
 h=references:in-reply-to:cc:to:from:subject:message-id:date
 :x-gm-message-state:from:to:cc:subject:date:message-id:reply-to;
 bh=BAcyftavNWqxCSP1T8pEzQ/+Ii2+Uqq1gAlmFP+CiL4=;
 b=M/PTHZC6UPh8Jx8YIc1TMtkvMmKiMaXQHjBaxKJm/uFV+Oro+tZkP4q33bS3qe/iC6
 KwO9R7lYZV82v/owgLBk/A5+XeMNqSaAmxoHj2Xiz0urGtHIiBiDlhBXonYiY9m7ezKh
 V66hVI2XmowSLhVwX/punW2Upa/YhQ5ZzXMduZ4vTGYLID+b3IKIQI+PtuDHLU16+Bwn
 4dx09yQZ67fcpQEgHzGv0Ms63VpOs8LG4xASjiTZpEwPLwWt7EnPHAuJZRJZvqCMu8TV
 J+uljb4Ea7u3tzDmcJNafw/ZT+39gGHkuq0dkj+FUraxjTa0JoS+PLt3O7rDFvJWi2FE
 Ihvg==
X-Gm-Message-State: AOJu0Yxb6U6xKoIF+02n11rkDwHSGrDVriXog5HDSXSth25sBGg+TNAg
 8a5I7T6iEz5epvOG8zc57Fj6uZwLpg3leTh5WFn2BdyA7QwQRlEVR6Ctljdda+DzEwjUyDpJfp0
 r/wrBwSMFEqCKLzQUmA/e69Zj2PQGsWGXNck2mhHR
X-Google-Smtp-Source: AGHT+IFtIMAkeRM/dkuMXyD7zmKyAq9fFh4bq8c/OwfPOSk6fObplgaQi+UTX5nzNzHpfBXW/G9e/pteXiNC
X-Received: by 2002:a17:902:e741:b0:1dd:a616:8205 with SMTP id
 p1-20020a170902e74100b001dda6168205mr5158274plf.34.1710232400952; 
 Tue, 12 Mar 2024 01:33:20 -0700 (PDT)
Received: from postal.iol.unh.edu (postal.iol.unh.edu. [132.177.123.84])
 by smtp-relay.gmail.com with ESMTPS id
 ji7-20020a170903324700b001dc7427abcasm161334plb.62.2024.03.12.01.33.20
 (version=TLS1_2 cipher=ECDHE-ECDSA-AES128-GCM-SHA256 bits=128/128);
 Tue, 12 Mar 2024 01:33:20 -0700 (PDT)
X-Relaying-Domain: iol.unh.edu
Date: Tue, 12 Mar 2024 01:33:20 -0700 (PDT)
Message-ID: <65f01350.170a0220.b203d.9bd7SMTPIN_ADDED_MISSING@mx.google.com>
Received: from [172.17.0.8] (unknown [172.18.0.217])
 by postal.iol.unh.edu (Postfix) with ESMTP id 2A0266052471;
 Tue, 12 Mar 2024 04:33:20 -0400 (EDT)
Subject: |SUCCESS| pw138178-138198 [PATCH] [v2,21/21] test/security: add out 
From: dpdklab@iol.unh.edu
To: Test Report <test-report@dpdk.org>
Cc: dpdk-test-reports@iol.unh.edu
In-Reply-To: <20240312071805.1354530-22-asasidharan@marvell.com>
References: <20240312071805.1354530-22-asasidharan@marvell.com>
Content-Type: text/plain
X-BeenThere: test-report@dpdk.org
X-Mailman-Version: 2.1.29
Precedence: list
List-Id: automatic DPDK test reports <test-report.dpdk.org>
List-Unsubscribe: <https://mails.dpdk.org/options/test-report>,
 <mailto:test-report-request@dpdk.org?subject=unsubscribe>
List-Archive: <http://mails.dpdk.org/archives/test-report/>
List-Post: <mailto:test-report@dpdk.org>
List-Help: <mailto:test-report-request@dpdk.org?subject=help>
List-Subscribe: <https://mails.dpdk.org/listinfo/test-report>,
 <mailto:test-report-request@dpdk.org?subject=subscribe>
Errors-To: test-report-bounces@dpdk.org

Test-Label: iol-compile-arm64-testing
Test-Status: SUCCESS
http://dpdk.org/patch/138198

_Testing PASS_

Submitter: Aakash Sasidharan <asasidharan@marvell.com>
Date: Tuesday, March 12 2024 07:18:05 
DPDK git baseline: Repo:dpdk
  Branch: master
  CommitID:a86f381b826660e88794754c41d3aec79ce9b87c

138178-138198 --> testing pass

Test environment and result as below:

+----------------------------------------+--------------------+
|              Environment               | dpdk_meson_compile |
+========================================+====================+
| Ubuntu 20.04 ARM SVE                   | PASS               |
+----------------------------------------+--------------------+
| Ubuntu 20.04 ARM Clang Cross Compile   | PASS               |
+----------------------------------------+--------------------+
| Debian 12 with MUSDK                   | PASS               |
+----------------------------------------+--------------------+
| Ubuntu 20.04 aarch32 GCC Cross Compile | PASS               |
+----------------------------------------+--------------------+
| CentOS Stream 9 (ARM)                  | PASS               |
+----------------------------------------+--------------------+
| Fedora 38 (ARM)                        | PASS               |
+----------------------------------------+--------------------+
| Ubuntu 20.04 (ARM)                     | PASS               |
+----------------------------------------+--------------------+
| Debian 12 (arm)                        | PASS               |
+----------------------------------------+--------------------+
| Debian 11 (Buster) (ARM)               | PASS               |
+----------------------------------------+--------------------+
| Ubuntu 20.04 ARM GCC Cross Compile     | PASS               |
+----------------------------------------+--------------------+
| Fedora 37 (ARM)                        | PASS               |
+----------------------------------------+--------------------+


Ubuntu 20.04 ARM SVE
	Kernel: 5.4.0-80-generic
	Compiler: gcc 10.3.0 (Ubuntu 10.3.0-1ubuntu1~20.04)

Ubuntu 20.04 ARM Clang Cross Compile
	Kernel: 5.4.0-72-generic
	Compiler: clang version 10.0.0-4ubuntu1

Debian 12 with MUSDK
	Kernel: Container Host Kernel
	Compiler: gcc 12

Ubuntu 20.04 aarch32 GCC Cross Compile
	Kernel: 5.4.0-72-generic
	Compiler: gcc 9.3.0

CentOS Stream 9 (ARM)
	Kernel: Container Host Kernel
	Compiler: gcc 11.3.1

Fedora 38 (ARM)
	Kernel: Depends on container host
	Compiler: gcc 13.1.1

Ubuntu 20.04 (ARM)
	Kernel: Container Host Kernel
	Compiler: gcc 9.4.0

Debian 12 (arm)
	Kernel: Container Host Kernel
	Compiler: gcc 11

Debian 11 (Buster) (ARM)
	Kernel: Container Host Kernel
	Compiler: gcc 10.2.1

Ubuntu 20.04 ARM GCC Cross Compile
	Kernel: 5.4.0-72-generic
	Compiler: aarch64-linux-gnu-gcc (Ubuntu 9.3.0-17ubuntu1~20.04) 9.3.0

Fedora 37 (ARM)
	Kernel: Depends on container host
	Compiler: gcc 12.3.1

To view detailed results, visit:
https://lab.dpdk.org/results/dashboard/patchsets/29508/

UNH-IOL DPDK Community Lab

To manage your email subscriptions, visit: 
https://lab.dpdk.org/results/dashboard/preferences/subscriptions/