From mboxrd@z Thu Jan  1 00:00:00 1970
Return-Path: <test-report-bounces@dpdk.org>
Received: from mails.dpdk.org (mails.dpdk.org [217.70.189.124])
	by inbox.dpdk.org (Postfix) with ESMTP id CF34C43C8E
	for <public@inbox.dpdk.org>; Tue, 12 Mar 2024 09:33:46 +0100 (CET)
Received: from mails.dpdk.org (localhost [127.0.0.1])
	by mails.dpdk.org (Postfix) with ESMTP id CA509402D8;
	Tue, 12 Mar 2024 09:33:46 +0100 (CET)
Received: from mail-qv1-f97.google.com (mail-qv1-f97.google.com
 [209.85.219.97]) by mails.dpdk.org (Postfix) with ESMTP id A6CE240282
 for <test-report@dpdk.org>; Tue, 12 Mar 2024 09:33:45 +0100 (CET)
Received: by mail-qv1-f97.google.com with SMTP id
 6a1803df08f44-690db6edb2bso7745586d6.2
 for <test-report@dpdk.org>; Tue, 12 Mar 2024 01:33:45 -0700 (PDT)
DKIM-Signature: v=1; a=rsa-sha256; c=relaxed/relaxed;
 d=iol.unh.edu; s=unh-iol; t=1710232425; x=1710837225; darn=dpdk.org;
 h=references:in-reply-to:cc:to:from:subject:message-id:date:from:to
 :cc:subject:date:message-id:reply-to;
 bh=BAcyftavNWqxCSP1T8pEzQ/+Ii2+Uqq1gAlmFP+CiL4=;
 b=eGig/f8FCPEfCKS29gsgIwXArV4jMhoIbBAd8BKjTZwuIe/gVuk6+eHTSW4A2m7J3a
 PEmq10ZSgtUcmgioOFHqshEFmH0N43UL38qYliYaRubJiT5iZsX8fwSYCtKQ+TuTqLhm
 HvWNnaNxhv3pBmC6KAdmwMtxh0Do/nrOwAXzo=
X-Google-DKIM-Signature: v=1; a=rsa-sha256; c=relaxed/relaxed;
 d=1e100.net; s=20230601; t=1710232425; x=1710837225;
 h=references:in-reply-to:cc:to:from:subject:message-id:date
 :x-gm-message-state:from:to:cc:subject:date:message-id:reply-to;
 bh=BAcyftavNWqxCSP1T8pEzQ/+Ii2+Uqq1gAlmFP+CiL4=;
 b=RsuKWz9mEIjDiECnhGylvrmeuSn+z2lJrfSmspLcaCwvEJuzpdUtv9gHoudsj3LpbQ
 mdxfOupVfyNRZedZmPAbVop6cpI/4iASpNN5if5r8S0TSs4FCtxg6HSFenH3sk23oOWc
 tjhZZrTzfbcpWt0hUot/Ds4o1rgIirEeHhrppJdjN9HAS7sUpMOmyGXev2m5/uZ9a3if
 9o7urFO5TlXVglSFZQS7ARIhDZBgaZXg9Vm8gjrYIEXuV+Mb36kTi5E7VKFxrb4iJNuT
 EY7dBjDGae3QBCidt3C8Vv8ZU9Cutl9Yo0PMUekPRwDMwW6qEyR+vPIoZEeSbyHjmGXj
 djsw==
X-Gm-Message-State: AOJu0Yxtdv9LpYZnUqa5hG6K8muzDuSEe5Gm94JsftLzwMT8U4/iZ0OE
 TVPcplNvlQ9wtEGQwcgzp3L4+6zXgVfuqi5UGV/dWbL0pWvI/P5hKTGhYiEDb4dfFx3KTwYOQRw
 PHPhBXVfvWGpAsD4UksxqEyd9v3PPl+fHzqZ0bI+v
X-Google-Smtp-Source: AGHT+IGKjLl5o33ByI5UjaBjd6Goq9LPbn9Q7dc9fAlPQZAZH+zfF4sNiQ84QA6z8KLasUCcKP1yU2LAHk1p
X-Received: by 2002:ad4:4c07:0:b0:690:6ce7:42b2 with SMTP id
 bz7-20020ad44c07000000b006906ce742b2mr9778481qvb.42.1710232425128; 
 Tue, 12 Mar 2024 01:33:45 -0700 (PDT)
Received: from postal.iol.unh.edu (postal.iol.unh.edu. [132.177.123.84])
 by smtp-relay.gmail.com with ESMTPS id
 hf11-20020a0562140e8b00b00690a446bd92sm359559qvb.16.2024.03.12.01.33.45
 (version=TLS1_2 cipher=ECDHE-ECDSA-AES128-GCM-SHA256 bits=128/128);
 Tue, 12 Mar 2024 01:33:45 -0700 (PDT)
X-Relaying-Domain: iol.unh.edu
Date: Tue, 12 Mar 2024 01:33:45 -0700 (PDT)
Message-ID: <65f01369.050a0220.3c44d.68c6SMTPIN_ADDED_MISSING@mx.google.com>
Received: from [172.17.0.8] (unknown [172.18.0.217])
 by postal.iol.unh.edu (Postfix) with ESMTP id CF79A6052471;
 Tue, 12 Mar 2024 04:33:44 -0400 (EDT)
Subject: |SUCCESS| pw138178-138198 [PATCH] [v2,21/21] test/security: add out 
From: dpdklab@iol.unh.edu
To: Test Report <test-report@dpdk.org>
Cc: dpdk-test-reports@iol.unh.edu
In-Reply-To: <20240312071805.1354530-22-asasidharan@marvell.com>
References: <20240312071805.1354530-22-asasidharan@marvell.com>
Content-Type: text/plain
X-BeenThere: test-report@dpdk.org
X-Mailman-Version: 2.1.29
Precedence: list
List-Id: automatic DPDK test reports <test-report.dpdk.org>
List-Unsubscribe: <https://mails.dpdk.org/options/test-report>,
 <mailto:test-report-request@dpdk.org?subject=unsubscribe>
List-Archive: <http://mails.dpdk.org/archives/test-report/>
List-Post: <mailto:test-report@dpdk.org>
List-Help: <mailto:test-report-request@dpdk.org?subject=help>
List-Subscribe: <https://mails.dpdk.org/listinfo/test-report>,
 <mailto:test-report-request@dpdk.org?subject=subscribe>
Errors-To: test-report-bounces@dpdk.org

Test-Label: iol-compile-arm64-testing
Test-Status: SUCCESS
http://dpdk.org/patch/138198

_Testing PASS_

Submitter: Aakash Sasidharan <asasidharan@marvell.com>
Date: Tuesday, March 12 2024 07:18:05 
DPDK git baseline: Repo:dpdk
  Branch: master
  CommitID:a86f381b826660e88794754c41d3aec79ce9b87c

138178-138198 --> testing pass

Test environment and result as below:

+----------------------------------------+--------------------+
|              Environment               | dpdk_meson_compile |
+========================================+====================+
| Ubuntu 20.04 ARM SVE                   | PASS               |
+----------------------------------------+--------------------+
| Ubuntu 20.04 ARM Clang Cross Compile   | PASS               |
+----------------------------------------+--------------------+
| Debian 12 with MUSDK                   | PASS               |
+----------------------------------------+--------------------+
| Ubuntu 20.04 aarch32 GCC Cross Compile | PASS               |
+----------------------------------------+--------------------+
| CentOS Stream 9 (ARM)                  | PASS               |
+----------------------------------------+--------------------+
| Fedora 38 (ARM)                        | PASS               |
+----------------------------------------+--------------------+
| Ubuntu 20.04 (ARM)                     | PASS               |
+----------------------------------------+--------------------+
| Debian 12 (arm)                        | PASS               |
+----------------------------------------+--------------------+
| Debian 11 (Buster) (ARM)               | PASS               |
+----------------------------------------+--------------------+
| Ubuntu 20.04 ARM GCC Cross Compile     | PASS               |
+----------------------------------------+--------------------+
| Fedora 37 (ARM)                        | PASS               |
+----------------------------------------+--------------------+


Ubuntu 20.04 ARM SVE
	Kernel: 5.4.0-80-generic
	Compiler: gcc 10.3.0 (Ubuntu 10.3.0-1ubuntu1~20.04)

Ubuntu 20.04 ARM Clang Cross Compile
	Kernel: 5.4.0-72-generic
	Compiler: clang version 10.0.0-4ubuntu1

Debian 12 with MUSDK
	Kernel: Container Host Kernel
	Compiler: gcc 12

Ubuntu 20.04 aarch32 GCC Cross Compile
	Kernel: 5.4.0-72-generic
	Compiler: gcc 9.3.0

CentOS Stream 9 (ARM)
	Kernel: Container Host Kernel
	Compiler: gcc 11.3.1

Fedora 38 (ARM)
	Kernel: Depends on container host
	Compiler: gcc 13.1.1

Ubuntu 20.04 (ARM)
	Kernel: Container Host Kernel
	Compiler: gcc 9.4.0

Debian 12 (arm)
	Kernel: Container Host Kernel
	Compiler: gcc 11

Debian 11 (Buster) (ARM)
	Kernel: Container Host Kernel
	Compiler: gcc 10.2.1

Ubuntu 20.04 ARM GCC Cross Compile
	Kernel: 5.4.0-72-generic
	Compiler: aarch64-linux-gnu-gcc (Ubuntu 9.3.0-17ubuntu1~20.04) 9.3.0

Fedora 37 (ARM)
	Kernel: Depends on container host
	Compiler: gcc 12.3.1

To view detailed results, visit:
https://lab.dpdk.org/results/dashboard/patchsets/29508/

UNH-IOL DPDK Community Lab

To manage your email subscriptions, visit: 
https://lab.dpdk.org/results/dashboard/preferences/subscriptions/