From mboxrd@z Thu Jan  1 00:00:00 1970
Return-Path: <test-report-bounces@dpdk.org>
Received: from mails.dpdk.org (mails.dpdk.org [217.70.189.124])
	by inbox.dpdk.org (Postfix) with ESMTP id C4CE543C90
	for <public@inbox.dpdk.org>; Tue, 12 Mar 2024 10:35:01 +0100 (CET)
Received: from mails.dpdk.org (localhost [127.0.0.1])
	by mails.dpdk.org (Postfix) with ESMTP id BC792402D8;
	Tue, 12 Mar 2024 10:35:01 +0100 (CET)
Received: from mail-yw1-f225.google.com (mail-yw1-f225.google.com
 [209.85.128.225])
 by mails.dpdk.org (Postfix) with ESMTP id 60BFE40282
 for <test-report@dpdk.org>; Tue, 12 Mar 2024 10:35:00 +0100 (CET)
Received: by mail-yw1-f225.google.com with SMTP id
 00721157ae682-609ed7ca444so40391587b3.1
 for <test-report@dpdk.org>; Tue, 12 Mar 2024 02:35:00 -0700 (PDT)
DKIM-Signature: v=1; a=rsa-sha256; c=relaxed/relaxed;
 d=iol.unh.edu; s=unh-iol; t=1710236100; x=1710840900; darn=dpdk.org;
 h=references:in-reply-to:cc:to:from:subject:message-id:date:from:to
 :cc:subject:date:message-id:reply-to;
 bh=7tEB2kIEeugqIQXKD8FX0mhaHzoWDU1XayyP3J5pAbw=;
 b=XSgcHpn8RRLq1BMDsgQV/anOFB1AXsz0kFCDnba/VbKbnSy/Wt3ViI9ocuhzIyVm7W
 vmrXRKOelPJar6lyhJBXFh9rIXMcaZDC6AoHV0P5qjK9yKtZx2sNQjD1O+F7XQCg3ZYE
 /N1LNpu4wsYTkWcRPCgP6Bpe1H5pyOP2sZkrY=
X-Google-DKIM-Signature: v=1; a=rsa-sha256; c=relaxed/relaxed;
 d=1e100.net; s=20230601; t=1710236100; x=1710840900;
 h=references:in-reply-to:cc:to:from:subject:message-id:date
 :x-gm-message-state:from:to:cc:subject:date:message-id:reply-to;
 bh=7tEB2kIEeugqIQXKD8FX0mhaHzoWDU1XayyP3J5pAbw=;
 b=IVoxn2oK/FVYGeU/i/j9z0q1IhnQ82yfd+vOb++EBylcqXUcMSROfJY4qIj6L1bZdA
 VNGzAGPyUQUNE8Oqw7WBoKGAxE258EswYtk4wXfWPM9GPPsUR6AQZQML0JnmK1WJ933u
 tQio6LdF75CgBI7GHlbrvA/1qeJ3d6S02f8hcQk19OzEibCrpk+04rxP7K4PjzK6TCgn
 Ire2NYfsS0mig1c+dXAS1OaReWziJXRxPNazeIuyEo4JZWtyI4J9rte/GK+LaEHboKcZ
 2E7AD6eTrNYAQgygXvgY+0Wl11Frf9bjn9+UNKEVijPhCLn1nGBdrLEX/fRPYA73APWa
 J3Xw==
X-Gm-Message-State: AOJu0Yx0LDhQRLmc5/zeOrI9eH3ET+WC8co0dfmlBCqcjlJgGnsglIjg
 qHSjr71LUB80RbhP4cIyTtQh9Zmvt5/IL3XPGfVfmaQEUSOR5GFBRWu1k+dG9B75Qs3txdKGepk
 +li6uJe+fHYeKE1g1lo8JkvDXYA1fSMB380TWe9h5
X-Google-Smtp-Source: AGHT+IGieBt0GEPVWXCsaaxMuD9CiivYT8ELAmYKcE9UjL0BJj0sVBvGR8vgl1R3M1Cw+BEmP9f/P3LlCwmz
X-Received: by 2002:a0d:db42:0:b0:609:ef6f:1207 with SMTP id
 d63-20020a0ddb42000000b00609ef6f1207mr6972216ywe.5.1710236099785; 
 Tue, 12 Mar 2024 02:34:59 -0700 (PDT)
Received: from postal.iol.unh.edu (postal.iol.unh.edu. [132.177.123.84])
 by smtp-relay.gmail.com with ESMTPS id
 o187-20020a0dfec4000000b0060a61ba5729sm10203ywf.45.2024.03.12.02.34.59
 (version=TLS1_2 cipher=ECDHE-ECDSA-AES128-GCM-SHA256 bits=128/128);
 Tue, 12 Mar 2024 02:34:59 -0700 (PDT)
X-Relaying-Domain: iol.unh.edu
Date: Tue, 12 Mar 2024 02:34:59 -0700 (PDT)
Message-ID: <65f021c3.0d0a0220.7e0b1.0bffSMTPIN_ADDED_MISSING@mx.google.com>
Received: from [172.17.0.7] (unknown [172.18.0.217])
 by postal.iol.unh.edu (Postfix) with ESMTP id 03A1D6052471;
 Tue, 12 Mar 2024 05:34:59 -0400 (EDT)
Subject: |SUCCESS| pw138205-138206 [PATCH] [2/2] net/nfp: fix incorrect queue
From: dpdklab@iol.unh.edu
To: Test Report <test-report@dpdk.org>
Cc: dpdk-test-reports@iol.unh.edu
In-Reply-To: <20240312080245.2783410-3-chaoyong.he@corigine.com>
References: <20240312080245.2783410-3-chaoyong.he@corigine.com>
Content-Type: text/plain
X-BeenThere: test-report@dpdk.org
X-Mailman-Version: 2.1.29
Precedence: list
List-Id: automatic DPDK test reports <test-report.dpdk.org>
List-Unsubscribe: <https://mails.dpdk.org/options/test-report>,
 <mailto:test-report-request@dpdk.org?subject=unsubscribe>
List-Archive: <http://mails.dpdk.org/archives/test-report/>
List-Post: <mailto:test-report@dpdk.org>
List-Help: <mailto:test-report-request@dpdk.org?subject=help>
List-Subscribe: <https://mails.dpdk.org/listinfo/test-report>,
 <mailto:test-report-request@dpdk.org?subject=subscribe>
Errors-To: test-report-bounces@dpdk.org

Test-Label: iol-compile-amd64-testing
Test-Status: SUCCESS
http://dpdk.org/patch/138206

_Testing PASS_

Submitter: Chaoyong He <chaoyong.he@corigine.com>
Date: Tuesday, March 12 2024 08:02:45 
DPDK git baseline: Repo:dpdk
  Branch: master
  CommitID:e3faaed01e14ffdfe8f4190030540ed874184b55

138205-138206 --> testing pass

Test environment and result as below:

+---------------------+--------------------+----------------------+
|     Environment     | dpdk_meson_compile | dpdk_mingw64_compile |
+=====================+====================+======================+
| CentOS Stream 8     | PASS               | SKIPPED              |
+---------------------+--------------------+----------------------+
| Debian Bullseye     | PASS               | SKIPPED              |
+---------------------+--------------------+----------------------+
| CentOS Stream 9     | PASS               | SKIPPED              |
+---------------------+--------------------+----------------------+
| Debian 12 (arm)     | PASS               | SKIPPED              |
+---------------------+--------------------+----------------------+
| Fedora 37           | PASS               | SKIPPED              |
+---------------------+--------------------+----------------------+
| openSUSE Leap 15    | PASS               | SKIPPED              |
+---------------------+--------------------+----------------------+
| Windows Server 2022 | PASS               | SKIPPED              |
+---------------------+--------------------+----------------------+
| RHEL8               | PASS               | SKIPPED              |
+---------------------+--------------------+----------------------+
| Ubuntu 22.04        | PASS               | SKIPPED              |
+---------------------+--------------------+----------------------+
| Ubuntu 20.04        | PASS               | SKIPPED              |
+---------------------+--------------------+----------------------+
| Alpine              | PASS               | SKIPPED              |
+---------------------+--------------------+----------------------+
| Windows Server 2019 | PASS               | PASS                 |
+---------------------+--------------------+----------------------+
| Fedora 38           | PASS               | SKIPPED              |
+---------------------+--------------------+----------------------+


CentOS Stream 8
	Kernel: 4.18.0-240.10.1.el8_3.x86_64
	Compiler: gcc 8.4.1 20200928

Debian Bullseye
	Kernel: 5.4.0-122-generic
	Compiler: gcc 10.2.1-6

CentOS Stream 9
	Kernel: 4.18.0-240.10.1.el8_3.x86_64
	Compiler: gcc 11.3.1 20220421

Debian 12 (arm)
	Kernel: Container Host Kernel
	Compiler: gcc 11

Fedora 37
	Kernel: Depends on container host system
	Compiler: gcc 12.3.1

openSUSE Leap 15
	Kernel: 4.18.0-240.10.1.el8_3.x86_64
	Compiler: gcc 7.5.0

Windows Server 2022
	Kernel: OS Build 20348.2031
	Compiler: MSVC VS-Preview

RHEL8
	Kernel: 4.18.0-240.10.1.el8_3.x86_64
	Compiler: gcc 8.3.1 20191121 (Red Hat 8.3.1-5)

Ubuntu 22.04
	Kernel: 4.18.0-240.10.1.el8_3.x86_64
	Compiler: gcc 11.3.0

Ubuntu 20.04
	Kernel: 5.4.0-153-generic
	Compiler: gcc 9.4.0-1ubuntu1~20.04.1

Alpine
	Kernel: 5.4.0-73-generic
	Compiler: gcc (Alpine 10.3.1_git20210424) 10.3.1 20210424

Windows Server 2019
	Kernel: 10.0
	Compiler: clang 14.0 and gcc 8.1.0 (MinGW)

Fedora 38
	Kernel: Depends on container host
	Compiler: clang 16.0.3

To view detailed results, visit:
https://lab.dpdk.org/results/dashboard/patchsets/29511/

UNH-IOL DPDK Community Lab

To manage your email subscriptions, visit: 
https://lab.dpdk.org/results/dashboard/preferences/subscriptions/