From mboxrd@z Thu Jan  1 00:00:00 1970
Return-Path: <test-report-bounces@dpdk.org>
Received: from mails.dpdk.org (mails.dpdk.org [217.70.189.124])
	by inbox.dpdk.org (Postfix) with ESMTP id 3CC8F43C90
	for <public@inbox.dpdk.org>; Tue, 12 Mar 2024 10:46:41 +0100 (CET)
Received: from mails.dpdk.org (localhost [127.0.0.1])
	by mails.dpdk.org (Postfix) with ESMTP id 387BE402D8;
	Tue, 12 Mar 2024 10:46:41 +0100 (CET)
Received: from mail-pf1-f228.google.com (mail-pf1-f228.google.com
 [209.85.210.228])
 by mails.dpdk.org (Postfix) with ESMTP id EA1A440282
 for <test-report@dpdk.org>; Tue, 12 Mar 2024 10:46:35 +0100 (CET)
Received: by mail-pf1-f228.google.com with SMTP id
 d2e1a72fcca58-6e617b39877so3860921b3a.3
 for <test-report@dpdk.org>; Tue, 12 Mar 2024 02:46:35 -0700 (PDT)
DKIM-Signature: v=1; a=rsa-sha256; c=relaxed/relaxed;
 d=iol.unh.edu; s=unh-iol; t=1710236795; x=1710841595; darn=dpdk.org;
 h=references:in-reply-to:cc:to:from:subject:message-id:date:from:to
 :cc:subject:date:message-id:reply-to;
 bh=n2OkDYm1B9Ix1UezyNLGXsgq/WTkCr5la/J7D5LF+Kw=;
 b=Jf5s4IugWJ1QylYxGeuo8NO4p2R4EVI6MX7HYwLOH9k0V8gsqCKKH+E9nxudYCa0Hm
 kW9ExSuU3PXq1tfty2skOKs54IM3lG3ByXOgJtYb4ZKWG6NCtmb8WEpboOTKVszDabSp
 MM6AsOayrZCFz8ymp0Xy91jBXYY1eE9+h3bvU=
X-Google-DKIM-Signature: v=1; a=rsa-sha256; c=relaxed/relaxed;
 d=1e100.net; s=20230601; t=1710236795; x=1710841595;
 h=references:in-reply-to:cc:to:from:subject:message-id:date
 :x-gm-message-state:from:to:cc:subject:date:message-id:reply-to;
 bh=n2OkDYm1B9Ix1UezyNLGXsgq/WTkCr5la/J7D5LF+Kw=;
 b=JAdfYTqRIpLzS7i1O0SHHdzfbGMehjmxW6ZIf7aD/MWAa/qQuokf8yP+SPoKeIYzrA
 BNZhq/VLzqCFC4mI0Wy8ohO29aote/9mxU3skGVJXoeQuY7oK3m0ig0HKW+nVgl53dp+
 iyQMRJsItTOLPTPSWOwgkxHL7biAQKJ4DNQ6l0W2wuE29TSTdBf3IHKw1ZgzWUMRMUmg
 jqtCvUf0DTHWVhg3rLGAyGN1jhKEPEVsPY86buJb/9deVtuOzWKmAFQV8taVH/KV9VHa
 CiDihHL7Zz4qrywHgrAzlpQZohBXm92j1BtwgRjyI4IRY/o+lTU9380LtPxy5IqJl4gs
 dYfw==
X-Gm-Message-State: AOJu0YyFL0FskcxvJI6jMI3XhkEGJTONLNBc3GKpCP6B37LClBG0Ci8I
 Seqrc0FY88MfzYsjEoZj+EMbJ0TPK/vuPtZ5he90bRuu0/VrlDY38R3n1w73G2xhrmubEc53+2B
 Hvh14WAKKKsnNc67t99LKBuqJFqZi6sbzd7Y4/Iq9
X-Google-Smtp-Source: AGHT+IG/6VDpStcjVlVH/vpD/NtB1ItHeOgDRUIXV38fUZqprhgWQeIUGWUs52RxWYTxScVkwG7rSK8ExOLc
X-Received: by 2002:a05:6a00:1911:b0:6e6:2017:284e with SMTP id
 y17-20020a056a00191100b006e62017284emr10093630pfi.1.1710236794527; 
 Tue, 12 Mar 2024 02:46:34 -0700 (PDT)
Received: from postal.iol.unh.edu (postal.iol.unh.edu. [132.177.123.84])
 by smtp-relay.gmail.com with ESMTPS id
 lo11-20020a056a003d0b00b006e6a1ff37d8sm71576pfb.4.2024.03.12.02.46.34
 (version=TLS1_2 cipher=ECDHE-ECDSA-AES128-GCM-SHA256 bits=128/128);
 Tue, 12 Mar 2024 02:46:34 -0700 (PDT)
X-Relaying-Domain: iol.unh.edu
Date: Tue, 12 Mar 2024 02:46:34 -0700 (PDT)
Message-ID: <65f0247a.050a0220.76e9e.44d7SMTPIN_ADDED_MISSING@mx.google.com>
Received: from [172.17.0.9] (unknown [172.18.0.217])
 by postal.iol.unh.edu (Postfix) with ESMTP id B5B256052471;
 Tue, 12 Mar 2024 05:46:33 -0400 (EDT)
Subject: |SUCCESS| pw138205-138206 [PATCH] [2/2] net/nfp: fix incorrect queue
From: dpdklab@iol.unh.edu
To: Test Report <test-report@dpdk.org>
Cc: dpdk-test-reports@iol.unh.edu
In-Reply-To: <20240312080245.2783410-3-chaoyong.he@corigine.com>
References: <20240312080245.2783410-3-chaoyong.he@corigine.com>
Content-Type: text/plain
X-BeenThere: test-report@dpdk.org
X-Mailman-Version: 2.1.29
Precedence: list
List-Id: automatic DPDK test reports <test-report.dpdk.org>
List-Unsubscribe: <https://mails.dpdk.org/options/test-report>,
 <mailto:test-report-request@dpdk.org?subject=unsubscribe>
List-Archive: <http://mails.dpdk.org/archives/test-report/>
List-Post: <mailto:test-report@dpdk.org>
List-Help: <mailto:test-report-request@dpdk.org?subject=help>
List-Subscribe: <https://mails.dpdk.org/listinfo/test-report>,
 <mailto:test-report-request@dpdk.org?subject=subscribe>
Errors-To: test-report-bounces@dpdk.org

Test-Label: iol-unit-arm64-testing
Test-Status: SUCCESS
http://dpdk.org/patch/138206

_Testing PASS_

Submitter: Chaoyong He <chaoyong.he@corigine.com>
Date: Tuesday, March 12 2024 08:02:45 
DPDK git baseline: Repo:dpdk
  Branch: master
  CommitID:e3faaed01e14ffdfe8f4190030540ed874184b55

138205-138206 --> testing pass

Test environment and result as below:

+--------------------------+---------------------------+------------------------------+----------------+--------------+
|       Environment        | cryptodev_sw_zuc_autotest | cryptodev_sw_snow3g_autotest | dpdk_unit_test | lpm_autotest |
+==========================+===========================+==============================+================+==============+
| Debian 12 (arm)          | PASS                      | PASS                         | PASS           | SKIPPED      |
+--------------------------+---------------------------+------------------------------+----------------+--------------+
| CentOS Stream 9 (ARM)    | SKIPPED                   | SKIPPED                      | PASS           | SKIPPED      |
+--------------------------+---------------------------+------------------------------+----------------+--------------+
| Debian 11 (Buster) (ARM) | SKIPPED                   | SKIPPED                      | PASS           | SKIPPED      |
+--------------------------+---------------------------+------------------------------+----------------+--------------+
| Fedora 38 (ARM)          | SKIPPED                   | SKIPPED                      | PASS           | SKIPPED      |
+--------------------------+---------------------------+------------------------------+----------------+--------------+
| Fedora 37 (ARM)          | SKIPPED                   | SKIPPED                      | PASS           | SKIPPED      |
+--------------------------+---------------------------+------------------------------+----------------+--------------+
| Ubuntu 20.04 ARM SVE     | SKIPPED                   | SKIPPED                      | SKIPPED        | PASS         |
+--------------------------+---------------------------+------------------------------+----------------+--------------+


Debian 12 (arm)
	Kernel: Container Host Kernel
	Compiler: gcc 11

CentOS Stream 9 (ARM)
	Kernel: Container Host Kernel
	Compiler: gcc 11.3.1

Debian 11 (Buster) (ARM)
	Kernel: Container Host Kernel
	Compiler: gcc 10.2.1

Fedora 38 (ARM)
	Kernel: Depends on container host
	Compiler: gcc 13.1.1

Fedora 37 (ARM)
	Kernel: Depends on container host
	Compiler: gcc 12.3.1

Ubuntu 20.04 ARM SVE
	Kernel: 5.4.0-80-generic
	Compiler: gcc 10.3.0 (Ubuntu 10.3.0-1ubuntu1~20.04)

To view detailed results, visit:
https://lab.dpdk.org/results/dashboard/patchsets/29511/

UNH-IOL DPDK Community Lab

To manage your email subscriptions, visit: 
https://lab.dpdk.org/results/dashboard/preferences/subscriptions/