From mboxrd@z Thu Jan  1 00:00:00 1970
Return-Path: <test-report-bounces@dpdk.org>
Received: from mails.dpdk.org (mails.dpdk.org [217.70.189.124])
	by inbox.dpdk.org (Postfix) with ESMTP id 519BC43C90
	for <public@inbox.dpdk.org>; Tue, 12 Mar 2024 10:46:48 +0100 (CET)
Received: from mails.dpdk.org (localhost [127.0.0.1])
	by mails.dpdk.org (Postfix) with ESMTP id 4A3CD402D8;
	Tue, 12 Mar 2024 10:46:48 +0100 (CET)
Received: from mail-pg1-f225.google.com (mail-pg1-f225.google.com
 [209.85.215.225])
 by mails.dpdk.org (Postfix) with ESMTP id 220B740282
 for <test-report@dpdk.org>; Tue, 12 Mar 2024 10:46:42 +0100 (CET)
Received: by mail-pg1-f225.google.com with SMTP id
 41be03b00d2f7-5dcc4076c13so3510785a12.0
 for <test-report@dpdk.org>; Tue, 12 Mar 2024 02:46:42 -0700 (PDT)
DKIM-Signature: v=1; a=rsa-sha256; c=relaxed/relaxed;
 d=iol.unh.edu; s=unh-iol; t=1710236801; x=1710841601; darn=dpdk.org;
 h=references:in-reply-to:cc:to:from:subject:message-id:date:from:to
 :cc:subject:date:message-id:reply-to;
 bh=n2OkDYm1B9Ix1UezyNLGXsgq/WTkCr5la/J7D5LF+Kw=;
 b=HHZMxAKN6cX2YA/c5ZOWcqRtA13hutiSJimKqSUxYU8N/m1Q1C4Wkax2HixZx+gly9
 2rKeaHgiV3Wbf096LSmWI1eiAVD3v7oe057ktGTWn+NrLF+GNAtrTAZB4vlT58179DFP
 pX+8e6kCwWVnzw96donP2iC2ep1drIWu41JOk=
X-Google-DKIM-Signature: v=1; a=rsa-sha256; c=relaxed/relaxed;
 d=1e100.net; s=20230601; t=1710236801; x=1710841601;
 h=references:in-reply-to:cc:to:from:subject:message-id:date
 :x-gm-message-state:from:to:cc:subject:date:message-id:reply-to;
 bh=n2OkDYm1B9Ix1UezyNLGXsgq/WTkCr5la/J7D5LF+Kw=;
 b=BwH4Osu0K0ZOzKx5lqtKASkKq60Nm69d3x/ph2BOO1mx6zMsGQRDRyEToiTRHIIasc
 zOrbf9NXm/ORqBHxI616iXYynGH+g75xgf6Z4s3vE/8NkqdcwGbgt32b0IEva+wqBm64
 Mxvz/tzIf3jWj+nwyhltTMV0B1q5GKXuT6/SULiqCfAtXomjgXo4724DuV7ktlZuc9QH
 55GcsrncDSuVcEJCUQtLVZIlxp/hD16Hs2GJC1jw9nA+KouWhOkzgXDuC6ReWCCFgXKR
 tacPdU9uKa7gm9W3CkJqOCG6QySx54Ef0zbNmZi7sBmPcVyaykw2untmeDqM9Db3I0vq
 okAg==
X-Gm-Message-State: AOJu0YxX4dBSaU0NUWHNBCAz+7umEljOHpWeOevB5ZTkxPaCX5FPnYf/
 MUrwh/q7yTCTCrTiZwKSdA8J4PHCrBw1U+THnYWQsruGQpN223BFyCi+2qF1MILgn/23mXSJaVE
 d1ApKjrThQCPQQHL6Jh2NCw+94SebzJXuDtSh7yNI
X-Google-Smtp-Source: AGHT+IFR8Nm8gNzzsnpA5gjUFoLdi0mvW9bOzWZjxOGOom8dCjbnjnPPts4Jhwn3T2BlnUxWOx9Qg3nIDzHi
X-Received: by 2002:a17:90b:30c1:b0:29a:f150:aeed with SMTP id
 hi1-20020a17090b30c100b0029af150aeedmr14906941pjb.19.1710236801378; 
 Tue, 12 Mar 2024 02:46:41 -0700 (PDT)
Received: from postal.iol.unh.edu (postal.iol.unh.edu. [132.177.123.84])
 by smtp-relay.gmail.com with ESMTPS id
 p15-20020a17090a428f00b0029bcf8747f2sm309828pjg.3.2024.03.12.02.46.41
 (version=TLS1_2 cipher=ECDHE-ECDSA-AES128-GCM-SHA256 bits=128/128);
 Tue, 12 Mar 2024 02:46:41 -0700 (PDT)
X-Relaying-Domain: iol.unh.edu
Date: Tue, 12 Mar 2024 02:46:41 -0700 (PDT)
Message-ID: <65f02481.170a0220.2c0ec.4bc7SMTPIN_ADDED_MISSING@mx.google.com>
Received: from [172.21.0.7] (unknown [172.18.0.240])
 by postal.iol.unh.edu (Postfix) with ESMTP id 8CF0F6052471;
 Tue, 12 Mar 2024 05:46:40 -0400 (EDT)
Subject: |SUCCESS| pw138205-138206 [PATCH] [2/2] net/nfp: fix incorrect queue
From: dpdklab@iol.unh.edu
To: Test Report <test-report@dpdk.org>
Cc: dpdk-test-reports@iol.unh.edu
In-Reply-To: <20240312080245.2783410-3-chaoyong.he@corigine.com>
References: <20240312080245.2783410-3-chaoyong.he@corigine.com>
Content-Type: text/plain
X-BeenThere: test-report@dpdk.org
X-Mailman-Version: 2.1.29
Precedence: list
List-Id: automatic DPDK test reports <test-report.dpdk.org>
List-Unsubscribe: <https://mails.dpdk.org/options/test-report>,
 <mailto:test-report-request@dpdk.org?subject=unsubscribe>
List-Archive: <http://mails.dpdk.org/archives/test-report/>
List-Post: <mailto:test-report@dpdk.org>
List-Help: <mailto:test-report-request@dpdk.org?subject=help>
List-Subscribe: <https://mails.dpdk.org/listinfo/test-report>,
 <mailto:test-report-request@dpdk.org?subject=subscribe>
Errors-To: test-report-bounces@dpdk.org

Test-Label: iol-unit-arm64-testing
Test-Status: SUCCESS
http://dpdk.org/patch/138206

_Testing PASS_

Submitter: Chaoyong He <chaoyong.he@corigine.com>
Date: Tuesday, March 12 2024 08:02:45 
DPDK git baseline: Repo:dpdk
  Branch: master
  CommitID:e3faaed01e14ffdfe8f4190030540ed874184b55

138205-138206 --> testing pass

Test environment and result as below:

+--------------------------+---------------------------+------------------------------+----------------+--------------+
|       Environment        | cryptodev_sw_zuc_autotest | cryptodev_sw_snow3g_autotest | dpdk_unit_test | lpm_autotest |
+==========================+===========================+==============================+================+==============+
| Debian 12 (arm)          | PASS                      | PASS                         | PASS           | SKIPPED      |
+--------------------------+---------------------------+------------------------------+----------------+--------------+
| CentOS Stream 9 (ARM)    | SKIPPED                   | SKIPPED                      | PASS           | SKIPPED      |
+--------------------------+---------------------------+------------------------------+----------------+--------------+
| Debian 11 (Buster) (ARM) | SKIPPED                   | SKIPPED                      | PASS           | SKIPPED      |
+--------------------------+---------------------------+------------------------------+----------------+--------------+
| Fedora 38 (ARM)          | SKIPPED                   | SKIPPED                      | PASS           | SKIPPED      |
+--------------------------+---------------------------+------------------------------+----------------+--------------+
| Fedora 37 (ARM)          | SKIPPED                   | SKIPPED                      | PASS           | SKIPPED      |
+--------------------------+---------------------------+------------------------------+----------------+--------------+
| Ubuntu 20.04 ARM SVE     | SKIPPED                   | SKIPPED                      | SKIPPED        | PASS         |
+--------------------------+---------------------------+------------------------------+----------------+--------------+


Debian 12 (arm)
	Kernel: Container Host Kernel
	Compiler: gcc 11

CentOS Stream 9 (ARM)
	Kernel: Container Host Kernel
	Compiler: gcc 11.3.1

Debian 11 (Buster) (ARM)
	Kernel: Container Host Kernel
	Compiler: gcc 10.2.1

Fedora 38 (ARM)
	Kernel: Depends on container host
	Compiler: gcc 13.1.1

Fedora 37 (ARM)
	Kernel: Depends on container host
	Compiler: gcc 12.3.1

Ubuntu 20.04 ARM SVE
	Kernel: 5.4.0-80-generic
	Compiler: gcc 10.3.0 (Ubuntu 10.3.0-1ubuntu1~20.04)

To view detailed results, visit:
https://lab.dpdk.org/results/dashboard/patchsets/29511/

UNH-IOL DPDK Community Lab

To manage your email subscriptions, visit: 
https://lab.dpdk.org/results/dashboard/preferences/subscriptions/