From mboxrd@z Thu Jan  1 00:00:00 1970
Return-Path: <test-report-bounces@dpdk.org>
Received: from mails.dpdk.org (mails.dpdk.org [217.70.189.124])
	by inbox.dpdk.org (Postfix) with ESMTP id 6B1B543C90
	for <public@inbox.dpdk.org>; Tue, 12 Mar 2024 10:46:55 +0100 (CET)
Received: from mails.dpdk.org (localhost [127.0.0.1])
	by mails.dpdk.org (Postfix) with ESMTP id 640C9402D8;
	Tue, 12 Mar 2024 10:46:55 +0100 (CET)
Received: from mail-il1-f228.google.com (mail-il1-f228.google.com
 [209.85.166.228])
 by mails.dpdk.org (Postfix) with ESMTP id 1F4E740282
 for <test-report@dpdk.org>; Tue, 12 Mar 2024 10:46:52 +0100 (CET)
Received: by mail-il1-f228.google.com with SMTP id
 e9e14a558f8ab-364f791a428so25866145ab.3
 for <test-report@dpdk.org>; Tue, 12 Mar 2024 02:46:52 -0700 (PDT)
DKIM-Signature: v=1; a=rsa-sha256; c=relaxed/relaxed;
 d=iol.unh.edu; s=unh-iol; t=1710236811; x=1710841611; darn=dpdk.org;
 h=references:in-reply-to:cc:to:from:subject:message-id:date:from:to
 :cc:subject:date:message-id:reply-to;
 bh=SiQC4pp1phFsNpKfZvFhzETvAXviyEpxWDMQ6JuhBx4=;
 b=C1t/HR6TR697ETMwFJusMYuswtdRIgxA6HTjzOMxuRrWogHJmEmeD64XpHIuPHDdwp
 JBcNcY1UFXIEEcBh46NUo4l2uss2BY7FcSp/fJI63p4I3prgNIc5olyuSNg7yCVlAvGT
 NeHADQlZR2OeB8Ux0EIFUhuJv9w06MDMKmofA=
X-Google-DKIM-Signature: v=1; a=rsa-sha256; c=relaxed/relaxed;
 d=1e100.net; s=20230601; t=1710236811; x=1710841611;
 h=references:in-reply-to:cc:to:from:subject:message-id:date
 :x-gm-message-state:from:to:cc:subject:date:message-id:reply-to;
 bh=SiQC4pp1phFsNpKfZvFhzETvAXviyEpxWDMQ6JuhBx4=;
 b=rc3d/TwU2ncTLFi6RVfTaX+MPZ8C/RxdlSqU5JuaM+EujPtI6N9LuxtseWC1OeUuez
 3T77XEGqOxXuyL8Of6WDz6ibnwsQYzdQgVBUIRz3ZqDTLzjrlbAR/E3NBVq+llCFs40s
 dH7uYSNusF/TS4ky8KV//q6TYC1ut0rAy6OWG+RYCNh3a7IeWGbdcet2YgoR7PsabirN
 ZENsr10iSMuVINnimKhC+Jq5hDV48ju1iEa0pz7KDvS+TdXDMDxwjFziGcaZbp5S1ZzJ
 esCsL+bYlj+kswr71+wHpoiuunHKPV/P4HhVvwdQyghUaXCBXlIqrIb6LHT76A7ewYQ/
 jhnQ==
X-Gm-Message-State: AOJu0Yzorhn45K13Bhbu75yJ9EymMvIPbu+WpVOtZbXc7rA75PU7uegr
 +XGlo5g0kUPh6zNudtnG1x+8JPUd09q0KuU61OJBtPifiW+vWdn7q3t7YZ1mdB7gSnuUN8R2w2b
 sHMsF8TK/YDq087Qb00vJUpOavzhQ9RKQJ8Y/+QTAk9IHT+j9nM+Y5IsX
X-Google-Smtp-Source: AGHT+IHeSpbJ+JZr0Usbxjzmxg14/DJ1vLEc/j1T/s/jjEg090z98j+rDp4eyBCYw/dlLARi9JezFqyMXGFf
X-Received: by 2002:a05:6e02:1c03:b0:365:feff:f512 with SMTP id
 l3-20020a056e021c0300b00365fefff512mr10557591ilh.20.1710236811489; 
 Tue, 12 Mar 2024 02:46:51 -0700 (PDT)
Received: from postal.iol.unh.edu (postal.iol.unh.edu.
 [2606:4100:3880:1234::84]) by smtp-relay.gmail.com with ESMTPS id
 ck14-20020a056e02370e00b0036666077d90sm91082ilb.2.2024.03.12.02.46.51
 (version=TLS1_2 cipher=ECDHE-ECDSA-AES128-GCM-SHA256 bits=128/128);
 Tue, 12 Mar 2024 02:46:51 -0700 (PDT)
X-Relaying-Domain: iol.unh.edu
Date: Tue, 12 Mar 2024 02:46:51 -0700 (PDT)
Message-ID: <65f0248b.050a0220.d3923.5327SMTPIN_ADDED_MISSING@mx.google.com>
Received: from [172.21.0.8] (unknown [172.18.0.240])
 by postal.iol.unh.edu (Postfix) with ESMTP id 08EAA6052471;
 Tue, 12 Mar 2024 05:46:51 -0400 (EDT)
Subject: |SUCCESS| pw138205-138206 [PATCH] [2/2] net/nfp: fix incorrect queue
From: dpdklab@iol.unh.edu
To: Test Report <test-report@dpdk.org>
Cc: dpdk-test-reports@iol.unh.edu
In-Reply-To: <20240312080245.2783410-3-chaoyong.he@corigine.com>
References: <20240312080245.2783410-3-chaoyong.he@corigine.com>
Content-Type: text/plain
X-BeenThere: test-report@dpdk.org
X-Mailman-Version: 2.1.29
Precedence: list
List-Id: automatic DPDK test reports <test-report.dpdk.org>
List-Unsubscribe: <https://mails.dpdk.org/options/test-report>,
 <mailto:test-report-request@dpdk.org?subject=unsubscribe>
List-Archive: <http://mails.dpdk.org/archives/test-report/>
List-Post: <mailto:test-report@dpdk.org>
List-Help: <mailto:test-report-request@dpdk.org?subject=help>
List-Subscribe: <https://mails.dpdk.org/listinfo/test-report>,
 <mailto:test-report-request@dpdk.org?subject=subscribe>
Errors-To: test-report-bounces@dpdk.org

Test-Label: iol-abi-testing
Test-Status: SUCCESS
http://dpdk.org/patch/138206

_Testing PASS_

Submitter: Chaoyong He <chaoyong.he@corigine.com>
Date: Tuesday, March 12 2024 08:02:45 
DPDK git baseline: Repo:dpdk
  Branch: master
  CommitID:e3faaed01e14ffdfe8f4190030540ed874184b55

138205-138206 --> testing pass

Test environment and result as below:

+------------------+----------+
|   Environment    | abi_test |
+==================+==========+
| Debian 12 (arm)  | PASS     |
+------------------+----------+
| Fedora 38        | PASS     |
+------------------+----------+
| CentOS Stream 8  | PASS     |
+------------------+----------+
| Ubuntu 22.04     | PASS     |
+------------------+----------+
| RHEL8            | PASS     |
+------------------+----------+
| openSUSE Leap 15 | PASS     |
+------------------+----------+
| Debian Bullseye  | PASS     |
+------------------+----------+
| CentOS Stream 9  | PASS     |
+------------------+----------+
| Fedora 37        | PASS     |
+------------------+----------+


Debian 12 (arm)
	Kernel: Container Host Kernel
	Compiler: gcc 11

Fedora 38
	Kernel: Depends on container host
	Compiler: gcc 13.1.1

CentOS Stream 8
	Kernel: 4.18.0-240.10.1.el8_3.x86_64
	Compiler: gcc 8.4.1 20200928

Ubuntu 22.04
	Kernel: 4.18.0-240.10.1.el8_3.x86_64
	Compiler: gcc 11.3.0

RHEL8
	Kernel: 4.18.0-240.10.1.el8_3.x86_64
	Compiler: gcc 8.3.1 20191121 (Red Hat 8.3.1-5)

openSUSE Leap 15
	Kernel: 4.18.0-240.10.1.el8_3.x86_64
	Compiler: gcc 7.5.0

Debian Bullseye
	Kernel: 5.4.0-122-generic
	Compiler: gcc 10.2.1-6

CentOS Stream 9
	Kernel: 4.18.0-240.10.1.el8_3.x86_64
	Compiler: gcc 11.3.1 20220421

Fedora 37
	Kernel: Depends on container host system
	Compiler: gcc 12.3.1

To view detailed results, visit:
https://lab.dpdk.org/results/dashboard/patchsets/29511/

UNH-IOL DPDK Community Lab

To manage your email subscriptions, visit: 
https://lab.dpdk.org/results/dashboard/preferences/subscriptions/