From mboxrd@z Thu Jan  1 00:00:00 1970
Return-Path: <test-report-bounces@dpdk.org>
Received: from mails.dpdk.org (mails.dpdk.org [217.70.189.124])
	by inbox.dpdk.org (Postfix) with ESMTP id EC23143C90
	for <public@inbox.dpdk.org>; Tue, 12 Mar 2024 10:47:47 +0100 (CET)
Received: from mails.dpdk.org (localhost [127.0.0.1])
	by mails.dpdk.org (Postfix) with ESMTP id E5B94402D8;
	Tue, 12 Mar 2024 10:47:47 +0100 (CET)
Received: from mail-io1-f100.google.com (mail-io1-f100.google.com
 [209.85.166.100])
 by mails.dpdk.org (Postfix) with ESMTP id 4E68940282
 for <test-report@dpdk.org>; Tue, 12 Mar 2024 10:47:35 +0100 (CET)
Received: by mail-io1-f100.google.com with SMTP id
 ca18e2360f4ac-7c8b95f7f73so60838739f.1
 for <test-report@dpdk.org>; Tue, 12 Mar 2024 02:47:35 -0700 (PDT)
DKIM-Signature: v=1; a=rsa-sha256; c=relaxed/relaxed;
 d=iol.unh.edu; s=unh-iol; t=1710236854; x=1710841654; darn=dpdk.org;
 h=references:in-reply-to:cc:to:from:subject:message-id:date:from:to
 :cc:subject:date:message-id:reply-to;
 bh=fTP9Btwb1vglkDxD9MGWWzK4/wIJkOQTOozIjomW6WY=;
 b=Kb3T7hIbT37zfl7gCeLmOgHdMeK52CyMrMbHZcIYuJXHO4W3IPzoe40b27cCeeOifR
 f/0PFkIRSxArztwR4tUKWPlR2iuV3JQ2zeXc2JYLKiqnM8bervhHyQ83siv3z8Pcr0wg
 42V3AsVSBzTBFyUuUynNKF1lYRVBi19gO58QI=
X-Google-DKIM-Signature: v=1; a=rsa-sha256; c=relaxed/relaxed;
 d=1e100.net; s=20230601; t=1710236854; x=1710841654;
 h=references:in-reply-to:cc:to:from:subject:message-id:date
 :x-gm-message-state:from:to:cc:subject:date:message-id:reply-to;
 bh=fTP9Btwb1vglkDxD9MGWWzK4/wIJkOQTOozIjomW6WY=;
 b=oW5/iKFG/4RfS+M1CGsJRONB3Y3VxUJz1GN2RIIsv3bZjMc4sk8qzSKcGySB01MgOD
 /FFG7vrvKaTACh8dhGiwAZNncdVUNMAX0GJcTR195vlVmZ6ZqRp9Z4kgWY7kSNcYkcJg
 CaaNcZl8wGdtSsJmb93ip7F04hJC/BCvZLmX2uxT6JUoUTBp1kikWrUitDUmBYYLQIkL
 JEwZqk18Ni2VKz1Z5zQr2Gp2j2DebdbbF8cvpHzA6Ei9Hj4bZ5+lfN70vbFiM1JEGqBq
 ep0M+BsQz87R6loHrLHsW7Z8J+L3h5vqIobDLeIujGoaNQS/kj1BWbmF97l2Buxc3JYA
 jm/w==
X-Gm-Message-State: AOJu0YzT3zMUSy9UpCDkr6Odl9pdw8/DBy7mIWJi8KO/xqgvPQhQw1H9
 qJ06mPt6lqbn/Kdid96rRGSKQh7CEOrdme+1SZZGmawKVLNrn1fw0dzdSU1vVdC4MpxqK8kG7cG
 Cc1qf6N3+TyL6w0ZPEXlR1ZPYk0N2G7VuARKkOENJ
X-Google-Smtp-Source: AGHT+IH/Rv+bjGOrqYNewwIh+2g71Xv1jhAVbXynyjY35MXr8WhR2n6cMeju/aP3201KMt/GAfUI9idwXggA
X-Received: by 2002:a5e:d704:0:b0:7c8:9ccf:ba63 with SMTP id
 v4-20020a5ed704000000b007c89ccfba63mr8388618iom.9.1710236854709; 
 Tue, 12 Mar 2024 02:47:34 -0700 (PDT)
Received: from postal.iol.unh.edu (postal.iol.unh.edu. [132.177.123.84])
 by smtp-relay.gmail.com with ESMTPS id
 cw7-20020a05663849c700b004749f1a7924sm188928jab.29.2024.03.12.02.47.34
 (version=TLS1_2 cipher=ECDHE-ECDSA-AES128-GCM-SHA256 bits=128/128);
 Tue, 12 Mar 2024 02:47:34 -0700 (PDT)
X-Relaying-Domain: iol.unh.edu
Date: Tue, 12 Mar 2024 02:47:34 -0700 (PDT)
Message-ID: <65f024b6.050a0220.9560e.b05bSMTPIN_ADDED_MISSING@mx.google.com>
Received: from [172.21.0.6] (unknown [172.18.0.240])
 by postal.iol.unh.edu (Postfix) with ESMTP id 3549C6052471;
 Tue, 12 Mar 2024 05:47:34 -0400 (EDT)
Subject: |SUCCESS| pw138205-138206 [PATCH] [2/2] net/nfp: fix incorrect queue
From: dpdklab@iol.unh.edu
To: Test Report <test-report@dpdk.org>
Cc: dpdk-test-reports@iol.unh.edu
In-Reply-To: <20240312080245.2783410-3-chaoyong.he@corigine.com>
References: <20240312080245.2783410-3-chaoyong.he@corigine.com>
Content-Type: text/plain
X-BeenThere: test-report@dpdk.org
X-Mailman-Version: 2.1.29
Precedence: list
List-Id: automatic DPDK test reports <test-report.dpdk.org>
List-Unsubscribe: <https://mails.dpdk.org/options/test-report>,
 <mailto:test-report-request@dpdk.org?subject=unsubscribe>
List-Archive: <http://mails.dpdk.org/archives/test-report/>
List-Post: <mailto:test-report@dpdk.org>
List-Help: <mailto:test-report-request@dpdk.org?subject=help>
List-Subscribe: <https://mails.dpdk.org/listinfo/test-report>,
 <mailto:test-report-request@dpdk.org?subject=subscribe>
Errors-To: test-report-bounces@dpdk.org

Test-Label: iol-unit-amd64-testing
Test-Status: SUCCESS
http://dpdk.org/patch/138206

_Testing PASS_

Submitter: Chaoyong He <chaoyong.he@corigine.com>
Date: Tuesday, March 12 2024 08:02:45 
DPDK git baseline: Repo:dpdk
  Branch: master
  CommitID:e3faaed01e14ffdfe8f4190030540ed874184b55

138205-138206 --> testing pass

Test environment and result as below:

+---------------------+----------------+
|     Environment     | dpdk_unit_test |
+=====================+================+
| CentOS Stream 8     | PASS           |
+---------------------+----------------+
| CentOS Stream 9     | PASS           |
+---------------------+----------------+
| Debian 12 (arm)     | PASS           |
+---------------------+----------------+
| Debian Bullseye     | PASS           |
+---------------------+----------------+
| Windows Server 2019 | PASS           |
+---------------------+----------------+
| Fedora 38           | PASS           |
+---------------------+----------------+
| Ubuntu 22.04        | PASS           |
+---------------------+----------------+
| openSUSE Leap 15    | PASS           |
+---------------------+----------------+
| Ubuntu 20.04        | PASS           |
+---------------------+----------------+
| RHEL8               | PASS           |
+---------------------+----------------+


CentOS Stream 8
	Kernel: 4.18.0-240.10.1.el8_3.x86_64
	Compiler: gcc 8.4.1 20200928

CentOS Stream 9
	Kernel: 4.18.0-240.10.1.el8_3.x86_64
	Compiler: gcc 11.3.1 20220421

Debian 12 (arm)
	Kernel: Container Host Kernel
	Compiler: gcc 11

Debian Bullseye
	Kernel: 5.4.0-122-generic
	Compiler: gcc 10.2.1-6

Windows Server 2019
	Kernel: 10.0
	Compiler: clang 14.0 and gcc 8.1.0 (MinGW)

Fedora 38
	Kernel: Depends on container host
	Compiler: gcc 13.1.1

Ubuntu 22.04
	Kernel: 4.18.0-240.10.1.el8_3.x86_64
	Compiler: gcc 11.3.0

openSUSE Leap 15
	Kernel: 4.18.0-240.10.1.el8_3.x86_64
	Compiler: gcc 7.5.0

Ubuntu 20.04
	Kernel: 5.4.0-153-generic
	Compiler: gcc 9.4.0-1ubuntu1~20.04.1

RHEL8
	Kernel: 4.18.0-240.10.1.el8_3.x86_64
	Compiler: gcc 8.3.1 20191121 (Red Hat 8.3.1-5)

To view detailed results, visit:
https://lab.dpdk.org/results/dashboard/patchsets/29511/

UNH-IOL DPDK Community Lab

To manage your email subscriptions, visit: 
https://lab.dpdk.org/results/dashboard/preferences/subscriptions/