From mboxrd@z Thu Jan  1 00:00:00 1970
Return-Path: <test-report-bounces@dpdk.org>
Received: from mails.dpdk.org (mails.dpdk.org [217.70.189.124])
	by inbox.dpdk.org (Postfix) with ESMTP id 8E38343C90
	for <public@inbox.dpdk.org>; Tue, 12 Mar 2024 10:48:34 +0100 (CET)
Received: from mails.dpdk.org (localhost [127.0.0.1])
	by mails.dpdk.org (Postfix) with ESMTP id 88609402D8;
	Tue, 12 Mar 2024 10:48:34 +0100 (CET)
Received: from mail-yb1-f227.google.com (mail-yb1-f227.google.com
 [209.85.219.227])
 by mails.dpdk.org (Postfix) with ESMTP id 1805940282
 for <test-report@dpdk.org>; Tue, 12 Mar 2024 10:48:28 +0100 (CET)
Received: by mail-yb1-f227.google.com with SMTP id
 3f1490d57ef6-dcc80d6004bso5156312276.0
 for <test-report@dpdk.org>; Tue, 12 Mar 2024 02:48:28 -0700 (PDT)
DKIM-Signature: v=1; a=rsa-sha256; c=relaxed/relaxed;
 d=iol.unh.edu; s=unh-iol; t=1710236907; x=1710841707; darn=dpdk.org;
 h=references:in-reply-to:cc:to:from:subject:message-id:date:from:to
 :cc:subject:date:message-id:reply-to;
 bh=5Q9g17fP+tWQCjc72xwaQkf1RY7E9tQUsGp7ihEjF2U=;
 b=RqldMOGJm9T8PNhd2NU5amr2mkZhBZv4rT2Dnk10aSVW4hK01zzqPRH1EI9gNuHXsn
 chEXdz7TUzBZfCEOvIlwxFveth0qCjuEO5wPUuHnw/zBW+1OcH5z6xVmi93PkP744vbb
 DXNIYt3SclZX0KoTlx7EBjN+b30Lk6/rXenhQ=
X-Google-DKIM-Signature: v=1; a=rsa-sha256; c=relaxed/relaxed;
 d=1e100.net; s=20230601; t=1710236907; x=1710841707;
 h=references:in-reply-to:cc:to:from:subject:message-id:date
 :x-gm-message-state:from:to:cc:subject:date:message-id:reply-to;
 bh=5Q9g17fP+tWQCjc72xwaQkf1RY7E9tQUsGp7ihEjF2U=;
 b=IPMSQP5dJcB7F53MslGmtRMVMWpJkUddo+Zx/wBg+ilHNCBUt+X5qH22P5pKSU78T0
 qfllb4N9LKTJWD70AenXm0xQwVFngMFZIttLWj/UOLiBVhjf0R+hfPcHFrXma+gb/ETU
 cogg5bs6vi43oj32uQsMOhgteYizTPNlFhy08yP0vAlkxxNaHw3LxQD2xYIKTheIjC4w
 YJjQRprgpGbQxrMZ0dhLUbMdmq2nduMSERxyXluAeoLntNznezDSG+qQgwBY6J6+mVGn
 7+LbPOrTGl68AsaS5WqVKtgKEI4sRH7JzUJcwdNrY4WuunwQyufA8tkFtDMDw+7uApU4
 8edg==
X-Gm-Message-State: AOJu0Yz/y0/g+BcMEBAKzbiYJvqkFt8rGH9tzuEKQPe9nLHDumDDf8XB
 NLxk+47L9bUkxU5br1iBjI1ZBkdnnINhW5ANrSaz1+vt9vPEj/R4GFI6MxHyZ6wALIllg2FK96m
 Q0ElQvaZEQL0fFQ02pVSZzQJX79KuzI5DxoK08jN11Inl6C5njTjWRr1B
X-Google-Smtp-Source: AGHT+IGcuxmClso8/mi484UQLL2kaapOK4eXaewNrY/+09vhKJpDpS+/w2IuDOQaS/s75vm7MNfnXUdVWGcm
X-Received: by 2002:a25:2d17:0:b0:dc7:47b7:9053 with SMTP id
 t23-20020a252d17000000b00dc747b79053mr7476273ybt.15.1710236907496; 
 Tue, 12 Mar 2024 02:48:27 -0700 (PDT)
Received: from postal.iol.unh.edu (postal.iol.unh.edu.
 [2606:4100:3880:1234::84]) by smtp-relay.gmail.com with ESMTPS id
 d10-20020a056902084a00b00dcf5a12cd33sm336151ybu.18.2024.03.12.02.48.27
 (version=TLS1_2 cipher=ECDHE-ECDSA-AES128-GCM-SHA256 bits=128/128);
 Tue, 12 Mar 2024 02:48:27 -0700 (PDT)
X-Relaying-Domain: iol.unh.edu
Date: Tue, 12 Mar 2024 02:48:27 -0700 (PDT)
Message-ID: <65f024eb.050a0220.49fd8.5817SMTPIN_ADDED_MISSING@mx.google.com>
Received: from [172.17.0.6] (unknown [172.18.0.217])
 by postal.iol.unh.edu (Postfix) with ESMTP id 24B776052471;
 Tue, 12 Mar 2024 05:48:27 -0400 (EDT)
Subject: |SUCCESS| pw138205-138206 [PATCH] [2/2] net/nfp: fix incorrect queue
From: dpdklab@iol.unh.edu
To: Test Report <test-report@dpdk.org>
Cc: dpdk-test-reports@iol.unh.edu
In-Reply-To: <20240312080245.2783410-3-chaoyong.he@corigine.com>
References: <20240312080245.2783410-3-chaoyong.he@corigine.com>
Content-Type: text/plain
X-BeenThere: test-report@dpdk.org
X-Mailman-Version: 2.1.29
Precedence: list
List-Id: automatic DPDK test reports <test-report.dpdk.org>
List-Unsubscribe: <https://mails.dpdk.org/options/test-report>,
 <mailto:test-report-request@dpdk.org?subject=unsubscribe>
List-Archive: <http://mails.dpdk.org/archives/test-report/>
List-Post: <mailto:test-report@dpdk.org>
List-Help: <mailto:test-report-request@dpdk.org?subject=help>
List-Subscribe: <https://mails.dpdk.org/listinfo/test-report>,
 <mailto:test-report-request@dpdk.org?subject=subscribe>
Errors-To: test-report-bounces@dpdk.org

Test-Label: iol-unit-arm64-testing
Test-Status: SUCCESS
http://dpdk.org/patch/138206

_Testing PASS_

Submitter: Chaoyong He <chaoyong.he@corigine.com>
Date: Tuesday, March 12 2024 08:02:45 
DPDK git baseline: Repo:dpdk
  Branch: master
  CommitID:e3faaed01e14ffdfe8f4190030540ed874184b55

138205-138206 --> testing pass

Test environment and result as below:

+--------------------------+---------------------------+------------------------------+----------------+--------------+
|       Environment        | cryptodev_sw_zuc_autotest | cryptodev_sw_snow3g_autotest | dpdk_unit_test | lpm_autotest |
+==========================+===========================+==============================+================+==============+
| Debian 12 (arm)          | PASS                      | PASS                         | PASS           | SKIPPED      |
+--------------------------+---------------------------+------------------------------+----------------+--------------+
| CentOS Stream 9 (ARM)    | SKIPPED                   | SKIPPED                      | PASS           | SKIPPED      |
+--------------------------+---------------------------+------------------------------+----------------+--------------+
| Debian 11 (Buster) (ARM) | SKIPPED                   | SKIPPED                      | PASS           | SKIPPED      |
+--------------------------+---------------------------+------------------------------+----------------+--------------+
| Fedora 38 (ARM)          | SKIPPED                   | SKIPPED                      | PASS           | SKIPPED      |
+--------------------------+---------------------------+------------------------------+----------------+--------------+
| Fedora 37 (ARM)          | SKIPPED                   | SKIPPED                      | PASS           | SKIPPED      |
+--------------------------+---------------------------+------------------------------+----------------+--------------+
| Ubuntu 20.04 (ARM)       | SKIPPED                   | SKIPPED                      | PASS           | SKIPPED      |
+--------------------------+---------------------------+------------------------------+----------------+--------------+
| Ubuntu 20.04 ARM SVE     | SKIPPED                   | SKIPPED                      | SKIPPED        | PASS         |
+--------------------------+---------------------------+------------------------------+----------------+--------------+


Debian 12 (arm)
	Kernel: Container Host Kernel
	Compiler: gcc 11

CentOS Stream 9 (ARM)
	Kernel: Container Host Kernel
	Compiler: gcc 11.3.1

Debian 11 (Buster) (ARM)
	Kernel: Container Host Kernel
	Compiler: gcc 10.2.1

Fedora 38 (ARM)
	Kernel: Depends on container host
	Compiler: gcc 13.1.1

Fedora 37 (ARM)
	Kernel: Depends on container host
	Compiler: gcc 12.3.1

Ubuntu 20.04 (ARM)
	Kernel: Container Host Kernel
	Compiler: gcc 9.4.0

Ubuntu 20.04 ARM SVE
	Kernel: 5.4.0-80-generic
	Compiler: gcc 10.3.0 (Ubuntu 10.3.0-1ubuntu1~20.04)

To view detailed results, visit:
https://lab.dpdk.org/results/dashboard/patchsets/29511/

UNH-IOL DPDK Community Lab

To manage your email subscriptions, visit: 
https://lab.dpdk.org/results/dashboard/preferences/subscriptions/