From mboxrd@z Thu Jan  1 00:00:00 1970
Return-Path: <test-report-bounces@dpdk.org>
Received: from mails.dpdk.org (mails.dpdk.org [217.70.189.124])
	by inbox.dpdk.org (Postfix) with ESMTP id 46F0A43C90
	for <public@inbox.dpdk.org>; Tue, 12 Mar 2024 10:49:23 +0100 (CET)
Received: from mails.dpdk.org (localhost [127.0.0.1])
	by mails.dpdk.org (Postfix) with ESMTP id 42E3C40DCE;
	Tue, 12 Mar 2024 10:49:23 +0100 (CET)
Received: from mail-il1-f225.google.com (mail-il1-f225.google.com
 [209.85.166.225])
 by mails.dpdk.org (Postfix) with ESMTP id 738D240282
 for <test-report@dpdk.org>; Tue, 12 Mar 2024 10:49:20 +0100 (CET)
Received: by mail-il1-f225.google.com with SMTP id
 e9e14a558f8ab-3662e41370fso23889695ab.2
 for <test-report@dpdk.org>; Tue, 12 Mar 2024 02:49:20 -0700 (PDT)
DKIM-Signature: v=1; a=rsa-sha256; c=relaxed/relaxed;
 d=iol.unh.edu; s=unh-iol; t=1710236960; x=1710841760; darn=dpdk.org;
 h=references:in-reply-to:cc:to:from:subject:message-id:date:from:to
 :cc:subject:date:message-id:reply-to;
 bh=5Q9g17fP+tWQCjc72xwaQkf1RY7E9tQUsGp7ihEjF2U=;
 b=XgWinQYDytnUp6ueQMt9siFzwAaMwSgI3GBsbjHU90ggUpF6u5iaC2Z9hTBWBR/vP9
 nOsBN1tRqfYlrD9zpbfE9Hj//R81/j4d0IPAfq015d/UCvC/dIgMB285NUtRsdXJfxha
 hH0Oo8pPtUHRHqbo7X+OfTLXh82Ork75rRUfs=
X-Google-DKIM-Signature: v=1; a=rsa-sha256; c=relaxed/relaxed;
 d=1e100.net; s=20230601; t=1710236960; x=1710841760;
 h=references:in-reply-to:cc:to:from:subject:message-id:date
 :x-gm-message-state:from:to:cc:subject:date:message-id:reply-to;
 bh=5Q9g17fP+tWQCjc72xwaQkf1RY7E9tQUsGp7ihEjF2U=;
 b=B7NkRo//CfGWginoGlkOGxMfFLNakwyBoL3u8asMWl5hIa4UxAcgf4TbmFmjhkA1NI
 CP/e22ou4KR7iS0Qxfxyi0gleM/aGrm1Dl2aKyJkCjDF5ELIKpChQNGG+ThkUDhdowGg
 fjULzPAO04HchSLzo3VfCapI3u10TJr9t1/FUhFduQtf+bgbSRxLSb0+sgh0Aj/er7CE
 GENFfi9VwGz5lOFkospnnus6bLnV3CkhiJoW++5ZsNeJYDmnEJnTW6uEgBYuEcGhWi8N
 qShkj/N5FPeA3uxWeSPoEtwkbY9VCYsEKsrl9dDiUrJCbY/fbgKdJa1EGuwWo19EEuNp
 9F9Q==
X-Gm-Message-State: AOJu0Yw9goJzrh5ObkW5rgjttnQnBLL0cyCoBJ122UQK9AF3AEXjgi2q
 ngjTBEBrq6pHreTEhjHxO9+ULYKP84zpDMG1WBjzLzIBna27oTJQmnoLspquZPMHsZEcv9Bzie6
 /f+XocDtQSftDqYKEfcHem789us0TM239N2BSrEkZ
X-Google-Smtp-Source: AGHT+IHIJr3Dua8i3MmFYNk6SEmjrGMldN7JhGnRickHQqu5VaBddJLeH/xTLhp82K8MMNh7/JVPJio5ma1p
X-Received: by 2002:a05:6e02:156b:b0:363:d9e0:c9e2 with SMTP id
 k11-20020a056e02156b00b00363d9e0c9e2mr1481781ilu.2.1710236959916; 
 Tue, 12 Mar 2024 02:49:19 -0700 (PDT)
Received: from postal.iol.unh.edu (postal.iol.unh.edu. [132.177.123.84])
 by smtp-relay.gmail.com with ESMTPS id
 k12-20020a056e021a8c00b00365771d5234sm394027ilv.39.2024.03.12.02.49.19
 (version=TLS1_2 cipher=ECDHE-ECDSA-AES128-GCM-SHA256 bits=128/128);
 Tue, 12 Mar 2024 02:49:19 -0700 (PDT)
X-Relaying-Domain: iol.unh.edu
Date: Tue, 12 Mar 2024 02:49:19 -0700 (PDT)
Message-ID: <65f0251f.050a0220.49d60.901cSMTPIN_ADDED_MISSING@mx.google.com>
Received: from [172.17.0.8] (unknown [172.18.0.217])
 by postal.iol.unh.edu (Postfix) with ESMTP id 8C0166052471;
 Tue, 12 Mar 2024 05:49:19 -0400 (EDT)
Subject: |SUCCESS| pw138205-138206 [PATCH] [2/2] net/nfp: fix incorrect queue
From: dpdklab@iol.unh.edu
To: Test Report <test-report@dpdk.org>
Cc: dpdk-test-reports@iol.unh.edu
In-Reply-To: <20240312080245.2783410-3-chaoyong.he@corigine.com>
References: <20240312080245.2783410-3-chaoyong.he@corigine.com>
Content-Type: text/plain
X-BeenThere: test-report@dpdk.org
X-Mailman-Version: 2.1.29
Precedence: list
List-Id: automatic DPDK test reports <test-report.dpdk.org>
List-Unsubscribe: <https://mails.dpdk.org/options/test-report>,
 <mailto:test-report-request@dpdk.org?subject=unsubscribe>
List-Archive: <http://mails.dpdk.org/archives/test-report/>
List-Post: <mailto:test-report@dpdk.org>
List-Help: <mailto:test-report-request@dpdk.org?subject=help>
List-Subscribe: <https://mails.dpdk.org/listinfo/test-report>,
 <mailto:test-report-request@dpdk.org?subject=subscribe>
Errors-To: test-report-bounces@dpdk.org

Test-Label: iol-unit-arm64-testing
Test-Status: SUCCESS
http://dpdk.org/patch/138206

_Testing PASS_

Submitter: Chaoyong He <chaoyong.he@corigine.com>
Date: Tuesday, March 12 2024 08:02:45 
DPDK git baseline: Repo:dpdk
  Branch: master
  CommitID:e3faaed01e14ffdfe8f4190030540ed874184b55

138205-138206 --> testing pass

Test environment and result as below:

+--------------------------+---------------------------+------------------------------+----------------+--------------+
|       Environment        | cryptodev_sw_zuc_autotest | cryptodev_sw_snow3g_autotest | dpdk_unit_test | lpm_autotest |
+==========================+===========================+==============================+================+==============+
| Debian 12 (arm)          | PASS                      | PASS                         | PASS           | SKIPPED      |
+--------------------------+---------------------------+------------------------------+----------------+--------------+
| CentOS Stream 9 (ARM)    | SKIPPED                   | SKIPPED                      | PASS           | SKIPPED      |
+--------------------------+---------------------------+------------------------------+----------------+--------------+
| Debian 11 (Buster) (ARM) | SKIPPED                   | SKIPPED                      | PASS           | SKIPPED      |
+--------------------------+---------------------------+------------------------------+----------------+--------------+
| Fedora 38 (ARM)          | SKIPPED                   | SKIPPED                      | PASS           | SKIPPED      |
+--------------------------+---------------------------+------------------------------+----------------+--------------+
| Fedora 37 (ARM)          | SKIPPED                   | SKIPPED                      | PASS           | SKIPPED      |
+--------------------------+---------------------------+------------------------------+----------------+--------------+
| Ubuntu 20.04 (ARM)       | SKIPPED                   | SKIPPED                      | PASS           | SKIPPED      |
+--------------------------+---------------------------+------------------------------+----------------+--------------+
| Ubuntu 20.04 ARM SVE     | SKIPPED                   | SKIPPED                      | SKIPPED        | PASS         |
+--------------------------+---------------------------+------------------------------+----------------+--------------+


Debian 12 (arm)
	Kernel: Container Host Kernel
	Compiler: gcc 11

CentOS Stream 9 (ARM)
	Kernel: Container Host Kernel
	Compiler: gcc 11.3.1

Debian 11 (Buster) (ARM)
	Kernel: Container Host Kernel
	Compiler: gcc 10.2.1

Fedora 38 (ARM)
	Kernel: Depends on container host
	Compiler: gcc 13.1.1

Fedora 37 (ARM)
	Kernel: Depends on container host
	Compiler: gcc 12.3.1

Ubuntu 20.04 (ARM)
	Kernel: Container Host Kernel
	Compiler: gcc 9.4.0

Ubuntu 20.04 ARM SVE
	Kernel: 5.4.0-80-generic
	Compiler: gcc 10.3.0 (Ubuntu 10.3.0-1ubuntu1~20.04)

To view detailed results, visit:
https://lab.dpdk.org/results/dashboard/patchsets/29511/

UNH-IOL DPDK Community Lab

To manage your email subscriptions, visit: 
https://lab.dpdk.org/results/dashboard/preferences/subscriptions/