From mboxrd@z Thu Jan  1 00:00:00 1970
Return-Path: <test-report-bounces@dpdk.org>
Received: from mails.dpdk.org (mails.dpdk.org [217.70.189.124])
	by inbox.dpdk.org (Postfix) with ESMTP id 33EF843C90
	for <public@inbox.dpdk.org>; Tue, 12 Mar 2024 11:22:26 +0100 (CET)
Received: from mails.dpdk.org (localhost [127.0.0.1])
	by mails.dpdk.org (Postfix) with ESMTP id 2E974402D8;
	Tue, 12 Mar 2024 11:22:26 +0100 (CET)
Received: from mail-io1-f97.google.com (mail-io1-f97.google.com
 [209.85.166.97]) by mails.dpdk.org (Postfix) with ESMTP id CB94140282
 for <test-report@dpdk.org>; Tue, 12 Mar 2024 11:22:23 +0100 (CET)
Received: by mail-io1-f97.google.com with SMTP id
 ca18e2360f4ac-7c8060a8489so172671539f.0
 for <test-report@dpdk.org>; Tue, 12 Mar 2024 03:22:23 -0700 (PDT)
DKIM-Signature: v=1; a=rsa-sha256; c=relaxed/relaxed;
 d=iol.unh.edu; s=unh-iol; t=1710238943; x=1710843743; darn=dpdk.org;
 h=references:in-reply-to:cc:to:from:subject:message-id:date:from:to
 :cc:subject:date:message-id:reply-to;
 bh=FCA1tbtZk4nnENlZjxUv9AfXXjWM9NfXuA9z1Dokgh4=;
 b=dXMuVdFyQayg+nGMPpqHJJqDXPMG4+pDiCs+11ZWsH0AUK7fkIpU+05QOETj4VQvLe
 SfDuZfPKZrNnXuLy+B3/s90wkA3evvYSevd3N6qlOi5m/A1+taV4hmW4+lrP0FtQqFzO
 ZVN+nGRDRanCdLW2/fwDfN9wK0kjDfAb9d1Ok=
X-Google-DKIM-Signature: v=1; a=rsa-sha256; c=relaxed/relaxed;
 d=1e100.net; s=20230601; t=1710238943; x=1710843743;
 h=references:in-reply-to:cc:to:from:subject:message-id:date
 :x-gm-message-state:from:to:cc:subject:date:message-id:reply-to;
 bh=FCA1tbtZk4nnENlZjxUv9AfXXjWM9NfXuA9z1Dokgh4=;
 b=PpoSMtNwFxxHO6S7kBvCf6tmHZX1dGzCK+CiQPk9G3mX4XeIR5Oq/UaumadKmv1Pjy
 VRS1QSDb6wuFQaRqlTqR+0QvTeenDt+D7RP7u4+ejT5pV6dvZoG8kx6DCGMEzXeXIzMY
 5scqprPStsXYyt5pEjDujtyRSx0d1DAyZHpOx5UObGIfr0f4riP7NTH5zQD1nDXc8jXa
 X+jSfY8jkJ4OU2HudOyD+GByES6ctKOiiHDOYdq1P9zz/wSdFk9NLwrmH58V3EYDxwbu
 56lbXC8EogmcL8NhyTTwpBP5IUM3ZDWNEoQdxOu1nq0KS71oNQoaNk10vgDm/gda5pI1
 5kPw==
X-Gm-Message-State: AOJu0YzVlZ/mRtUWpJKoaDE9DMeyILT4/TchdR5YdbCq/+gjZKkx80OQ
 lU+ROzHyh3xR05B3roxvxDTsNo3RJ+sEAMDjAP5AIiKQRu2Gm8USaf6RaE0SXoDV41IjkHZ+k8A
 C9YX4Hv2CRP6wcCXWaNik+N86+uvhDSThlcwsG3xywOuLP9BEkdGqtHao
X-Google-Smtp-Source: AGHT+IEWRp9uNpJWa0TR1U1GZszNuWZWr1n+ncnUrTuJwKfdjlmbOeArV+HjgJ6LtvZovL8Z+II6Iz1SrzRl
X-Received: by 2002:a05:6e02:1523:b0:365:2676:df13 with SMTP id
 i3-20020a056e02152300b003652676df13mr9799414ilu.24.1710238943195; 
 Tue, 12 Mar 2024 03:22:23 -0700 (PDT)
Received: from postal.iol.unh.edu (postal.iol.unh.edu.
 [2606:4100:3880:1234::84]) by smtp-relay.gmail.com with ESMTPS id
 v7-20020a056638250700b00474fa18aadfsm190244jat.16.2024.03.12.03.22.23
 (version=TLS1_2 cipher=ECDHE-ECDSA-AES128-GCM-SHA256 bits=128/128);
 Tue, 12 Mar 2024 03:22:23 -0700 (PDT)
X-Relaying-Domain: iol.unh.edu
Date: Tue, 12 Mar 2024 03:22:23 -0700 (PDT)
Message-ID: <65f02cdf.050a0220.295ce.b446SMTPIN_ADDED_MISSING@mx.google.com>
Received: from [172.17.0.9] (unknown [172.18.0.217])
 by postal.iol.unh.edu (Postfix) with ESMTP id B60836052471;
 Tue, 12 Mar 2024 06:22:22 -0400 (EDT)
Subject: |SUCCESS| pw138202-138203 [PATCH] [3/3] app/testpmd: support setting
From: dpdklab@iol.unh.edu
To: Test Report <test-report@dpdk.org>
Cc: dpdk-test-reports@iol.unh.edu
In-Reply-To: <20240312075238.3319480-4-huangdengdui@huawei.com>
References: <20240312075238.3319480-4-huangdengdui@huawei.com>
Content-Type: text/plain
X-BeenThere: test-report@dpdk.org
X-Mailman-Version: 2.1.29
Precedence: list
List-Id: automatic DPDK test reports <test-report.dpdk.org>
List-Unsubscribe: <https://mails.dpdk.org/options/test-report>,
 <mailto:test-report-request@dpdk.org?subject=unsubscribe>
List-Archive: <http://mails.dpdk.org/archives/test-report/>
List-Post: <mailto:test-report@dpdk.org>
List-Help: <mailto:test-report-request@dpdk.org?subject=help>
List-Subscribe: <https://mails.dpdk.org/listinfo/test-report>,
 <mailto:test-report-request@dpdk.org?subject=subscribe>
Errors-To: test-report-bounces@dpdk.org

Test-Label: iol-compile-amd64-testing
Test-Status: SUCCESS
http://dpdk.org/patch/138203

_Testing PASS_

Submitter: Dengdui Huang <huangdengdui@huawei.com>
Date: Tuesday, March 12 2024 07:52:38 
DPDK git baseline: Repo:dpdk
  Branch: master
  CommitID:e3faaed01e14ffdfe8f4190030540ed874184b55

138202-138203 --> testing pass

Test environment and result as below:

+---------------------+--------------------+----------------------+
|     Environment     | dpdk_meson_compile | dpdk_mingw64_compile |
+=====================+====================+======================+
| Windows Server 2022 | PASS               | SKIPPED              |
+---------------------+--------------------+----------------------+
| FreeBSD 13.2        | PASS               | SKIPPED              |
+---------------------+--------------------+----------------------+
| Debian Bullseye     | PASS               | SKIPPED              |
+---------------------+--------------------+----------------------+
| Windows Server 2019 | PASS               | PASS                 |
+---------------------+--------------------+----------------------+
| CentOS Stream 8     | PASS               | SKIPPED              |
+---------------------+--------------------+----------------------+
| CentOS Stream 9     | PASS               | SKIPPED              |
+---------------------+--------------------+----------------------+
| Debian 12 (arm)     | PASS               | SKIPPED              |
+---------------------+--------------------+----------------------+
| Fedora 37           | PASS               | SKIPPED              |
+---------------------+--------------------+----------------------+
| RHEL8               | PASS               | SKIPPED              |
+---------------------+--------------------+----------------------+
| Ubuntu 20.04        | PASS               | SKIPPED              |
+---------------------+--------------------+----------------------+
| openSUSE Leap 15    | PASS               | SKIPPED              |
+---------------------+--------------------+----------------------+
| Ubuntu 22.04        | PASS               | SKIPPED              |
+---------------------+--------------------+----------------------+


Windows Server 2022
	Kernel: OS Build 20348.2031
	Compiler: MSVC VS-Preview

FreeBSD 13.2
	Kernel: 13.2
	Compiler: clang 11.3.0

Debian Bullseye
	Kernel: 5.4.0-122-generic
	Compiler: gcc 10.2.1-6

Windows Server 2019
	Kernel: 10.0
	Compiler: clang 14.0 and gcc 8.1.0 (MinGW)

CentOS Stream 8
	Kernel: 4.18.0-240.10.1.el8_3.x86_64
	Compiler: gcc 8.4.1 20200928

CentOS Stream 9
	Kernel: 4.18.0-240.10.1.el8_3.x86_64
	Compiler: gcc 11.3.1 20220421

Debian 12 (arm)
	Kernel: Container Host Kernel
	Compiler: gcc 11

Fedora 37
	Kernel: Depends on container host system
	Compiler: gcc 12.3.1

RHEL8
	Kernel: 4.18.0-240.10.1.el8_3.x86_64
	Compiler: gcc 8.3.1 20191121 (Red Hat 8.3.1-5)

Ubuntu 20.04
	Kernel: 5.4.0-153-generic
	Compiler: gcc 9.4.0-1ubuntu1~20.04.1

openSUSE Leap 15
	Kernel: 4.18.0-240.10.1.el8_3.x86_64
	Compiler: gcc 7.5.0

Ubuntu 22.04
	Kernel: 4.18.0-240.10.1.el8_3.x86_64
	Compiler: gcc 11.3.0

To view detailed results, visit:
https://lab.dpdk.org/results/dashboard/patchsets/29510/

UNH-IOL DPDK Community Lab

To manage your email subscriptions, visit: 
https://lab.dpdk.org/results/dashboard/preferences/subscriptions/