From mboxrd@z Thu Jan  1 00:00:00 1970
Return-Path: <test-report-bounces@dpdk.org>
Received: from mails.dpdk.org (mails.dpdk.org [217.70.189.124])
	by inbox.dpdk.org (Postfix) with ESMTP id 40E9743C90
	for <public@inbox.dpdk.org>; Tue, 12 Mar 2024 11:35:10 +0100 (CET)
Received: from mails.dpdk.org (localhost [127.0.0.1])
	by mails.dpdk.org (Postfix) with ESMTP id 35A4040295;
	Tue, 12 Mar 2024 11:35:10 +0100 (CET)
Received: from mail-oa1-f99.google.com (mail-oa1-f99.google.com
 [209.85.160.99]) by mails.dpdk.org (Postfix) with ESMTP id 1F30840282
 for <test-report@dpdk.org>; Tue, 12 Mar 2024 11:35:09 +0100 (CET)
Received: by mail-oa1-f99.google.com with SMTP id
 586e51a60fabf-2222c0462a9so64355fac.3
 for <test-report@dpdk.org>; Tue, 12 Mar 2024 03:35:09 -0700 (PDT)
DKIM-Signature: v=1; a=rsa-sha256; c=relaxed/relaxed;
 d=iol.unh.edu; s=unh-iol; t=1710239708; x=1710844508; darn=dpdk.org;
 h=references:in-reply-to:cc:to:from:subject:message-id:date:from:to
 :cc:subject:date:message-id:reply-to;
 bh=9zO6H+rjX5FhZiUpcra0QQV9OemceYp/h2Xyv5QEWng=;
 b=bc1g9bU2EMC3G7hFpYgh3ctSCSMwhEDuATOFHa0aC+J98eQldOnLIExLvRk3FC3SdI
 0ZascIEf6fxm29sEVKBow7aUVXsQVNwpVEghR6NcysK2si31j4/U6fBIZW9QLxz9gUHG
 fj4vAQTgc4w7OK/x/5gns+qW26yXnfNeac2yc=
X-Google-DKIM-Signature: v=1; a=rsa-sha256; c=relaxed/relaxed;
 d=1e100.net; s=20230601; t=1710239708; x=1710844508;
 h=references:in-reply-to:cc:to:from:subject:message-id:date
 :x-gm-message-state:from:to:cc:subject:date:message-id:reply-to;
 bh=9zO6H+rjX5FhZiUpcra0QQV9OemceYp/h2Xyv5QEWng=;
 b=IVQhr/w0jwjKNk9rpL0VseA5NzrdZKWAdP+Ev7jgEbhKtwZAnIYXMNyV/rJFLd4AEH
 EAJeGLSadDd2d1gOn9xKN54PecZF/FUVkVQ6bPuYLYUKfaW6wSdTg/fPbqpnZiWAnRgT
 Z8d4pTbTfw/+GFdxXOFGAd08+9xZLdQ3ObfD83a1VuDGeK9/SO8JtfljgiNkZ3y+PK67
 Ea/qOQMCyHWZY2WuEgwuzepb7bIHbiXxuWbYWZMdX+GLV64lWKBNBbKOUyDRr7oHEjKk
 BRigCBOO19A+WRP+YfDih8cC5ya04xk8WRZz930QH9R/UV3S3rHHNMIlRPU1VAwX8Bnn
 +ORQ==
X-Gm-Message-State: AOJu0YxQhMYqs+dS2P9Gb//uylTF5eQZB4GSValJtTo7QU2pk8ITEZ+P
 FLbXsX6NAWwXItckF4sCbfKwEOGvJcJ7svv0e5v5m3hq25uEePmcRENpigPCJdpRCAwXLY6auEV
 N1yZiIyPdym9ctfBj+14hQgxDAsmW+uWbTdXOl196j4uQxaYlc9qfEI9u
X-Google-Smtp-Source: AGHT+IFFRMNd7sUO24Ctbw8Xud+rNKqQW6JriR9O/Jhyf9bkMI08GCGtzc7524nkj0biFw8WqMbMGT8umjpj
X-Received: by 2002:a05:6870:b693:b0:21f:4bc:3b6d with SMTP id
 cy19-20020a056870b69300b0021f04bc3b6dmr9574481oab.17.1710239708483; 
 Tue, 12 Mar 2024 03:35:08 -0700 (PDT)
Received: from postal.iol.unh.edu (postal.iol.unh.edu.
 [2606:4100:3880:1234::84]) by smtp-relay.gmail.com with ESMTPS id
 t1-20020a056870048100b0021e7c9d798bsm111957oam.5.2024.03.12.03.35.08
 (version=TLS1_2 cipher=ECDHE-ECDSA-AES128-GCM-SHA256 bits=128/128);
 Tue, 12 Mar 2024 03:35:08 -0700 (PDT)
X-Relaying-Domain: iol.unh.edu
Date: Tue, 12 Mar 2024 03:35:08 -0700 (PDT)
Message-ID: <65f02fdc.050a0220.8fc9d.587dSMTPIN_ADDED_MISSING@mx.google.com>
Received: from [172.21.0.6] (unknown [172.18.0.240])
 by postal.iol.unh.edu (Postfix) with ESMTP id E9A106052471;
 Tue, 12 Mar 2024 06:35:07 -0400 (EDT)
Subject: |SUCCESS| pw138202-138203 [PATCH] [3/3] app/testpmd: support setting
From: dpdklab@iol.unh.edu
To: Test Report <test-report@dpdk.org>
Cc: dpdk-test-reports@iol.unh.edu
In-Reply-To: <20240312075238.3319480-4-huangdengdui@huawei.com>
References: <20240312075238.3319480-4-huangdengdui@huawei.com>
Content-Type: text/plain
X-BeenThere: test-report@dpdk.org
X-Mailman-Version: 2.1.29
Precedence: list
List-Id: automatic DPDK test reports <test-report.dpdk.org>
List-Unsubscribe: <https://mails.dpdk.org/options/test-report>,
 <mailto:test-report-request@dpdk.org?subject=unsubscribe>
List-Archive: <http://mails.dpdk.org/archives/test-report/>
List-Post: <mailto:test-report@dpdk.org>
List-Help: <mailto:test-report-request@dpdk.org?subject=help>
List-Subscribe: <https://mails.dpdk.org/listinfo/test-report>,
 <mailto:test-report-request@dpdk.org?subject=subscribe>
Errors-To: test-report-bounces@dpdk.org

Test-Label: iol-compile-amd64-testing
Test-Status: SUCCESS
http://dpdk.org/patch/138203

_Testing PASS_

Submitter: Dengdui Huang <huangdengdui@huawei.com>
Date: Tuesday, March 12 2024 07:52:38 
DPDK git baseline: Repo:dpdk
  Branch: master
  CommitID:e3faaed01e14ffdfe8f4190030540ed874184b55

138202-138203 --> testing pass

Test environment and result as below:

+---------------------+--------------------+----------------------+
|     Environment     | dpdk_meson_compile | dpdk_mingw64_compile |
+=====================+====================+======================+
| Windows Server 2022 | PASS               | SKIPPED              |
+---------------------+--------------------+----------------------+
| FreeBSD 13.2        | PASS               | SKIPPED              |
+---------------------+--------------------+----------------------+
| Debian Bullseye     | PASS               | SKIPPED              |
+---------------------+--------------------+----------------------+
| Windows Server 2019 | PASS               | PASS                 |
+---------------------+--------------------+----------------------+
| CentOS Stream 8     | PASS               | SKIPPED              |
+---------------------+--------------------+----------------------+
| CentOS Stream 9     | PASS               | SKIPPED              |
+---------------------+--------------------+----------------------+
| Debian 12 (arm)     | PASS               | SKIPPED              |
+---------------------+--------------------+----------------------+
| Fedora 37           | PASS               | SKIPPED              |
+---------------------+--------------------+----------------------+
| RHEL8               | PASS               | SKIPPED              |
+---------------------+--------------------+----------------------+
| Ubuntu 20.04        | PASS               | SKIPPED              |
+---------------------+--------------------+----------------------+
| openSUSE Leap 15    | PASS               | SKIPPED              |
+---------------------+--------------------+----------------------+
| Ubuntu 22.04        | PASS               | SKIPPED              |
+---------------------+--------------------+----------------------+
| Fedora 38           | PASS               | SKIPPED              |
+---------------------+--------------------+----------------------+
| Alpine              | PASS               | SKIPPED              |
+---------------------+--------------------+----------------------+


Windows Server 2022
	Kernel: OS Build 20348.2031
	Compiler: MSVC VS-Preview

FreeBSD 13.2
	Kernel: 13.2
	Compiler: clang 11.3.0

Debian Bullseye
	Kernel: 5.4.0-122-generic
	Compiler: gcc 10.2.1-6

Windows Server 2019
	Kernel: 10.0
	Compiler: clang 14.0 and gcc 8.1.0 (MinGW)

CentOS Stream 8
	Kernel: 4.18.0-240.10.1.el8_3.x86_64
	Compiler: gcc 8.4.1 20200928

CentOS Stream 9
	Kernel: 4.18.0-240.10.1.el8_3.x86_64
	Compiler: gcc 11.3.1 20220421

Debian 12 (arm)
	Kernel: Container Host Kernel
	Compiler: gcc 11

Fedora 37
	Kernel: Depends on container host system
	Compiler: gcc 12.3.1

RHEL8
	Kernel: 4.18.0-240.10.1.el8_3.x86_64
	Compiler: gcc 8.3.1 20191121 (Red Hat 8.3.1-5)

Ubuntu 20.04
	Kernel: 5.4.0-153-generic
	Compiler: gcc 9.4.0-1ubuntu1~20.04.1

openSUSE Leap 15
	Kernel: 4.18.0-240.10.1.el8_3.x86_64
	Compiler: gcc 7.5.0

Ubuntu 22.04
	Kernel: 4.18.0-240.10.1.el8_3.x86_64
	Compiler: gcc 11.3.0

Fedora 38
	Kernel: Depends on container host
	Compiler: gcc 13.1.1

Alpine
	Kernel: 5.4.0-73-generic
	Compiler: gcc (Alpine 10.3.1_git20210424) 10.3.1 20210424

To view detailed results, visit:
https://lab.dpdk.org/results/dashboard/patchsets/29510/

UNH-IOL DPDK Community Lab

To manage your email subscriptions, visit: 
https://lab.dpdk.org/results/dashboard/preferences/subscriptions/