From mboxrd@z Thu Jan  1 00:00:00 1970
Return-Path: <test-report-bounces@dpdk.org>
Received: from mails.dpdk.org (mails.dpdk.org [217.70.189.124])
	by inbox.dpdk.org (Postfix) with ESMTP id A1EC543C90
	for <public@inbox.dpdk.org>; Tue, 12 Mar 2024 11:58:52 +0100 (CET)
Received: from mails.dpdk.org (localhost [127.0.0.1])
	by mails.dpdk.org (Postfix) with ESMTP id 9C4C4402D8;
	Tue, 12 Mar 2024 11:58:52 +0100 (CET)
Received: from mail-ot1-f97.google.com (mail-ot1-f97.google.com
 [209.85.210.97]) by mails.dpdk.org (Postfix) with ESMTP id 094EB40282
 for <test-report@dpdk.org>; Tue, 12 Mar 2024 11:58:52 +0100 (CET)
Received: by mail-ot1-f97.google.com with SMTP id
 46e09a7af769-6e52dfce542so778788a34.1
 for <test-report@dpdk.org>; Tue, 12 Mar 2024 03:58:51 -0700 (PDT)
DKIM-Signature: v=1; a=rsa-sha256; c=relaxed/relaxed;
 d=iol.unh.edu; s=unh-iol; t=1710241131; x=1710845931; darn=dpdk.org;
 h=references:in-reply-to:cc:to:from:subject:message-id:date:from:to
 :cc:subject:date:message-id:reply-to;
 bh=psT1u3mudMTOCrwqcJG0FcoKa4lmR3DDA/w7TNJ4B2w=;
 b=PDjAhKcikL4AwMkgQEJCvxPbnJJAZ3/+YL1c4oyzNJtK4uOJR8Q7cZZ2GszPJj/Sl9
 cHzhtURbOEFISFpxZdRQEVhNW66dsxH4w5+usAgU91ffFZzOcrxnl8eMjKXjDy9ceIji
 nzDrzg8PG3xTPyt4FbEwqq54XFuEPXgN+68V0=
X-Google-DKIM-Signature: v=1; a=rsa-sha256; c=relaxed/relaxed;
 d=1e100.net; s=20230601; t=1710241131; x=1710845931;
 h=references:in-reply-to:cc:to:from:subject:message-id:date
 :x-gm-message-state:from:to:cc:subject:date:message-id:reply-to;
 bh=psT1u3mudMTOCrwqcJG0FcoKa4lmR3DDA/w7TNJ4B2w=;
 b=Cz9C5s3FLUY/LoqcjTm6ol5w92F8CUDokiuFc+yAguiQwPFGWuMnsodm8cOiuUI3vh
 WwHklM8zd6m3M4DjY2mI3XcZ9cWMxrrEr6QsbGVLMA2B0Ebxgn87xGKE7D7ss7HGL2ml
 cd1Q1bQrUFTSBm4+kPltvy3SaN5TNQJKpu4wPMmuQxGY4EDBsBYQk7gee6JbkTz1e5Mr
 j8YN1B2kjcw451dhemaDeVuk10FGCOC3FwxHhpH+mbiz+nKxMf5pS81xPtnZU6q7vZK1
 GR2iXGqGskKi7B5g9WLarTsqsrpHWRApnxp94T4V73d2nt4k4PNyjtjwjL0YvgGwXBAM
 NPMw==
X-Gm-Message-State: AOJu0Yxajl0JWJc1UpeeftxTr3OPQYfCilKQ+glpTQw4qHPtvPxq5SoC
 fFcJcq6qvMDFdJbixqfrXUXjDyqI8jyCNnlGuTie2d6gp0fSHz7xTw0vZuURMQxBJoG6yZATBBx
 DUcM/MlF174HF0fHEu/paotiFPOxQf25KK1kZhaGv
X-Google-Smtp-Source: AGHT+IFAjGhh8ed8ZuzTxyId3P+M1J10stP1hnP1NduDhCEOLC9JrvvXoHMVcy6VbRYWOrSqHRRZcZLx/Wfc
X-Received: by 2002:a9d:4d85:0:b0:6e4:e908:405f with SMTP id
 u5-20020a9d4d85000000b006e4e908405fmr3299226otk.10.1710241131284; 
 Tue, 12 Mar 2024 03:58:51 -0700 (PDT)
Received: from postal.iol.unh.edu (postal.iol.unh.edu. [132.177.123.84])
 by smtp-relay.gmail.com with ESMTPS id
 s36-20020a0568302aa400b006e4f08ad900sm518386otu.14.2024.03.12.03.58.51
 (version=TLS1_2 cipher=ECDHE-ECDSA-AES128-GCM-SHA256 bits=128/128);
 Tue, 12 Mar 2024 03:58:51 -0700 (PDT)
X-Relaying-Domain: iol.unh.edu
Date: Tue, 12 Mar 2024 03:58:51 -0700 (PDT)
Message-ID: <65f0356b.050a0220.5153b.e127SMTPIN_ADDED_MISSING@mx.google.com>
Received: from [172.17.0.7] (unknown [172.18.0.217])
 by postal.iol.unh.edu (Postfix) with ESMTP id BD7C16052471;
 Tue, 12 Mar 2024 06:58:50 -0400 (EDT)
Subject: |SUCCESS| pw138202-138203 [PATCH] [3/3] app/testpmd: support setting
From: dpdklab@iol.unh.edu
To: Test Report <test-report@dpdk.org>
Cc: dpdk-test-reports@iol.unh.edu
In-Reply-To: <20240312075238.3319480-4-huangdengdui@huawei.com>
References: <20240312075238.3319480-4-huangdengdui@huawei.com>
Content-Type: text/plain
X-BeenThere: test-report@dpdk.org
X-Mailman-Version: 2.1.29
Precedence: list
List-Id: automatic DPDK test reports <test-report.dpdk.org>
List-Unsubscribe: <https://mails.dpdk.org/options/test-report>,
 <mailto:test-report-request@dpdk.org?subject=unsubscribe>
List-Archive: <http://mails.dpdk.org/archives/test-report/>
List-Post: <mailto:test-report@dpdk.org>
List-Help: <mailto:test-report-request@dpdk.org?subject=help>
List-Subscribe: <https://mails.dpdk.org/listinfo/test-report>,
 <mailto:test-report-request@dpdk.org?subject=subscribe>
Errors-To: test-report-bounces@dpdk.org

Test-Label: iol-compile-arm64-testing
Test-Status: SUCCESS
http://dpdk.org/patch/138203

_Testing PASS_

Submitter: Dengdui Huang <huangdengdui@huawei.com>
Date: Tuesday, March 12 2024 07:52:38 
DPDK git baseline: Repo:dpdk
  Branch: master
  CommitID:e3faaed01e14ffdfe8f4190030540ed874184b55

138202-138203 --> testing pass

Test environment and result as below:

+----------------------------------------+--------------------+
|              Environment               | dpdk_meson_compile |
+========================================+====================+
| Ubuntu 20.04 ARM SVE                   | PASS               |
+----------------------------------------+--------------------+
| Debian 12 with MUSDK                   | PASS               |
+----------------------------------------+--------------------+
| Ubuntu 20.04 aarch32 GCC Cross Compile | PASS               |
+----------------------------------------+--------------------+
| Fedora 37 (ARM)                        | PASS               |
+----------------------------------------+--------------------+
| Ubuntu 20.04 ARM Clang Cross Compile   | PASS               |
+----------------------------------------+--------------------+


Ubuntu 20.04 ARM SVE
	Kernel: 5.4.0-80-generic
	Compiler: gcc 10.3.0 (Ubuntu 10.3.0-1ubuntu1~20.04)

Debian 12 with MUSDK
	Kernel: Container Host Kernel
	Compiler: gcc 12

Ubuntu 20.04 aarch32 GCC Cross Compile
	Kernel: 5.4.0-72-generic
	Compiler: gcc 9.3.0

Fedora 37 (ARM)
	Kernel: Depends on container host
	Compiler: gcc 12.3.1

Ubuntu 20.04 ARM Clang Cross Compile
	Kernel: 5.4.0-72-generic
	Compiler: clang version 10.0.0-4ubuntu1

To view detailed results, visit:
https://lab.dpdk.org/results/dashboard/patchsets/29510/

UNH-IOL DPDK Community Lab

To manage your email subscriptions, visit: 
https://lab.dpdk.org/results/dashboard/preferences/subscriptions/