From mboxrd@z Thu Jan  1 00:00:00 1970
Return-Path: <test-report-bounces@dpdk.org>
Received: from mails.dpdk.org (mails.dpdk.org [217.70.189.124])
	by inbox.dpdk.org (Postfix) with ESMTP id 4291F43C90
	for <public@inbox.dpdk.org>; Tue, 12 Mar 2024 12:04:10 +0100 (CET)
Received: from mails.dpdk.org (localhost [127.0.0.1])
	by mails.dpdk.org (Postfix) with ESMTP id 3C7CA402D8;
	Tue, 12 Mar 2024 12:04:10 +0100 (CET)
Received: from mail-il1-f228.google.com (mail-il1-f228.google.com
 [209.85.166.228])
 by mails.dpdk.org (Postfix) with ESMTP id 030B440282
 for <test-report@dpdk.org>; Tue, 12 Mar 2024 12:04:09 +0100 (CET)
Received: by mail-il1-f228.google.com with SMTP id
 e9e14a558f8ab-36660a70140so6292915ab.2
 for <test-report@dpdk.org>; Tue, 12 Mar 2024 04:04:08 -0700 (PDT)
DKIM-Signature: v=1; a=rsa-sha256; c=relaxed/relaxed;
 d=iol.unh.edu; s=unh-iol; t=1710241448; x=1710846248; darn=dpdk.org;
 h=references:in-reply-to:cc:to:from:subject:message-id:date:from:to
 :cc:subject:date:message-id:reply-to;
 bh=iV6n27ifZjB3PEbFC2LR1BWZXL4TrH7XxIrTHIESYwc=;
 b=ZMgkXNj00r/YEttbE2en0mxBijY0nUp92dwWa5t4qRbdqc81fdmoLJm9k1g7llbr8W
 svM0xQ20nvLaeUqAsAa9S5nrVQvE2NEkCwVaWANv5CBrGp97StafuhEw+A9ViCb6g4Fl
 sWrs5rxNPLYNNqU3ckPdic1tV14HoYmGcI+4g=
X-Google-DKIM-Signature: v=1; a=rsa-sha256; c=relaxed/relaxed;
 d=1e100.net; s=20230601; t=1710241448; x=1710846248;
 h=references:in-reply-to:cc:to:from:subject:message-id:date
 :x-gm-message-state:from:to:cc:subject:date:message-id:reply-to;
 bh=iV6n27ifZjB3PEbFC2LR1BWZXL4TrH7XxIrTHIESYwc=;
 b=puThEXzhXs5THQChj2BrfeLu9vKV84OiY4ysAPSoWXkBnp7aAeMWvL9l4+Y44AaV5y
 ZVbRWps00oKwUHoEATcxOlb9fvfbPAuuUT0ELRhddLkF/0rWAmbKuI5geDybBn8yn5HB
 YNy/yPyzmk6tQjnmpdgsm4qlFgJpFVYBG+OqvMTuOzxCvq82BYnSqBWG3d7eSoOXhKGC
 LTFn7K337eyk735j1tGnWcdV0OnjCYphEDBZCsGBP54QsvmfQ8Swu+DTNr3Su01RKaUo
 4rYvrG5eFYvrXZclkqHSZYACBfso9G0EECNezJWg5yjToEuKabA8Xj/LP0Jmd1IwRq9x
 moBg==
X-Gm-Message-State: AOJu0Yz2kbyPnQn8JPu6i16kB0z7/j2QtxyHHvUflERQ2vHV2oEiqqHC
 VkyFTade76cys6tkb0zxuLzCN+7Ibe6Z6BXRuUU3j1HusC2Jlma1I7OgMG88xkUWEjj2QMrcRxV
 8oLqoVf9+KsUNg29q8wWRfzC5tMbpXgIdLTjl1geCvJnnJ9vo7oMB6N9c
X-Google-Smtp-Source: AGHT+IGjxTDpikgVkNeWnOfya6TVXFqtc4GjgSuzODtoFqQ27rZQaa4nDs57Lb7bHrvGEG4JWj63dQayoRB6
X-Received: by 2002:a92:ccca:0:b0:366:42c9:ef5e with SMTP id
 u10-20020a92ccca000000b0036642c9ef5emr7667786ilq.11.1710241448443; 
 Tue, 12 Mar 2024 04:04:08 -0700 (PDT)
Received: from postal.iol.unh.edu (postal.iol.unh.edu.
 [2606:4100:3880:1234::84]) by smtp-relay.gmail.com with ESMTPS id
 a28-20020a631a5c000000b005dc857069fdsm367683pgm.12.2024.03.12.04.04.08
 (version=TLS1_2 cipher=ECDHE-ECDSA-AES128-GCM-SHA256 bits=128/128);
 Tue, 12 Mar 2024 04:04:08 -0700 (PDT)
X-Relaying-Domain: iol.unh.edu
Date: Tue, 12 Mar 2024 04:04:08 -0700 (PDT)
Message-ID: <65f036a8.630a0220.b1777.702bSMTPIN_ADDED_MISSING@mx.google.com>
Received: from [172.17.0.6] (unknown [172.18.0.217])
 by postal.iol.unh.edu (Postfix) with ESMTP id A6BBD6052471;
 Tue, 12 Mar 2024 07:04:07 -0400 (EDT)
Subject: |SUCCESS| pw138209 [PATCH] [v2,1/1] net/mana: add vlan tagging suppo
From: dpdklab@iol.unh.edu
To: Test Report <test-report@dpdk.org>
Cc: dpdk-test-reports@iol.unh.edu
In-Reply-To: <20240312093611.359025-1-weh@linux.microsoft.com>
References: <20240312093611.359025-1-weh@linux.microsoft.com>
Content-Type: text/plain
X-BeenThere: test-report@dpdk.org
X-Mailman-Version: 2.1.29
Precedence: list
List-Id: automatic DPDK test reports <test-report.dpdk.org>
List-Unsubscribe: <https://mails.dpdk.org/options/test-report>,
 <mailto:test-report-request@dpdk.org?subject=unsubscribe>
List-Archive: <http://mails.dpdk.org/archives/test-report/>
List-Post: <mailto:test-report@dpdk.org>
List-Help: <mailto:test-report-request@dpdk.org?subject=help>
List-Subscribe: <https://mails.dpdk.org/listinfo/test-report>,
 <mailto:test-report-request@dpdk.org?subject=subscribe>
Errors-To: test-report-bounces@dpdk.org

Test-Label: iol-abi-testing
Test-Status: SUCCESS
http://dpdk.org/patch/138209

_Testing PASS_

Submitter: Wei Hu <weh@linux.microsoft.com>
Date: Tuesday, March 12 2024 09:36:11 
DPDK git baseline: Repo:dpdk
  Branch: master
  CommitID:e3faaed01e14ffdfe8f4190030540ed874184b55

138209 --> testing pass

Test environment and result as below:

+------------------+----------+
|   Environment    | abi_test |
+==================+==========+
| Ubuntu 22.04     | PASS     |
+------------------+----------+
| openSUSE Leap 15 | PASS     |
+------------------+----------+
| Debian Bullseye  | PASS     |
+------------------+----------+
| Fedora 37        | PASS     |
+------------------+----------+
| Debian 12 (arm)  | PASS     |
+------------------+----------+
| Fedora 38        | PASS     |
+------------------+----------+
| CentOS Stream 9  | PASS     |
+------------------+----------+
| CentOS Stream 8  | PASS     |
+------------------+----------+


Ubuntu 22.04
	Kernel: 4.18.0-240.10.1.el8_3.x86_64
	Compiler: gcc 11.3.0

openSUSE Leap 15
	Kernel: 4.18.0-240.10.1.el8_3.x86_64
	Compiler: gcc 7.5.0

Debian Bullseye
	Kernel: 5.4.0-122-generic
	Compiler: gcc 10.2.1-6

Fedora 37
	Kernel: Depends on container host system
	Compiler: gcc 12.3.1

Debian 12 (arm)
	Kernel: Container Host Kernel
	Compiler: gcc 11

Fedora 38
	Kernel: Depends on container host
	Compiler: gcc 13.1.1

CentOS Stream 9
	Kernel: 4.18.0-240.10.1.el8_3.x86_64
	Compiler: gcc 11.3.1 20220421

CentOS Stream 8
	Kernel: 4.18.0-240.10.1.el8_3.x86_64
	Compiler: gcc 8.4.1 20200928

To view detailed results, visit:
https://lab.dpdk.org/results/dashboard/patchsets/29514/

UNH-IOL DPDK Community Lab

To manage your email subscriptions, visit: 
https://lab.dpdk.org/results/dashboard/preferences/subscriptions/