From mboxrd@z Thu Jan  1 00:00:00 1970
Return-Path: <test-report-bounces@dpdk.org>
Received: from mails.dpdk.org (mails.dpdk.org [217.70.189.124])
	by inbox.dpdk.org (Postfix) with ESMTP id 6464F43C90
	for <public@inbox.dpdk.org>; Tue, 12 Mar 2024 12:04:45 +0100 (CET)
Received: from mails.dpdk.org (localhost [127.0.0.1])
	by mails.dpdk.org (Postfix) with ESMTP id 5ECBB402D8;
	Tue, 12 Mar 2024 12:04:45 +0100 (CET)
Received: from mail-pg1-f226.google.com (mail-pg1-f226.google.com
 [209.85.215.226])
 by mails.dpdk.org (Postfix) with ESMTP id 5016440282
 for <test-report@dpdk.org>; Tue, 12 Mar 2024 12:04:44 +0100 (CET)
Received: by mail-pg1-f226.google.com with SMTP id
 41be03b00d2f7-5d8ddbac4fbso4549315a12.0
 for <test-report@dpdk.org>; Tue, 12 Mar 2024 04:04:44 -0700 (PDT)
DKIM-Signature: v=1; a=rsa-sha256; c=relaxed/relaxed;
 d=iol.unh.edu; s=unh-iol; t=1710241483; x=1710846283; darn=dpdk.org;
 h=references:in-reply-to:cc:to:from:subject:message-id:date:from:to
 :cc:subject:date:message-id:reply-to;
 bh=JSV3et11sUp+T/+Qn+u2OPUln6bvxqhVDaBbbFKb9Eg=;
 b=Pt4/lp9hawd4Kf5vcNZDt2fI+0ErmPggyHdZoNr0XwVV1K5ZBTvodGhrrsRNp85uVi
 N/LmVfur7T2cgEupKSm/LsxK3ktUG7d5wpPBlea1LvPweiWlRY0jcgU4aVjgV+usNkLj
 5L0enHdPbuFFD9zcXgDbE4SSQJSv9sTYAfk8Q=
X-Google-DKIM-Signature: v=1; a=rsa-sha256; c=relaxed/relaxed;
 d=1e100.net; s=20230601; t=1710241483; x=1710846283;
 h=references:in-reply-to:cc:to:from:subject:message-id:date
 :x-gm-message-state:from:to:cc:subject:date:message-id:reply-to;
 bh=JSV3et11sUp+T/+Qn+u2OPUln6bvxqhVDaBbbFKb9Eg=;
 b=IA7LZB+djFOqt1sCkay+oHEc9ysJ1JbfpfvjVZ8t3cESnIGjcKLe2FSmctwlwBa+rI
 pixy06iF3KszWujh7avYBymLvp798rEtvlgM2zOjvzKEeOemYPr6UFKkHUIJ40ylL+Mm
 QiTQoPZrn+cUIp9LRo75xcngXIM2nqT2ZoG+ksH2G833hl7kXehPG4vMwGjcMHvjdTl4
 UjwQ14xS0BzCtE+BPU3AtYTCof4btcwbZqCg6md6is6S3y79yr1558xsgTY4RRAbSAiK
 hpgi6/ZfpBQEv87XXMMlAM/Vjf/4aMJrxe/2Dtwp2gcw1Krsa7QDspJ2aGmz+TEvdpds
 IAmQ==
X-Gm-Message-State: AOJu0YzJYHKE02BI3hE5Ncwdviz2pknk+AHmSUICD6beHdK1glHAW8MV
 onN07fz3KQlygfcsrpN3tHHhW/TfXEsnUwJbSeBzFL8EuKKXLYif8qVw/7jaWV63Z4GTyOZ2x4y
 aE9eahlF6y/+k3T4CVYzNsXIIaHQGvKOEADHuxVHB+rR3S/RNmpksBYmU
X-Google-Smtp-Source: AGHT+IG8f27d0zY1C9A1FCpVT2+WpupBxy+rgIZHGInXb1yoh4RAjN50KhenxxEmt8KVi0327J4cVs3faTMu
X-Received: by 2002:a05:6a20:9f99:b0:1a1:7df5:ee5a with SMTP id
 mm25-20020a056a209f9900b001a17df5ee5amr13461112pzb.35.1710241483520; 
 Tue, 12 Mar 2024 04:04:43 -0700 (PDT)
Received: from postal.iol.unh.edu (postal.iol.unh.edu.
 [2606:4100:3880:1234::84]) by smtp-relay.gmail.com with ESMTPS id
 f14-20020a056a00228e00b006e698eaa3fcsm228260pfe.3.2024.03.12.04.04.43
 (version=TLS1_2 cipher=ECDHE-ECDSA-AES128-GCM-SHA256 bits=128/128);
 Tue, 12 Mar 2024 04:04:43 -0700 (PDT)
X-Relaying-Domain: iol.unh.edu
Date: Tue, 12 Mar 2024 04:04:43 -0700 (PDT)
Message-ID: <65f036cb.050a0220.4330a.c950SMTPIN_ADDED_MISSING@mx.google.com>
Received: from [172.17.0.6] (unknown [172.18.0.217])
 by postal.iol.unh.edu (Postfix) with ESMTP id B44F36052471;
 Tue, 12 Mar 2024 07:04:42 -0400 (EDT)
Subject: |SUCCESS| pw138209 [PATCH] [v2,1/1] net/mana: add vlan tagging suppo
From: dpdklab@iol.unh.edu
To: Test Report <test-report@dpdk.org>
Cc: dpdk-test-reports@iol.unh.edu
In-Reply-To: <20240312093611.359025-1-weh@linux.microsoft.com>
References: <20240312093611.359025-1-weh@linux.microsoft.com>
Content-Type: text/plain
X-BeenThere: test-report@dpdk.org
X-Mailman-Version: 2.1.29
Precedence: list
List-Id: automatic DPDK test reports <test-report.dpdk.org>
List-Unsubscribe: <https://mails.dpdk.org/options/test-report>,
 <mailto:test-report-request@dpdk.org?subject=unsubscribe>
List-Archive: <http://mails.dpdk.org/archives/test-report/>
List-Post: <mailto:test-report@dpdk.org>
List-Help: <mailto:test-report-request@dpdk.org?subject=help>
List-Subscribe: <https://mails.dpdk.org/listinfo/test-report>,
 <mailto:test-report-request@dpdk.org?subject=subscribe>
Errors-To: test-report-bounces@dpdk.org

Test-Label: iol-compile-amd64-testing
Test-Status: SUCCESS
http://dpdk.org/patch/138209

_Testing PASS_

Submitter: Wei Hu <weh@linux.microsoft.com>
Date: Tuesday, March 12 2024 09:36:11 
DPDK git baseline: Repo:dpdk
  Branch: master
  CommitID:e3faaed01e14ffdfe8f4190030540ed874184b55

138209 --> testing pass

Test environment and result as below:

+---------------------+--------------------+
|     Environment     | dpdk_meson_compile |
+=====================+====================+
| Windows Server 2022 | PASS               |
+---------------------+--------------------+
| Debian 12 (arm)     | PASS               |
+---------------------+--------------------+
| Debian Bullseye     | PASS               |
+---------------------+--------------------+
| CentOS Stream 9     | PASS               |
+---------------------+--------------------+
| FreeBSD 13.2        | PASS               |
+---------------------+--------------------+
| CentOS Stream 8     | PASS               |
+---------------------+--------------------+
| Fedora 38           | PASS               |
+---------------------+--------------------+
| Windows Server 2019 | PASS               |
+---------------------+--------------------+
| Fedora 37           | PASS               |
+---------------------+--------------------+
| Ubuntu 22.04        | PASS               |
+---------------------+--------------------+
| RHEL8               | PASS               |
+---------------------+--------------------+
| Ubuntu 20.04        | PASS               |
+---------------------+--------------------+
| openSUSE Leap 15    | PASS               |
+---------------------+--------------------+


Windows Server 2022
	Kernel: OS Build 20348.2031
	Compiler: MSVC VS-Preview

Debian 12 (arm)
	Kernel: Container Host Kernel
	Compiler: gcc 11

Debian Bullseye
	Kernel: 5.4.0-122-generic
	Compiler: gcc 10.2.1-6

CentOS Stream 9
	Kernel: 4.18.0-240.10.1.el8_3.x86_64
	Compiler: gcc 11.3.1 20220421

FreeBSD 13.2
	Kernel: 13.2
	Compiler: clang 11.3.0

CentOS Stream 8
	Kernel: 4.18.0-240.10.1.el8_3.x86_64
	Compiler: gcc 8.4.1 20200928

Fedora 38
	Kernel: Depends on container host
	Compiler: gcc 13.1.1

Windows Server 2019
	Kernel: 10.0
	Compiler: clang 14.0 and gcc 8.1.0 (MinGW)

Fedora 37
	Kernel: Depends on container host system
	Compiler: gcc 12.3.1

Ubuntu 22.04
	Kernel: 4.18.0-240.10.1.el8_3.x86_64
	Compiler: gcc 11.3.0

RHEL8
	Kernel: 4.18.0-240.10.1.el8_3.x86_64
	Compiler: gcc 8.3.1 20191121 (Red Hat 8.3.1-5)

Ubuntu 20.04
	Kernel: 5.4.0-153-generic
	Compiler: gcc 9.4.0-1ubuntu1~20.04.1

openSUSE Leap 15
	Kernel: 4.18.0-240.10.1.el8_3.x86_64
	Compiler: gcc 7.5.0

To view detailed results, visit:
https://lab.dpdk.org/results/dashboard/patchsets/29514/

UNH-IOL DPDK Community Lab

To manage your email subscriptions, visit: 
https://lab.dpdk.org/results/dashboard/preferences/subscriptions/