From mboxrd@z Thu Jan  1 00:00:00 1970
Return-Path: <test-report-bounces@dpdk.org>
Received: from mails.dpdk.org (mails.dpdk.org [217.70.189.124])
	by inbox.dpdk.org (Postfix) with ESMTP id 0769A43C90
	for <public@inbox.dpdk.org>; Tue, 12 Mar 2024 12:09:43 +0100 (CET)
Received: from mails.dpdk.org (localhost [127.0.0.1])
	by mails.dpdk.org (Postfix) with ESMTP id F1519402D8;
	Tue, 12 Mar 2024 12:09:42 +0100 (CET)
Received: from mail-io1-f99.google.com (mail-io1-f99.google.com
 [209.85.166.99]) by mails.dpdk.org (Postfix) with ESMTP id AE4C840282
 for <test-report@dpdk.org>; Tue, 12 Mar 2024 12:09:33 +0100 (CET)
Received: by mail-io1-f99.google.com with SMTP id
 ca18e2360f4ac-7c8beb305dbso27370339f.2
 for <test-report@dpdk.org>; Tue, 12 Mar 2024 04:09:33 -0700 (PDT)
DKIM-Signature: v=1; a=rsa-sha256; c=relaxed/relaxed;
 d=iol.unh.edu; s=unh-iol; t=1710241773; x=1710846573; darn=dpdk.org;
 h=references:in-reply-to:cc:to:from:subject:message-id:date:from:to
 :cc:subject:date:message-id:reply-to;
 bh=9Afdijn2toQRmO4NzJMQ52QVEcIMmFIoHddQWWKZjlo=;
 b=erKlbRRNAElIlEpUU8QCLTbBVegP8Yysogg0zVTqbn4lJ/Ld9jf93r98Akb1hTwHF0
 IjE/qZgpw48StJcTOFArNWu8q3uP03rCLhmmAflky9WC62eOIUdkoyz6ZqJcXuboHffP
 52IyY8pmKCy76GZdGu6i3wSKjjXyXYU5KC40w=
X-Google-DKIM-Signature: v=1; a=rsa-sha256; c=relaxed/relaxed;
 d=1e100.net; s=20230601; t=1710241773; x=1710846573;
 h=references:in-reply-to:cc:to:from:subject:message-id:date
 :x-gm-message-state:from:to:cc:subject:date:message-id:reply-to;
 bh=9Afdijn2toQRmO4NzJMQ52QVEcIMmFIoHddQWWKZjlo=;
 b=ZH66OYI/Lwx698gmtFwCT2bXOiafixBl99dYuDFTJvc3T8hmkmyYL8D7Io7DhzD9kr
 tS+SUtblxOIihaLcwbUeMjdfNEqb+XdsEaKPXCuqiobucRyMdK6oZvSYQOOzEsi6A/Pm
 U5GnWY22jQi+K62YEiYMx29C4UuIwWIhxl9BW6HhZPWN8JWs6mQJ0lW6qPgUJ687chN8
 u3fBECz9MwvnbqQC0L5LbuIyC2PIVVVRPILCisZfqRymAUkek+CbWqCaIWqCB82ins9k
 1WAtMxaWU4HBCNHkDu3Mjj4yyqp5bq/Q5oq4TSxhOGZ9dnsqYL1YI8B/9bXP+wwB4VF5
 5mCw==
X-Gm-Message-State: AOJu0YxHYQ5omcaYem3GEy0uILeT8IG+ra4RU8P88F52GL8niTDcjtn4
 8agWAGbVl3EmVri9spCpNP7b5t8293JLF1jGU7QHmqwleuZXNd4P60wnbbZS0fL7yQ4Y3fEhrw3
 cPleoXd7MBuCvJlDjIUqYbKjSWbGCkCqkTjVdh20o
X-Google-Smtp-Source: AGHT+IHZxJI6gEYcmcWTDpV5q8y7Z0mKHaVAjoCqEXjUVNuxFBTa3cMdypopY5LlrsR1NtuS08dlfuz7TO4M
X-Received: by 2002:a6b:ee04:0:b0:7c8:6303:1bd4 with SMTP id
 i4-20020a6bee04000000b007c863031bd4mr10202563ioh.6.1710241773098; 
 Tue, 12 Mar 2024 04:09:33 -0700 (PDT)
Received: from postal.iol.unh.edu (postal.iol.unh.edu. [132.177.123.84])
 by smtp-relay.gmail.com with ESMTPS id
 gh2-20020a056638698200b00474a38d37fbsm193115jab.19.2024.03.12.04.09.33
 (version=TLS1_2 cipher=ECDHE-ECDSA-AES128-GCM-SHA256 bits=128/128);
 Tue, 12 Mar 2024 04:09:33 -0700 (PDT)
X-Relaying-Domain: iol.unh.edu
Date: Tue, 12 Mar 2024 04:09:33 -0700 (PDT)
Message-ID: <65f037ed.050a0220.f54a0.b9d7SMTPIN_ADDED_MISSING@mx.google.com>
Received: from [172.17.0.7] (unknown [172.18.0.217])
 by postal.iol.unh.edu (Postfix) with ESMTP id 9C98F6052471;
 Tue, 12 Mar 2024 07:09:32 -0400 (EDT)
Subject: |SUCCESS| pw138209 [PATCH] [v2,1/1] net/mana: add vlan tagging suppo
From: dpdklab@iol.unh.edu
To: Test Report <test-report@dpdk.org>
Cc: dpdk-test-reports@iol.unh.edu
In-Reply-To: <20240312093611.359025-1-weh@linux.microsoft.com>
References: <20240312093611.359025-1-weh@linux.microsoft.com>
Content-Type: text/plain
X-BeenThere: test-report@dpdk.org
X-Mailman-Version: 2.1.29
Precedence: list
List-Id: automatic DPDK test reports <test-report.dpdk.org>
List-Unsubscribe: <https://mails.dpdk.org/options/test-report>,
 <mailto:test-report-request@dpdk.org?subject=unsubscribe>
List-Archive: <http://mails.dpdk.org/archives/test-report/>
List-Post: <mailto:test-report@dpdk.org>
List-Help: <mailto:test-report-request@dpdk.org?subject=help>
List-Subscribe: <https://mails.dpdk.org/listinfo/test-report>,
 <mailto:test-report-request@dpdk.org?subject=subscribe>
Errors-To: test-report-bounces@dpdk.org

Test-Label: iol-compile-arm64-testing
Test-Status: SUCCESS
http://dpdk.org/patch/138209

_Testing PASS_

Submitter: Wei Hu <weh@linux.microsoft.com>
Date: Tuesday, March 12 2024 09:36:11 
DPDK git baseline: Repo:dpdk
  Branch: master
  CommitID:e3faaed01e14ffdfe8f4190030540ed874184b55

138209 --> testing pass

Test environment and result as below:

+----------------------------------------+--------------------+
|              Environment               | dpdk_meson_compile |
+========================================+====================+
| Ubuntu 20.04 ARM SVE                   | PASS               |
+----------------------------------------+--------------------+
| Ubuntu 20.04 aarch32 GCC Cross Compile | PASS               |
+----------------------------------------+--------------------+
| Ubuntu 20.04 ARM Clang Cross Compile   | PASS               |
+----------------------------------------+--------------------+
| Ubuntu 20.04 ARM GCC Cross Compile     | PASS               |
+----------------------------------------+--------------------+
| Fedora 37 (ARM)                        | PASS               |
+----------------------------------------+--------------------+
| Debian 11 (Buster) (ARM)               | PASS               |
+----------------------------------------+--------------------+
| CentOS Stream 9 (ARM)                  | PASS               |
+----------------------------------------+--------------------+
| Ubuntu 20.04 (ARM)                     | PASS               |
+----------------------------------------+--------------------+
| Debian 12 (arm)                        | PASS               |
+----------------------------------------+--------------------+
| Fedora 38 (ARM)                        | PASS               |
+----------------------------------------+--------------------+
| Debian 12 with MUSDK                   | PASS               |
+----------------------------------------+--------------------+


Ubuntu 20.04 ARM SVE
	Kernel: 5.4.0-80-generic
	Compiler: gcc 10.3.0 (Ubuntu 10.3.0-1ubuntu1~20.04)

Ubuntu 20.04 aarch32 GCC Cross Compile
	Kernel: 5.4.0-72-generic
	Compiler: gcc 9.3.0

Ubuntu 20.04 ARM Clang Cross Compile
	Kernel: 5.4.0-72-generic
	Compiler: clang version 10.0.0-4ubuntu1

Ubuntu 20.04 ARM GCC Cross Compile
	Kernel: 5.4.0-72-generic
	Compiler: aarch64-linux-gnu-gcc (Ubuntu 9.3.0-17ubuntu1~20.04) 9.3.0

Fedora 37 (ARM)
	Kernel: Depends on container host
	Compiler: gcc 12.3.1

Debian 11 (Buster) (ARM)
	Kernel: Container Host Kernel
	Compiler: gcc 10.2.1

CentOS Stream 9 (ARM)
	Kernel: Container Host Kernel
	Compiler: gcc 11.3.1

Ubuntu 20.04 (ARM)
	Kernel: Container Host Kernel
	Compiler: gcc 9.4.0

Debian 12 (arm)
	Kernel: Container Host Kernel
	Compiler: gcc 11

Fedora 38 (ARM)
	Kernel: Depends on container host
	Compiler: gcc 13.1.1

Debian 12 with MUSDK
	Kernel: Container Host Kernel
	Compiler: gcc 12

To view detailed results, visit:
https://lab.dpdk.org/results/dashboard/patchsets/29514/

UNH-IOL DPDK Community Lab

To manage your email subscriptions, visit: 
https://lab.dpdk.org/results/dashboard/preferences/subscriptions/