From mboxrd@z Thu Jan  1 00:00:00 1970
Return-Path: <test-report-bounces@dpdk.org>
Received: from mails.dpdk.org (mails.dpdk.org [217.70.189.124])
	by inbox.dpdk.org (Postfix) with ESMTP id BD19143C90
	for <public@inbox.dpdk.org>; Tue, 12 Mar 2024 12:15:13 +0100 (CET)
Received: from mails.dpdk.org (localhost [127.0.0.1])
	by mails.dpdk.org (Postfix) with ESMTP id B8D32402D8;
	Tue, 12 Mar 2024 12:15:13 +0100 (CET)
Received: from mail-oo1-f98.google.com (mail-oo1-f98.google.com
 [209.85.161.98]) by mails.dpdk.org (Postfix) with ESMTP id A032340282
 for <test-report@dpdk.org>; Tue, 12 Mar 2024 12:15:07 +0100 (CET)
Received: by mail-oo1-f98.google.com with SMTP id
 006d021491bc7-5a1fa3cf5eeso1091933eaf.3
 for <test-report@dpdk.org>; Tue, 12 Mar 2024 04:15:07 -0700 (PDT)
DKIM-Signature: v=1; a=rsa-sha256; c=relaxed/relaxed;
 d=iol.unh.edu; s=unh-iol; t=1710242107; x=1710846907; darn=dpdk.org;
 h=references:in-reply-to:cc:to:from:subject:message-id:date:from:to
 :cc:subject:date:message-id:reply-to;
 bh=kkRhomP6dQHGzsqAuLevLYdZjkZfx8u/cLSFGHQDP0I=;
 b=LQJJpYpFUrgtMBSLAAyNJadaincf2gYPVhfh8k183A2xE8ANoCN63qwaEtOzpTzTnh
 ubdH2lW2c5DUL4J36SJPsWicA9sMgbsjTVkG73oXIXnfR5Gw1/0GGMqbTSqc69/82Bie
 g9MdjyzvXVX69CaeDzxqAurIY1nD9B5niZ6cs=
X-Google-DKIM-Signature: v=1; a=rsa-sha256; c=relaxed/relaxed;
 d=1e100.net; s=20230601; t=1710242107; x=1710846907;
 h=references:in-reply-to:cc:to:from:subject:message-id:date
 :x-gm-message-state:from:to:cc:subject:date:message-id:reply-to;
 bh=kkRhomP6dQHGzsqAuLevLYdZjkZfx8u/cLSFGHQDP0I=;
 b=jplPrPiUN6QZM9h1QEdCTPrCHBN8oLFrgWlXElLvYw41SGfaEHgiKt0WMAOgznkvVl
 e7LrPK+qw/wuGyzYaXaMKecLzAOPARm5c91tIYBkiaMAMQZjnTRJA0gyXSSHexIDgs8a
 dAJ7Ltrm143VK6G7Ydk0wZxA53kecl9s2RAk9O8wptgT7mycWo/ComfVpdM0D4v8qL1H
 Ux43amqC/YcpKXhqdJV4+YsmTWFjxJMVFbpL3/PGxbp2A0QQnI73e++Jy6kqkSzjFzkj
 MG+cFB6RLDDffx2OFv7pg8mF4zRsZ4u+aaiiNKlJFv/K7do0tI17+I9+xK1hSin7CLhd
 Kiug==
X-Gm-Message-State: AOJu0YyatzcCb5L9XPTdw3zCtzyZndQL+6pYRKCx35ZuNLFNCjIpYGON
 Nz34Ove9tHv9vANSn4nueX0MVnnicf7hXoGWb7gU7IwP3xnIX4btyVFqlbogF2LLxwyPHTFpTML
 QktUJAnC4zQfjqmuKq7h+BqeFdMjNpdbZl1LwJD+FQT9B+IAGgVqUoYto
X-Google-Smtp-Source: AGHT+IFykmSCCBOKT8IPu4lmq+x0b1YAnqfNwR/2CTAr9UsxwhOc0ONv2vLmPkve+bBcGcZqwGfOeLKA5064
X-Received: by 2002:a4a:9b5c:0:b0:5a1:a762:12af with SMTP id
 e28-20020a4a9b5c000000b005a1a76212afmr3169118ook.3.1710242107056; 
 Tue, 12 Mar 2024 04:15:07 -0700 (PDT)
Received: from postal.iol.unh.edu (postal.iol.unh.edu.
 [2606:4100:3880:1234::84]) by smtp-relay.gmail.com with ESMTPS id
 r64-20020a4a4e43000000b0059a92504380sm439849ooa.15.2024.03.12.04.15.06
 (version=TLS1_2 cipher=ECDHE-ECDSA-AES128-GCM-SHA256 bits=128/128);
 Tue, 12 Mar 2024 04:15:07 -0700 (PDT)
X-Relaying-Domain: iol.unh.edu
Date: Tue, 12 Mar 2024 04:15:07 -0700 (PDT)
Message-ID: <65f0393b.4a0a0220.56195.b72dSMTPIN_ADDED_MISSING@mx.google.com>
Received: from [172.17.0.6] (unknown [172.18.0.217])
 by postal.iol.unh.edu (Postfix) with ESMTP id 3AE8E6052471;
 Tue, 12 Mar 2024 07:15:06 -0400 (EDT)
Subject: |SUCCESS| pw138209 [PATCH] [v2,1/1] net/mana: add vlan tagging suppo
From: dpdklab@iol.unh.edu
To: Test Report <test-report@dpdk.org>
Cc: dpdk-test-reports@iol.unh.edu
In-Reply-To: <20240312093611.359025-1-weh@linux.microsoft.com>
References: <20240312093611.359025-1-weh@linux.microsoft.com>
Content-Type: text/plain
X-BeenThere: test-report@dpdk.org
X-Mailman-Version: 2.1.29
Precedence: list
List-Id: automatic DPDK test reports <test-report.dpdk.org>
List-Unsubscribe: <https://mails.dpdk.org/options/test-report>,
 <mailto:test-report-request@dpdk.org?subject=unsubscribe>
List-Archive: <http://mails.dpdk.org/archives/test-report/>
List-Post: <mailto:test-report@dpdk.org>
List-Help: <mailto:test-report-request@dpdk.org?subject=help>
List-Subscribe: <https://mails.dpdk.org/listinfo/test-report>,
 <mailto:test-report-request@dpdk.org?subject=subscribe>
Errors-To: test-report-bounces@dpdk.org

Test-Label: iol-unit-amd64-testing
Test-Status: SUCCESS
http://dpdk.org/patch/138209

_Testing PASS_

Submitter: Wei Hu <weh@linux.microsoft.com>
Date: Tuesday, March 12 2024 09:36:11 
DPDK git baseline: Repo:dpdk
  Branch: master
  CommitID:e3faaed01e14ffdfe8f4190030540ed874184b55

138209 --> testing pass

Test environment and result as below:

+---------------------+----------------+
|     Environment     | dpdk_unit_test |
+=====================+================+
| Debian 12 (arm)     | PASS           |
+---------------------+----------------+
| Debian Bullseye     | PASS           |
+---------------------+----------------+
| CentOS Stream 9     | PASS           |
+---------------------+----------------+
| Fedora 38           | PASS           |
+---------------------+----------------+
| CentOS Stream 8     | PASS           |
+---------------------+----------------+
| Fedora 37           | PASS           |
+---------------------+----------------+
| Windows Server 2019 | PASS           |
+---------------------+----------------+
| openSUSE Leap 15    | PASS           |
+---------------------+----------------+
| Ubuntu 20.04        | PASS           |
+---------------------+----------------+
| Ubuntu 22.04        | PASS           |
+---------------------+----------------+
| RHEL8               | PASS           |
+---------------------+----------------+


Debian 12 (arm)
	Kernel: Container Host Kernel
	Compiler: gcc 11

Debian Bullseye
	Kernel: 5.4.0-122-generic
	Compiler: gcc 10.2.1-6

CentOS Stream 9
	Kernel: 4.18.0-240.10.1.el8_3.x86_64
	Compiler: gcc 11.3.1 20220421

Fedora 38
	Kernel: Depends on container host
	Compiler: gcc 13.1.1

CentOS Stream 8
	Kernel: 4.18.0-240.10.1.el8_3.x86_64
	Compiler: gcc 8.4.1 20200928

Fedora 37
	Kernel: Depends on container host system
	Compiler: gcc 12.3.1

Windows Server 2019
	Kernel: 10.0
	Compiler: clang 14.0 and gcc 8.1.0 (MinGW)

openSUSE Leap 15
	Kernel: 4.18.0-240.10.1.el8_3.x86_64
	Compiler: gcc 7.5.0

Ubuntu 20.04
	Kernel: 5.4.0-153-generic
	Compiler: gcc 9.4.0-1ubuntu1~20.04.1

Ubuntu 22.04
	Kernel: 4.18.0-240.10.1.el8_3.x86_64
	Compiler: gcc 11.3.0

RHEL8
	Kernel: 4.18.0-240.10.1.el8_3.x86_64
	Compiler: gcc 8.3.1 20191121 (Red Hat 8.3.1-5)

To view detailed results, visit:
https://lab.dpdk.org/results/dashboard/patchsets/29514/

UNH-IOL DPDK Community Lab

To manage your email subscriptions, visit: 
https://lab.dpdk.org/results/dashboard/preferences/subscriptions/