From mboxrd@z Thu Jan  1 00:00:00 1970
Return-Path: <test-report-bounces@dpdk.org>
Received: from mails.dpdk.org (mails.dpdk.org [217.70.189.124])
	by inbox.dpdk.org (Postfix) with ESMTP id 8A16243C90
	for <public@inbox.dpdk.org>; Tue, 12 Mar 2024 12:18:15 +0100 (CET)
Received: from mails.dpdk.org (localhost [127.0.0.1])
	by mails.dpdk.org (Postfix) with ESMTP id 85215402D8;
	Tue, 12 Mar 2024 12:18:15 +0100 (CET)
Received: from mail-io1-f99.google.com (mail-io1-f99.google.com
 [209.85.166.99]) by mails.dpdk.org (Postfix) with ESMTP id E3F4240282
 for <test-report@dpdk.org>; Tue, 12 Mar 2024 12:18:13 +0100 (CET)
Received: by mail-io1-f99.google.com with SMTP id
 ca18e2360f4ac-7c48e13e0d7so91455039f.1
 for <test-report@dpdk.org>; Tue, 12 Mar 2024 04:18:13 -0700 (PDT)
DKIM-Signature: v=1; a=rsa-sha256; c=relaxed/relaxed;
 d=iol.unh.edu; s=unh-iol; t=1710242293; x=1710847093; darn=dpdk.org;
 h=references:in-reply-to:cc:to:from:subject:message-id:date:from:to
 :cc:subject:date:message-id:reply-to;
 bh=b/ytKcoW0uACvryDOgX7/p6XmqNmRTPGQAbOe26JIW8=;
 b=RWIoX1Sz3lmyaEfoCXoUiOMrPOSXxFxre6ZSj63dFU+MwrXFEYdXtDWczaPFXSOvIs
 BbIE1CUN+XIYHnbqGV1swKbI3qXN+GBhwTss7FovzhfQ92j9aVMASwaTsS79Lpfgdh0n
 HqYF9bTggoTk/jdVI2vfyd3Fpj1zsjvdPAhJE=
X-Google-DKIM-Signature: v=1; a=rsa-sha256; c=relaxed/relaxed;
 d=1e100.net; s=20230601; t=1710242293; x=1710847093;
 h=references:in-reply-to:cc:to:from:subject:message-id:date
 :x-gm-message-state:from:to:cc:subject:date:message-id:reply-to;
 bh=b/ytKcoW0uACvryDOgX7/p6XmqNmRTPGQAbOe26JIW8=;
 b=GotWawePUrHKt3XDpzzaBcDKqPUQsRscKgTtZ/xEd+SyVMYZvdyPcD6Hj79x1Kp9bh
 9JsO4Y2VfcxzYl+16S2kpmunBFMvaLoDM7yrmgXnDLtcbYq6PmWqvr1rBqoGaxs+AftG
 lV7WXJl3Wqkrcmj6B30YtqT2Jg0bfKcFcFPifpqxhS0p+SLSAFdq1m1UFilIAVVDY4ti
 mjIL0SOvoFUyPLCTgZ36h6hm5Z5rS2YDvVLmacHMt+Kjlbyba2rDI9GQFlasQnlKJtAG
 1Z7DefMn9TBtk5XYdVzI58gLbzsMA9vxMGsUnPJLuXKoOo2P3+z1elUqWnaBdgvgzAmQ
 72IQ==
X-Gm-Message-State: AOJu0YyfBmkmN+zt9eBSoUK09que6AZRBfJrBbQS1LFzXONFPRWowqNc
 sO04GXU/ClXRlgXBzibfeXIocfGM2tqWFcNGvcGwt7fyE8wkA03qkKcpXTQOWDPvKE2X6VKVMHE
 qg6Mt9C8+DvzJ5xHxfq2zu8WbUh0goL8sgCfSfd2S
X-Google-Smtp-Source: AGHT+IH6AL3JggEMoiSAPosQiE+AKp0YfOPTjlOhavJbOqbhqtE5kCIXpVIFOCvuGmGQaxAfJZWNuK+55Fnt
X-Received: by 2002:a5e:990b:0:b0:7c8:bb05:d0f0 with SMTP id
 t11-20020a5e990b000000b007c8bb05d0f0mr5682332ioj.14.1710242293337; 
 Tue, 12 Mar 2024 04:18:13 -0700 (PDT)
Received: from postal.iol.unh.edu (postal.iol.unh.edu. [132.177.123.84])
 by smtp-relay.gmail.com with ESMTPS id
 e18-20020a056638021200b00475d6e216ccsm200422jaq.28.2024.03.12.04.18.13
 (version=TLS1_2 cipher=ECDHE-ECDSA-AES128-GCM-SHA256 bits=128/128);
 Tue, 12 Mar 2024 04:18:13 -0700 (PDT)
X-Relaying-Domain: iol.unh.edu
Date: Tue, 12 Mar 2024 04:18:13 -0700 (PDT)
Message-ID: <65f039f5.050a0220.a9761.ba2eSMTPIN_ADDED_MISSING@mx.google.com>
Received: from [172.17.0.6] (unknown [172.18.0.217])
 by postal.iol.unh.edu (Postfix) with ESMTP id D2FAE6052471;
 Tue, 12 Mar 2024 07:18:12 -0400 (EDT)
Subject: |SUCCESS| pw138209 [PATCH] [v2,1/1] net/mana: add vlan tagging suppo
From: dpdklab@iol.unh.edu
To: Test Report <test-report@dpdk.org>
Cc: dpdk-test-reports@iol.unh.edu
In-Reply-To: <20240312093611.359025-1-weh@linux.microsoft.com>
References: <20240312093611.359025-1-weh@linux.microsoft.com>
Content-Type: text/plain
X-BeenThere: test-report@dpdk.org
X-Mailman-Version: 2.1.29
Precedence: list
List-Id: automatic DPDK test reports <test-report.dpdk.org>
List-Unsubscribe: <https://mails.dpdk.org/options/test-report>,
 <mailto:test-report-request@dpdk.org?subject=unsubscribe>
List-Archive: <http://mails.dpdk.org/archives/test-report/>
List-Post: <mailto:test-report@dpdk.org>
List-Help: <mailto:test-report-request@dpdk.org?subject=help>
List-Subscribe: <https://mails.dpdk.org/listinfo/test-report>,
 <mailto:test-report-request@dpdk.org?subject=subscribe>
Errors-To: test-report-bounces@dpdk.org

Test-Label: iol-unit-arm64-testing
Test-Status: SUCCESS
http://dpdk.org/patch/138209

_Testing PASS_

Submitter: Wei Hu <weh@linux.microsoft.com>
Date: Tuesday, March 12 2024 09:36:11 
DPDK git baseline: Repo:dpdk
  Branch: master
  CommitID:e3faaed01e14ffdfe8f4190030540ed874184b55

138209 --> testing pass

Test environment and result as below:

+--------------------------+------------------------------+---------------------------+--------------+----------------+
|       Environment        | cryptodev_sw_snow3g_autotest | cryptodev_sw_zuc_autotest | lpm_autotest | dpdk_unit_test |
+==========================+==============================+===========================+==============+================+
| Debian 12 (arm)          | PASS                         | PASS                      | SKIPPED      | SKIPPED        |
+--------------------------+------------------------------+---------------------------+--------------+----------------+
| Ubuntu 20.04 ARM SVE     | SKIPPED                      | SKIPPED                   | PASS         | SKIPPED        |
+--------------------------+------------------------------+---------------------------+--------------+----------------+
| Debian 11 (Buster) (ARM) | SKIPPED                      | SKIPPED                   | SKIPPED      | PASS           |
+--------------------------+------------------------------+---------------------------+--------------+----------------+
| Fedora 37 (ARM)          | SKIPPED                      | SKIPPED                   | SKIPPED      | PASS           |
+--------------------------+------------------------------+---------------------------+--------------+----------------+
| CentOS Stream 9 (ARM)    | SKIPPED                      | SKIPPED                   | SKIPPED      | PASS           |
+--------------------------+------------------------------+---------------------------+--------------+----------------+
| Fedora 38 (ARM)          | SKIPPED                      | SKIPPED                   | SKIPPED      | PASS           |
+--------------------------+------------------------------+---------------------------+--------------+----------------+


Debian 12 (arm)
	Kernel: Container Host Kernel
	Compiler: gcc 11

Ubuntu 20.04 ARM SVE
	Kernel: 5.4.0-80-generic
	Compiler: gcc 10.3.0 (Ubuntu 10.3.0-1ubuntu1~20.04)

Debian 11 (Buster) (ARM)
	Kernel: Container Host Kernel
	Compiler: gcc 10.2.1

Fedora 37 (ARM)
	Kernel: Depends on container host
	Compiler: gcc 12.3.1

CentOS Stream 9 (ARM)
	Kernel: Container Host Kernel
	Compiler: gcc 11.3.1

Fedora 38 (ARM)
	Kernel: Depends on container host
	Compiler: gcc 13.1.1

To view detailed results, visit:
https://lab.dpdk.org/results/dashboard/patchsets/29514/

UNH-IOL DPDK Community Lab

To manage your email subscriptions, visit: 
https://lab.dpdk.org/results/dashboard/preferences/subscriptions/