From mboxrd@z Thu Jan  1 00:00:00 1970
Return-Path: <test-report-bounces@dpdk.org>
Received: from mails.dpdk.org (mails.dpdk.org [217.70.189.124])
	by inbox.dpdk.org (Postfix) with ESMTP id 59A4943C90
	for <public@inbox.dpdk.org>; Tue, 12 Mar 2024 12:31:36 +0100 (CET)
Received: from mails.dpdk.org (localhost [127.0.0.1])
	by mails.dpdk.org (Postfix) with ESMTP id 531BC402D8;
	Tue, 12 Mar 2024 12:31:36 +0100 (CET)
Received: from mail-il1-f225.google.com (mail-il1-f225.google.com
 [209.85.166.225])
 by mails.dpdk.org (Postfix) with ESMTP id 1C14940282
 for <test-report@dpdk.org>; Tue, 12 Mar 2024 12:31:35 +0100 (CET)
Received: by mail-il1-f225.google.com with SMTP id
 e9e14a558f8ab-3666affcb59so2424105ab.2
 for <test-report@dpdk.org>; Tue, 12 Mar 2024 04:31:35 -0700 (PDT)
DKIM-Signature: v=1; a=rsa-sha256; c=relaxed/relaxed;
 d=iol.unh.edu; s=unh-iol; t=1710243094; x=1710847894; darn=dpdk.org;
 h=references:in-reply-to:cc:to:from:subject:message-id:date:from:to
 :cc:subject:date:message-id:reply-to;
 bh=WzKgJYvcrFiyCYldLOFt/DeSpYnl7AJ0Yjy41rP+CVk=;
 b=BqPswo/kHSgNBqUpveOUtUd7V1SvQNzcwJxQTw2OqR2W2ibldrKIxHj22zGe86BIjY
 bmp3LZNT26p9nLg9Y7WvvNuEcRriPtLQUZj+GvqgSjQD7b4FkpBNXFXGgWNlAj/SeyFl
 Ezej4QJwU/wGEjXMnWIPsOJpqBcFHZow35TB8=
X-Google-DKIM-Signature: v=1; a=rsa-sha256; c=relaxed/relaxed;
 d=1e100.net; s=20230601; t=1710243094; x=1710847894;
 h=references:in-reply-to:cc:to:from:subject:message-id:date
 :x-gm-message-state:from:to:cc:subject:date:message-id:reply-to;
 bh=WzKgJYvcrFiyCYldLOFt/DeSpYnl7AJ0Yjy41rP+CVk=;
 b=kBwqhD38fiZzSefsgULeoLjGVFcnFWPENmyof+p0vsILq7uoksdw7Gq2WyI2p+Dhro
 bfsRmN9Wi0QCbuxrt81oeD638WkGRE9Us/nMMyzwKx2CeQH8wVUhll4FJFM9QpTcamur
 hFHbsuEpFn9s447IY1zCtzhq2AB/+W+bF+t+yaUoSVjDj41zBCoxOt9l+gtA5mr7+GvP
 ponls8zLU4RGw6H9DdLBrKMSRFXnSG9Qm6BB9dKgIIXQG1d2nsOjP4ZFYYGKegkZdIQi
 ZzzeEdOZTpx8PIFHVVqsnBfcbYclG+mmfbBlCbqx9kdMQ/K2+jDmrQHI8262q2kmXdfj
 gCWA==
X-Gm-Message-State: AOJu0YxBUwjrTyiYdIrLXHDSUIZKijEuxbVLB1bBEeJBUXk4I1l3o/yw
 sQyVE4uF/0OcAjHy/Q9HOEpOamdWm6NkzXEv1N0yU1/zG5kryhwKw3XKr1mK+Ze8BW23d+m8Vtd
 XBmbIHlSBGA06uyOHNNcSz+odCYkT/8XKviO2O6+4PrbWD+vMYoV2rDMf
X-Google-Smtp-Source: AGHT+IHJ1FE6P6IljSqskfc0bzCjPnzHlrDGZqyixFwUBJvntTsCZf7q6zyXKKa9Q7Ua2F44IZ8a28ag6cVq
X-Received: by 2002:a05:6e02:20c3:b0:365:feba:5888 with SMTP id
 3-20020a056e0220c300b00365feba5888mr12056023ilq.7.1710243093286; 
 Tue, 12 Mar 2024 04:31:33 -0700 (PDT)
Received: from postal.iol.unh.edu (postal.iol.unh.edu.
 [2606:4100:3880:1234::84]) by smtp-relay.gmail.com with ESMTPS id
 cv9-20020a056e023b8900b003666fde6912sm24954ilb.49.2024.03.12.04.31.33
 (version=TLS1_2 cipher=ECDHE-ECDSA-AES128-GCM-SHA256 bits=128/128);
 Tue, 12 Mar 2024 04:31:33 -0700 (PDT)
X-Relaying-Domain: iol.unh.edu
Date: Tue, 12 Mar 2024 04:31:33 -0700 (PDT)
Message-ID: <65f03d15.050a0220.4b7b7.1e86SMTPIN_ADDED_MISSING@mx.google.com>
Received: from [172.21.0.6] (unknown [172.18.0.240])
 by postal.iol.unh.edu (Postfix) with ESMTP id C65B56052471;
 Tue, 12 Mar 2024 07:31:32 -0400 (EDT)
Subject: |SUCCESS| pw138209 [PATCH] [v2,1/1] net/mana: add vlan tagging suppo
From: dpdklab@iol.unh.edu
To: Test Report <test-report@dpdk.org>
Cc: dpdk-test-reports@iol.unh.edu
In-Reply-To: <20240312093611.359025-1-weh@linux.microsoft.com>
References: <20240312093611.359025-1-weh@linux.microsoft.com>
Content-Type: text/plain
X-BeenThere: test-report@dpdk.org
X-Mailman-Version: 2.1.29
Precedence: list
List-Id: automatic DPDK test reports <test-report.dpdk.org>
List-Unsubscribe: <https://mails.dpdk.org/options/test-report>,
 <mailto:test-report-request@dpdk.org?subject=unsubscribe>
List-Archive: <http://mails.dpdk.org/archives/test-report/>
List-Post: <mailto:test-report@dpdk.org>
List-Help: <mailto:test-report-request@dpdk.org?subject=help>
List-Subscribe: <https://mails.dpdk.org/listinfo/test-report>,
 <mailto:test-report-request@dpdk.org?subject=subscribe>
Errors-To: test-report-bounces@dpdk.org

Test-Label: iol-compile-amd64-testing
Test-Status: SUCCESS
http://dpdk.org/patch/138209

_Testing PASS_

Submitter: Wei Hu <weh@linux.microsoft.com>
Date: Tuesday, March 12 2024 09:36:11 
DPDK git baseline: Repo:dpdk
  Branch: master
  CommitID:e3faaed01e14ffdfe8f4190030540ed874184b55

138209 --> testing pass

Test environment and result as below:

+---------------------+--------------------+----------------------+
|     Environment     | dpdk_meson_compile | dpdk_mingw64_compile |
+=====================+====================+======================+
| Windows Server 2022 | PASS               | SKIPPED              |
+---------------------+--------------------+----------------------+
| Debian 12 (arm)     | PASS               | SKIPPED              |
+---------------------+--------------------+----------------------+
| Debian Bullseye     | PASS               | SKIPPED              |
+---------------------+--------------------+----------------------+
| CentOS Stream 9     | PASS               | SKIPPED              |
+---------------------+--------------------+----------------------+
| FreeBSD 13.2        | PASS               | SKIPPED              |
+---------------------+--------------------+----------------------+
| CentOS Stream 8     | PASS               | SKIPPED              |
+---------------------+--------------------+----------------------+
| Fedora 38           | PASS               | SKIPPED              |
+---------------------+--------------------+----------------------+
| Windows Server 2019 | PASS               | PASS                 |
+---------------------+--------------------+----------------------+
| Fedora 37           | PASS               | SKIPPED              |
+---------------------+--------------------+----------------------+
| Ubuntu 22.04        | PASS               | SKIPPED              |
+---------------------+--------------------+----------------------+
| RHEL8               | PASS               | SKIPPED              |
+---------------------+--------------------+----------------------+
| Ubuntu 20.04        | PASS               | SKIPPED              |
+---------------------+--------------------+----------------------+
| openSUSE Leap 15    | PASS               | SKIPPED              |
+---------------------+--------------------+----------------------+
| Alpine              | PASS               | SKIPPED              |
+---------------------+--------------------+----------------------+


Windows Server 2022
	Kernel: OS Build 20348.2031
	Compiler: MSVC VS-Preview

Debian 12 (arm)
	Kernel: Container Host Kernel
	Compiler: gcc 11

Debian Bullseye
	Kernel: 5.4.0-122-generic
	Compiler: gcc 10.2.1-6

CentOS Stream 9
	Kernel: 4.18.0-240.10.1.el8_3.x86_64
	Compiler: gcc 11.3.1 20220421

FreeBSD 13.2
	Kernel: 13.2
	Compiler: clang 11.3.0

CentOS Stream 8
	Kernel: 4.18.0-240.10.1.el8_3.x86_64
	Compiler: gcc 8.4.1 20200928

Fedora 38
	Kernel: Depends on container host
	Compiler: gcc 13.1.1

Windows Server 2019
	Kernel: 10.0
	Compiler: clang 14.0 and gcc 8.1.0 (MinGW)

Fedora 37
	Kernel: Depends on container host system
	Compiler: gcc 12.3.1

Ubuntu 22.04
	Kernel: 4.18.0-240.10.1.el8_3.x86_64
	Compiler: gcc 11.3.0

RHEL8
	Kernel: 4.18.0-240.10.1.el8_3.x86_64
	Compiler: gcc 8.3.1 20191121 (Red Hat 8.3.1-5)

Ubuntu 20.04
	Kernel: 5.4.0-153-generic
	Compiler: gcc 9.4.0-1ubuntu1~20.04.1

openSUSE Leap 15
	Kernel: 4.18.0-240.10.1.el8_3.x86_64
	Compiler: gcc 7.5.0

Alpine
	Kernel: 5.4.0-73-generic
	Compiler: gcc (Alpine 10.3.1_git20210424) 10.3.1 20210424

To view detailed results, visit:
https://lab.dpdk.org/results/dashboard/patchsets/29514/

UNH-IOL DPDK Community Lab

To manage your email subscriptions, visit: 
https://lab.dpdk.org/results/dashboard/preferences/subscriptions/