From mboxrd@z Thu Jan  1 00:00:00 1970
Return-Path: <test-report-bounces@dpdk.org>
Received: from mails.dpdk.org (mails.dpdk.org [217.70.189.124])
	by inbox.dpdk.org (Postfix) with ESMTP id 0B4E943C90
	for <public@inbox.dpdk.org>; Tue, 12 Mar 2024 12:48:47 +0100 (CET)
Received: from mails.dpdk.org (localhost [127.0.0.1])
	by mails.dpdk.org (Postfix) with ESMTP id 04227402D8;
	Tue, 12 Mar 2024 12:48:47 +0100 (CET)
Received: from mail-il1-f227.google.com (mail-il1-f227.google.com
 [209.85.166.227])
 by mails.dpdk.org (Postfix) with ESMTP id 7FB6040282
 for <test-report@dpdk.org>; Tue, 12 Mar 2024 12:48:46 +0100 (CET)
Received: by mail-il1-f227.google.com with SMTP id
 e9e14a558f8ab-366302e3cd2so10162295ab.1
 for <test-report@dpdk.org>; Tue, 12 Mar 2024 04:48:46 -0700 (PDT)
DKIM-Signature: v=1; a=rsa-sha256; c=relaxed/relaxed;
 d=iol.unh.edu; s=unh-iol; t=1710244126; x=1710848926; darn=dpdk.org;
 h=references:in-reply-to:cc:to:from:subject:message-id:date:from:to
 :cc:subject:date:message-id:reply-to;
 bh=uRnN1sppkF3KvtfIzjXUVnL1pApSStVB3V0nCbyQEDg=;
 b=K7a4HzcuAzmA24DhGNG6IkeMZGN9dVQSA47nA77VrdnTDamL1u425SZdAhHTlpzI5c
 7uZoi8y4CsFk4J18tnon99Z12RVDdR+fS8hgLqMQ/bE1awnYaGMJ8lP9MMwnaWAJH3Zo
 fVasErabhYa/D98WkVpoRIHyfODm+3z0L59jA=
X-Google-DKIM-Signature: v=1; a=rsa-sha256; c=relaxed/relaxed;
 d=1e100.net; s=20230601; t=1710244126; x=1710848926;
 h=references:in-reply-to:cc:to:from:subject:message-id:date
 :x-gm-message-state:from:to:cc:subject:date:message-id:reply-to;
 bh=uRnN1sppkF3KvtfIzjXUVnL1pApSStVB3V0nCbyQEDg=;
 b=qIpSDl9UtLsE7b8CHkH9tAqbooXc0FhJGGxK+rtCfh0oq8x/2VfUCvew/K/JC5tXit
 bFWB4zvXRX6VdQgtY+Yu1xJB/2r2dDNdmPHD7IKr8a0SY5/OrhtMlPWrm/bImbv+COxR
 h1zwEE8wVlG+ErhWusNezijA4Bm3dTZoeWrhff65yEbCmh+1OQXGvUZXgxZx2IKjv+Io
 KfqdUh7dz2KMDIf6ygwyUyWwe7bMs4OOLsQK9fbfoCM2HqlsHyZWqFw+tM+aKBKu1Dtb
 TVeTN4Hf3PpjzxwAw0eH7nA63b4IdiCAvk98EZftoeuNRmGgOh4awFTSU7JU4/kxF8n5
 h6Cw==
X-Gm-Message-State: AOJu0YyU0fWien9DeH/tYC7+Jds+Erh/U19H7GRs05CCYfS9yMS0TUtu
 /OxIOCJf350QdEggK62Iwjc/lnaSZt/+GplvjIhHDAL/zPzkTmfSg1TEGaohPZ75kXrOAJIZwkf
 68qQM9IGSGDvkgrto4V5rmtyWo0ND27f26elw8StC
X-Google-Smtp-Source: AGHT+IFcgXkVVsTbvMJ99AsbKSc5mNoc7uUbok6C9MIv4gurMrVoO0U56lFMFiTN/uWKXW019tPHnO9jyJPb
X-Received: by 2002:a05:6e02:b4f:b0:365:21f9:fb22 with SMTP id
 f15-20020a056e020b4f00b0036521f9fb22mr10204621ilu.14.1710244125940; 
 Tue, 12 Mar 2024 04:48:45 -0700 (PDT)
Received: from postal.iol.unh.edu (postal.iol.unh.edu. [132.177.123.84])
 by smtp-relay.gmail.com with ESMTPS id
 u13-20020a056e021a4d00b0036532c7e9d3sm340826ilv.74.2024.03.12.04.48.45
 (version=TLS1_2 cipher=ECDHE-ECDSA-AES128-GCM-SHA256 bits=128/128);
 Tue, 12 Mar 2024 04:48:45 -0700 (PDT)
X-Relaying-Domain: iol.unh.edu
Date: Tue, 12 Mar 2024 04:48:45 -0700 (PDT)
Message-ID: <65f0411d.050a0220.372ac.6222SMTPIN_ADDED_MISSING@mx.google.com>
Received: from [172.21.0.6] (unknown [172.18.0.240])
 by postal.iol.unh.edu (Postfix) with ESMTP id 720836052471;
 Tue, 12 Mar 2024 07:48:45 -0400 (EDT)
Subject: |SUCCESS| pw138210-138211 [PATCH] [2/2] net/virtio: fix notification
From: dpdklab@iol.unh.edu
To: Test Report <test-report@dpdk.org>
Cc: dpdk-test-reports@iol.unh.edu
In-Reply-To: <20240312104849.667036-3-maxime.coquelin@redhat.com>
References: <20240312104849.667036-3-maxime.coquelin@redhat.com>
Content-Type: text/plain
X-BeenThere: test-report@dpdk.org
X-Mailman-Version: 2.1.29
Precedence: list
List-Id: automatic DPDK test reports <test-report.dpdk.org>
List-Unsubscribe: <https://mails.dpdk.org/options/test-report>,
 <mailto:test-report-request@dpdk.org?subject=unsubscribe>
List-Archive: <http://mails.dpdk.org/archives/test-report/>
List-Post: <mailto:test-report@dpdk.org>
List-Help: <mailto:test-report-request@dpdk.org?subject=help>
List-Subscribe: <https://mails.dpdk.org/listinfo/test-report>,
 <mailto:test-report-request@dpdk.org?subject=subscribe>
Errors-To: test-report-bounces@dpdk.org

Test-Label: iol-unit-arm64-testing
Test-Status: SUCCESS
http://dpdk.org/patch/138211

_Testing PASS_

Submitter: Maxime Coquelin <maxime.coquelin@redhat.com>
Date: Tuesday, March 12 2024 10:48:49 
DPDK git baseline: Repo:dpdk
  Branch: master
  CommitID:deedfb86a7a6e10064d3cccd593f62072de96e36

138210-138211 --> testing pass

Test environment and result as below:

+--------------------------+----------------+
|       Environment        | dpdk_unit_test |
+==========================+================+
| Debian 11 (Buster) (ARM) | PASS           |
+--------------------------+----------------+
| Debian 12 (arm)          | PASS           |
+--------------------------+----------------+
| Ubuntu 20.04 (ARM)       | PASS           |
+--------------------------+----------------+
| CentOS Stream 9 (ARM)    | PASS           |
+--------------------------+----------------+
| Fedora 38 (ARM)          | PASS           |
+--------------------------+----------------+
| Fedora 37 (ARM)          | PASS           |
+--------------------------+----------------+


Debian 11 (Buster) (ARM)
	Kernel: Container Host Kernel
	Compiler: gcc 10.2.1

Debian 12 (arm)
	Kernel: Container Host Kernel
	Compiler: gcc 11

Ubuntu 20.04 (ARM)
	Kernel: Container Host Kernel
	Compiler: gcc 9.4.0

CentOS Stream 9 (ARM)
	Kernel: Container Host Kernel
	Compiler: gcc 11.3.1

Fedora 38 (ARM)
	Kernel: Depends on container host
	Compiler: gcc 13.1.1

Fedora 37 (ARM)
	Kernel: Depends on container host
	Compiler: gcc 12.3.1

To view detailed results, visit:
https://lab.dpdk.org/results/dashboard/patchsets/29515/

UNH-IOL DPDK Community Lab

To manage your email subscriptions, visit: 
https://lab.dpdk.org/results/dashboard/preferences/subscriptions/