From mboxrd@z Thu Jan  1 00:00:00 1970
Return-Path: <test-report-bounces@dpdk.org>
Received: from mails.dpdk.org (mails.dpdk.org [217.70.189.124])
	by inbox.dpdk.org (Postfix) with ESMTP id 9789B43C90
	for <public@inbox.dpdk.org>; Tue, 12 Mar 2024 12:51:37 +0100 (CET)
Received: from mails.dpdk.org (localhost [127.0.0.1])
	by mails.dpdk.org (Postfix) with ESMTP id 93B1B402D8;
	Tue, 12 Mar 2024 12:51:37 +0100 (CET)
Received: from mail-io1-f97.google.com (mail-io1-f97.google.com
 [209.85.166.97]) by mails.dpdk.org (Postfix) with ESMTP id 96B3940282
 for <test-report@dpdk.org>; Tue, 12 Mar 2024 12:51:36 +0100 (CET)
Received: by mail-io1-f97.google.com with SMTP id
 ca18e2360f4ac-7c88a2173daso133369939f.0
 for <test-report@dpdk.org>; Tue, 12 Mar 2024 04:51:36 -0700 (PDT)
DKIM-Signature: v=1; a=rsa-sha256; c=relaxed/relaxed;
 d=iol.unh.edu; s=unh-iol; t=1710244296; x=1710849096; darn=dpdk.org;
 h=references:in-reply-to:cc:to:from:subject:message-id:date:from:to
 :cc:subject:date:message-id:reply-to;
 bh=omAuM8K1GtD1n4kWzI+jjKNfUuwRepktfkCa0w3fyXs=;
 b=aGywgbKj56mJqNhbOZA7Lcf6iZdvDkF2aZ8jo6Ws65XgxbTIj0vnYKbmyzhj6I00cF
 aG2BBMJiWftBr4DbJ7gFMjPFd5+8x0qgB9qqTD4PDR9dHu/5P/3VOjHQtGmEgnLAi9nQ
 boIZVAzan7Jg/2IMdt3BJjoeWMXkpKDY4HvhM=
X-Google-DKIM-Signature: v=1; a=rsa-sha256; c=relaxed/relaxed;
 d=1e100.net; s=20230601; t=1710244296; x=1710849096;
 h=references:in-reply-to:cc:to:from:subject:message-id:date
 :x-gm-message-state:from:to:cc:subject:date:message-id:reply-to;
 bh=omAuM8K1GtD1n4kWzI+jjKNfUuwRepktfkCa0w3fyXs=;
 b=A1932IKXwU8+7oHe+Ygu+DR5pVFr1TKVfVaZtBEOQgsW7E2uCEIhkAccyGbC6Jf5v3
 mLurY7SKAd7pjN+1xfhNaxgJkhpRMt4yW950azUhf4DH9i5BHbaoycZgppiayehyP7hw
 u0GjhpgEEew1YIUHzFtXor3PmpvtsxzbDzWiNEjH+80a+tmfPqIU252BeZB550qqxLFY
 vMAPS+hqLDc60ISgScdxydGOg2xe2Fl6CnUnOgDUoHWiwKIAIsrl0YGUzZaR0Ykg3SJY
 jRWac1njvyG5pZNO61/4i64NRhOgC5Z4fe4ZZD/B8vxdsmrQZ1Wslq0esIUZFZL/NelF
 Rwsg==
X-Gm-Message-State: AOJu0YwaFAVvn+cIE/I15Z+Z281t9+cvkMJg4KpRsd3IQG/78g7hk8Jw
 VmDQRkxTLr9MtsUl3V9qdRqqzrgdQ69P1Ip4DH2Vhj5m5JNEIAvT79l27Z+uDhPU8Ns9vDduwWm
 sFpA5vsxiz2M3Cn5/PDjl9S+L/Vgjnlno+2Hm1QBMXk4j4NTiee4EJ+N0
X-Google-Smtp-Source: AGHT+IHVZsiGvGrtQabVOWOt8LHkiRFvia77rmOs+Szxk+GkWa1kGBYLP3uiBD+icRty59YjWS4axgG8afHw
X-Received: by 2002:a05:6602:5c8:b0:7c8:af1e:16f4 with SMTP id
 w8-20020a05660205c800b007c8af1e16f4mr161017iox.4.1710244296017; 
 Tue, 12 Mar 2024 04:51:36 -0700 (PDT)
Received: from postal.iol.unh.edu (postal.iol.unh.edu.
 [2606:4100:3880:1234::84]) by smtp-relay.gmail.com with ESMTPS id
 g10-20020a6be60a000000b007c8cc1ba3basm67775ioh.3.2024.03.12.04.51.35
 (version=TLS1_2 cipher=ECDHE-ECDSA-AES128-GCM-SHA256 bits=128/128);
 Tue, 12 Mar 2024 04:51:36 -0700 (PDT)
X-Relaying-Domain: iol.unh.edu
Date: Tue, 12 Mar 2024 04:51:36 -0700 (PDT)
Message-ID: <65f041c8.6b0a0220.ee408.3decSMTPIN_ADDED_MISSING@mx.google.com>
Received: from [172.21.0.6] (unknown [172.18.0.240])
 by postal.iol.unh.edu (Postfix) with ESMTP id 7EB096052471;
 Tue, 12 Mar 2024 07:51:35 -0400 (EDT)
Subject: |SUCCESS| pw138210-138211 [PATCH] [2/2] net/virtio: fix notification
From: dpdklab@iol.unh.edu
To: Test Report <test-report@dpdk.org>
Cc: dpdk-test-reports@iol.unh.edu
In-Reply-To: <20240312104849.667036-3-maxime.coquelin@redhat.com>
References: <20240312104849.667036-3-maxime.coquelin@redhat.com>
Content-Type: text/plain
X-BeenThere: test-report@dpdk.org
X-Mailman-Version: 2.1.29
Precedence: list
List-Id: automatic DPDK test reports <test-report.dpdk.org>
List-Unsubscribe: <https://mails.dpdk.org/options/test-report>,
 <mailto:test-report-request@dpdk.org?subject=unsubscribe>
List-Archive: <http://mails.dpdk.org/archives/test-report/>
List-Post: <mailto:test-report@dpdk.org>
List-Help: <mailto:test-report-request@dpdk.org?subject=help>
List-Subscribe: <https://mails.dpdk.org/listinfo/test-report>,
 <mailto:test-report-request@dpdk.org?subject=subscribe>
Errors-To: test-report-bounces@dpdk.org

Test-Label: iol-unit-arm64-testing
Test-Status: SUCCESS
http://dpdk.org/patch/138211

_Testing PASS_

Submitter: Maxime Coquelin <maxime.coquelin@redhat.com>
Date: Tuesday, March 12 2024 10:48:49 
DPDK git baseline: Repo:dpdk
  Branch: master
  CommitID:deedfb86a7a6e10064d3cccd593f62072de96e36

138210-138211 --> testing pass

Test environment and result as below:

+--------------------------+----------------+------------------------------+---------------------------+
|       Environment        | dpdk_unit_test | cryptodev_sw_snow3g_autotest | cryptodev_sw_zuc_autotest |
+==========================+================+==============================+===========================+
| Debian 11 (Buster) (ARM) | PASS           | SKIPPED                      | SKIPPED                   |
+--------------------------+----------------+------------------------------+---------------------------+
| Debian 12 (arm)          | PASS           | PASS                         | PASS                      |
+--------------------------+----------------+------------------------------+---------------------------+
| Ubuntu 20.04 (ARM)       | PASS           | SKIPPED                      | SKIPPED                   |
+--------------------------+----------------+------------------------------+---------------------------+
| CentOS Stream 9 (ARM)    | PASS           | SKIPPED                      | SKIPPED                   |
+--------------------------+----------------+------------------------------+---------------------------+
| Fedora 38 (ARM)          | PASS           | SKIPPED                      | SKIPPED                   |
+--------------------------+----------------+------------------------------+---------------------------+
| Fedora 37 (ARM)          | PASS           | SKIPPED                      | SKIPPED                   |
+--------------------------+----------------+------------------------------+---------------------------+


Debian 11 (Buster) (ARM)
	Kernel: Container Host Kernel
	Compiler: gcc 10.2.1

Debian 12 (arm)
	Kernel: Container Host Kernel
	Compiler: gcc 11

Ubuntu 20.04 (ARM)
	Kernel: Container Host Kernel
	Compiler: gcc 9.4.0

CentOS Stream 9 (ARM)
	Kernel: Container Host Kernel
	Compiler: gcc 11.3.1

Fedora 38 (ARM)
	Kernel: Depends on container host
	Compiler: gcc 13.1.1

Fedora 37 (ARM)
	Kernel: Depends on container host
	Compiler: gcc 12.3.1

To view detailed results, visit:
https://lab.dpdk.org/results/dashboard/patchsets/29515/

UNH-IOL DPDK Community Lab

To manage your email subscriptions, visit: 
https://lab.dpdk.org/results/dashboard/preferences/subscriptions/