From mboxrd@z Thu Jan  1 00:00:00 1970
Return-Path: <test-report-bounces@dpdk.org>
Received: from mails.dpdk.org (mails.dpdk.org [217.70.189.124])
	by inbox.dpdk.org (Postfix) with ESMTP id 0D38143C90
	for <public@inbox.dpdk.org>; Tue, 12 Mar 2024 13:04:16 +0100 (CET)
Received: from mails.dpdk.org (localhost [127.0.0.1])
	by mails.dpdk.org (Postfix) with ESMTP id 03955406FF;
	Tue, 12 Mar 2024 13:04:16 +0100 (CET)
Received: from mail-yw1-f227.google.com (mail-yw1-f227.google.com
 [209.85.128.227])
 by mails.dpdk.org (Postfix) with ESMTP id A6869402D8
 for <test-report@dpdk.org>; Tue, 12 Mar 2024 13:04:14 +0100 (CET)
Received: by mail-yw1-f227.google.com with SMTP id
 00721157ae682-609f1b77728so51116967b3.3
 for <test-report@dpdk.org>; Tue, 12 Mar 2024 05:04:14 -0700 (PDT)
DKIM-Signature: v=1; a=rsa-sha256; c=relaxed/relaxed;
 d=iol.unh.edu; s=unh-iol; t=1710245054; x=1710849854; darn=dpdk.org;
 h=references:in-reply-to:cc:to:from:subject:message-id:date:from:to
 :cc:subject:date:message-id:reply-to;
 bh=3aBXbyd+c94mprVfJ24chhFBBlI5X8IfSsLmIlW2zCY=;
 b=e7kQ0/Wa9gFnY+Go4tcc+xSBL9bJhvhbN1TG1Luo364FUNfzVA0ZSTIWojgu3INLnx
 rYn1fwh4Gkn9Zc43SSXAhnjSygC/eZ8IgH3mitYZXGl+SO3hVzInciACvsbOR9hmXIyj
 phDNkX1Y8UIFCOg7v8e6UMTeAOU17YiYVhAd0=
X-Google-DKIM-Signature: v=1; a=rsa-sha256; c=relaxed/relaxed;
 d=1e100.net; s=20230601; t=1710245054; x=1710849854;
 h=references:in-reply-to:cc:to:from:subject:message-id:date
 :x-gm-message-state:from:to:cc:subject:date:message-id:reply-to;
 bh=3aBXbyd+c94mprVfJ24chhFBBlI5X8IfSsLmIlW2zCY=;
 b=qjfWNumTEofGx/qrxrPekYG2KHrBNrYGE65rZZFehuTbbZEJS69zeYb3+NK1wLpQvQ
 /FvlsaiZvr4LZraKce5ptdWGvelwXd6Y4aH5++7gvN+s9Hgp5M12zS97iUKpO8xr3FUX
 Qv7uMUXSAZEX0/QV6Hpb5mM9pUaIszahsqs+9xyb0waX3BAhluEqde4D5M1ASBjSix0S
 inaTzVy0QtslXje5upHPJQGb/DudY+EGaQgWsuZ2po5RkoSWg9jm6CPwT7aiEPxQnsrv
 QynDfvTzy94CojtfGKo/w41U5ukmZcDhtuDQ+aWpGFD8Lg9j+FhGn4lKEanMbmwPm5JN
 Ia+A==
X-Gm-Message-State: AOJu0YxPnOF38Fmqm7wCQkD89rjAPzqFKHAD+xlcRaT8ZiWREdBttuov
 1um8E/vt15p0YYHSwvxia3sl95+0383YYoDTEkfvJQ72B6JYDsRTD8l1Cg67rssIeYluMIm4Nav
 UJGvzKggLFsxx+wYU1D42JB6y7JVlXk13gjW2N89Ggvyj2IBqujDkUJgG
X-Google-Smtp-Source: AGHT+IEgSsJDJYX8EjQmKqX14m9XVADrJmI2/5r7mWK/gsZXgiEKMRkeLmiKzxjPpAt5LAlhNjl7KfeTciTw
X-Received: by 2002:a0d:ea0e:0:b0:60a:8e:82f6 with SMTP id
 t14-20020a0dea0e000000b0060a008e82f6mr1471703ywe.2.1710245052650; 
 Tue, 12 Mar 2024 05:04:12 -0700 (PDT)
Received: from postal.iol.unh.edu (postal.iol.unh.edu.
 [2606:4100:3880:1234::84]) by smtp-relay.gmail.com with ESMTPS id
 em17-20020a05690c2b1100b00608465fd491sm219919ywb.77.2024.03.12.05.04.12
 (version=TLS1_2 cipher=ECDHE-ECDSA-AES128-GCM-SHA256 bits=128/128);
 Tue, 12 Mar 2024 05:04:12 -0700 (PDT)
X-Relaying-Domain: iol.unh.edu
Date: Tue, 12 Mar 2024 05:04:12 -0700 (PDT)
Message-ID: <65f044bc.050a0220.4c5d1.d348SMTPIN_ADDED_MISSING@mx.google.com>
Received: from [172.17.0.7] (unknown [172.18.0.217])
 by postal.iol.unh.edu (Postfix) with ESMTP id 5C0D76052471;
 Tue, 12 Mar 2024 08:04:12 -0400 (EDT)
Subject: |SUCCESS| pw138210-138211 [PATCH] [2/2] net/virtio: fix notification
From: dpdklab@iol.unh.edu
To: Test Report <test-report@dpdk.org>
Cc: dpdk-test-reports@iol.unh.edu
In-Reply-To: <20240312104849.667036-3-maxime.coquelin@redhat.com>
References: <20240312104849.667036-3-maxime.coquelin@redhat.com>
Content-Type: text/plain
X-BeenThere: test-report@dpdk.org
X-Mailman-Version: 2.1.29
Precedence: list
List-Id: automatic DPDK test reports <test-report.dpdk.org>
List-Unsubscribe: <https://mails.dpdk.org/options/test-report>,
 <mailto:test-report-request@dpdk.org?subject=unsubscribe>
List-Archive: <http://mails.dpdk.org/archives/test-report/>
List-Post: <mailto:test-report@dpdk.org>
List-Help: <mailto:test-report-request@dpdk.org?subject=help>
List-Subscribe: <https://mails.dpdk.org/listinfo/test-report>,
 <mailto:test-report-request@dpdk.org?subject=subscribe>
Errors-To: test-report-bounces@dpdk.org

Test-Label: iol-unit-amd64-testing
Test-Status: SUCCESS
http://dpdk.org/patch/138211

_Testing PASS_

Submitter: Maxime Coquelin <maxime.coquelin@redhat.com>
Date: Tuesday, March 12 2024 10:48:49 
DPDK git baseline: Repo:dpdk
  Branch: master
  CommitID:deedfb86a7a6e10064d3cccd593f62072de96e36

138210-138211 --> testing pass

Test environment and result as below:

+---------------------+----------------+
|     Environment     | dpdk_unit_test |
+=====================+================+
| Windows Server 2019 | PASS           |
+---------------------+----------------+
| Debian 12 (arm)     | PASS           |
+---------------------+----------------+
| RHEL8               | PASS           |
+---------------------+----------------+
| CentOS Stream 8     | PASS           |
+---------------------+----------------+
| Fedora 37           | PASS           |
+---------------------+----------------+
| CentOS Stream 9     | PASS           |
+---------------------+----------------+


Windows Server 2019
	Kernel: 10.0
	Compiler: clang 14.0 and gcc 8.1.0 (MinGW)

Debian 12 (arm)
	Kernel: Container Host Kernel
	Compiler: gcc 11

RHEL8
	Kernel: 4.18.0-240.10.1.el8_3.x86_64
	Compiler: gcc 8.3.1 20191121 (Red Hat 8.3.1-5)

CentOS Stream 8
	Kernel: 4.18.0-240.10.1.el8_3.x86_64
	Compiler: gcc 8.4.1 20200928

Fedora 37
	Kernel: Depends on container host system
	Compiler: gcc 12.3.1

CentOS Stream 9
	Kernel: 4.18.0-240.10.1.el8_3.x86_64
	Compiler: gcc 11.3.1 20220421

To view detailed results, visit:
https://lab.dpdk.org/results/dashboard/patchsets/29515/

UNH-IOL DPDK Community Lab

To manage your email subscriptions, visit: 
https://lab.dpdk.org/results/dashboard/preferences/subscriptions/