From mboxrd@z Thu Jan  1 00:00:00 1970
Return-Path: <test-report-bounces@dpdk.org>
Received: from mails.dpdk.org (mails.dpdk.org [217.70.189.124])
	by inbox.dpdk.org (Postfix) with ESMTP id 5697243C92
	for <public@inbox.dpdk.org>; Tue, 12 Mar 2024 14:03:39 +0100 (CET)
Received: from mails.dpdk.org (localhost [127.0.0.1])
	by mails.dpdk.org (Postfix) with ESMTP id 3244C402D8;
	Tue, 12 Mar 2024 14:03:39 +0100 (CET)
Received: from mail-il1-f226.google.com (mail-il1-f226.google.com
 [209.85.166.226])
 by mails.dpdk.org (Postfix) with ESMTP id 578B440282
 for <test-report@dpdk.org>; Tue, 12 Mar 2024 14:03:37 +0100 (CET)
Received: by mail-il1-f226.google.com with SMTP id
 e9e14a558f8ab-3666ddf3be9so1794295ab.3
 for <test-report@dpdk.org>; Tue, 12 Mar 2024 06:03:37 -0700 (PDT)
DKIM-Signature: v=1; a=rsa-sha256; c=relaxed/relaxed;
 d=iol.unh.edu; s=unh-iol; t=1710248616; x=1710853416; darn=dpdk.org;
 h=references:in-reply-to:cc:to:from:subject:message-id:date:from:to
 :cc:subject:date:message-id:reply-to;
 bh=eHcMXp8zHdarkJe1kiMSxVpi+WFjTENrQyQk/sYDpvI=;
 b=DFNZdynVFgKHZDPq4E6MJXtyjV5X649PSjcp3jPECTwD0zHOYBQiw5Z7oYCgjE/bSZ
 9EOAm78D499KfVjkIU+8MqwQ47HdADfJq/0vdcLG9S6QTZYN9wLtwQTf+UudqOXkCDXd
 X/VUt2Qw3tmx0O7r7cL4PGKwEe/Yu++wU2q/U=
X-Google-DKIM-Signature: v=1; a=rsa-sha256; c=relaxed/relaxed;
 d=1e100.net; s=20230601; t=1710248616; x=1710853416;
 h=references:in-reply-to:cc:to:from:subject:message-id:date
 :x-gm-message-state:from:to:cc:subject:date:message-id:reply-to;
 bh=eHcMXp8zHdarkJe1kiMSxVpi+WFjTENrQyQk/sYDpvI=;
 b=oTDPIv/MsXSU6xE8vWHmERe5RDJeV6k1g479BBOnzQGskKjzgKKlu1lLBEsIcqvlwd
 nSxPXwhxKdUL+8eX/0unSGMMZE/8jSXS/6hnmgY4wVNSJam+jlqL+2GlOaHqrwFbWfv5
 JxFLt6tDhMrz7CcTXIAfUP2DAr68pzqkvFtyg2XJBa02WVALHsHhhNwcn9bFSFG6vm9w
 1qz5M620/BmcupMUYlvyUwAjPMOB8WDaplctfsIAPjsa7RcRkN2HQxQaQNMDOgUo4ql6
 Uvawj9BgEn0W5qV9+EHYMUvJOIPWmfIxZE5uU1rJXeGrG10yyQVNFrCQy0T/HDawHLDm
 UK3w==
X-Gm-Message-State: AOJu0YwihBZuyEKH9cRu8U/owVJKlXFBNT9mOBt1OHJdcGVHuHTfceVr
 k4DzD6WRidM+NT9lN6Gn3GietLe6VxFWwlbKnbiifBworOHPQakmaXYvUipdjP4LpowA2hEiko7
 vzU0CFN6nDqnac6rL/cuIIgho4hNrd7ZunP3EzSza
X-Google-Smtp-Source: AGHT+IE/UGT7FeMOUwkF2/ULQXHj+l7bYodIwYqqe/tmlVudK2zesdOqYEFkPDIXhQM1E2kUcM+eBvRq/kYQ
X-Received: by 2002:a92:ccca:0:b0:366:42c9:ef5e with SMTP id
 u10-20020a92ccca000000b0036642c9ef5emr7934036ilq.11.1710248616272; 
 Tue, 12 Mar 2024 06:03:36 -0700 (PDT)
Received: from postal.iol.unh.edu (postal.iol.unh.edu. [132.177.123.84])
 by smtp-relay.gmail.com with ESMTPS id
 q9-20020a056e0215c900b003667204536csm4710ilu.63.2024.03.12.06.03.36
 (version=TLS1_2 cipher=ECDHE-ECDSA-AES128-GCM-SHA256 bits=128/128);
 Tue, 12 Mar 2024 06:03:36 -0700 (PDT)
X-Relaying-Domain: iol.unh.edu
Date: Tue, 12 Mar 2024 06:03:36 -0700 (PDT)
Message-ID: <65f052a8.050a0220.a941c.0374SMTPIN_ADDED_MISSING@mx.google.com>
Received: from [172.17.0.7] (unknown [172.18.0.217])
 by postal.iol.unh.edu (Postfix) with ESMTP id DC4BA6052471;
 Tue, 12 Mar 2024 09:03:35 -0400 (EDT)
Subject: |SUCCESS| pw138210-138211 [PATCH] [2/2] net/virtio: fix notification
From: dpdklab@iol.unh.edu
To: Test Report <test-report@dpdk.org>
Cc: dpdk-test-reports@iol.unh.edu
In-Reply-To: <20240312104849.667036-3-maxime.coquelin@redhat.com>
References: <20240312104849.667036-3-maxime.coquelin@redhat.com>
Content-Type: text/plain
X-BeenThere: test-report@dpdk.org
X-Mailman-Version: 2.1.29
Precedence: list
List-Id: automatic DPDK test reports <test-report.dpdk.org>
List-Unsubscribe: <https://mails.dpdk.org/options/test-report>,
 <mailto:test-report-request@dpdk.org?subject=unsubscribe>
List-Archive: <http://mails.dpdk.org/archives/test-report/>
List-Post: <mailto:test-report@dpdk.org>
List-Help: <mailto:test-report-request@dpdk.org?subject=help>
List-Subscribe: <https://mails.dpdk.org/listinfo/test-report>,
 <mailto:test-report-request@dpdk.org?subject=subscribe>
Errors-To: test-report-bounces@dpdk.org

Test-Label: iol-compile-arm64-testing
Test-Status: SUCCESS
http://dpdk.org/patch/138211

_Testing PASS_

Submitter: Maxime Coquelin <maxime.coquelin@redhat.com>
Date: Tuesday, March 12 2024 10:48:49 
DPDK git baseline: Repo:dpdk
  Branch: master
  CommitID:deedfb86a7a6e10064d3cccd593f62072de96e36

138210-138211 --> testing pass

Test environment and result as below:

+----------------------------------------+--------------------+
|              Environment               | dpdk_meson_compile |
+========================================+====================+
| Ubuntu 20.04 ARM SVE                   | PASS               |
+----------------------------------------+--------------------+
| Fedora 38 (ARM)                        | PASS               |
+----------------------------------------+--------------------+
| Fedora 37 (ARM)                        | PASS               |
+----------------------------------------+--------------------+
| CentOS Stream 9 (ARM)                  | PASS               |
+----------------------------------------+--------------------+
| Ubuntu 20.04 (ARM)                     | PASS               |
+----------------------------------------+--------------------+
| Debian 12 (arm)                        | PASS               |
+----------------------------------------+--------------------+
| Debian 11 (Buster) (ARM)               | PASS               |
+----------------------------------------+--------------------+
| Debian 12 with MUSDK                   | PASS               |
+----------------------------------------+--------------------+
| Ubuntu 20.04 aarch32 GCC Cross Compile | PASS               |
+----------------------------------------+--------------------+
| Ubuntu 20.04 ARM Clang Cross Compile   | PASS               |
+----------------------------------------+--------------------+
| Ubuntu 20.04 ARM GCC Cross Compile     | PASS               |
+----------------------------------------+--------------------+
| Fedora 38 (ARM Clang)                  | PASS               |
+----------------------------------------+--------------------+


Ubuntu 20.04 ARM SVE
	Kernel: 5.4.0-80-generic
	Compiler: gcc 10.3.0 (Ubuntu 10.3.0-1ubuntu1~20.04)

Fedora 38 (ARM)
	Kernel: Depends on container host
	Compiler: gcc 13.1.1

Fedora 37 (ARM)
	Kernel: Depends on container host
	Compiler: gcc 12.3.1

CentOS Stream 9 (ARM)
	Kernel: Container Host Kernel
	Compiler: gcc 11.3.1

Ubuntu 20.04 (ARM)
	Kernel: Container Host Kernel
	Compiler: gcc 9.4.0

Debian 12 (arm)
	Kernel: Container Host Kernel
	Compiler: gcc 11

Debian 11 (Buster) (ARM)
	Kernel: Container Host Kernel
	Compiler: gcc 10.2.1

Debian 12 with MUSDK
	Kernel: Container Host Kernel
	Compiler: gcc 12

Ubuntu 20.04 aarch32 GCC Cross Compile
	Kernel: 5.4.0-72-generic
	Compiler: gcc 9.3.0

Ubuntu 20.04 ARM Clang Cross Compile
	Kernel: 5.4.0-72-generic
	Compiler: clang version 10.0.0-4ubuntu1

Ubuntu 20.04 ARM GCC Cross Compile
	Kernel: 5.4.0-72-generic
	Compiler: aarch64-linux-gnu-gcc (Ubuntu 9.3.0-17ubuntu1~20.04) 9.3.0

Fedora 38 (ARM Clang)
	Kernel: Depends on container host
	Compiler: clang 16.0.3

To view detailed results, visit:
https://lab.dpdk.org/results/dashboard/patchsets/29515/

UNH-IOL DPDK Community Lab

To manage your email subscriptions, visit: 
https://lab.dpdk.org/results/dashboard/preferences/subscriptions/