From mboxrd@z Thu Jan  1 00:00:00 1970
Return-Path: <test-report-bounces@dpdk.org>
Received: from mails.dpdk.org (mails.dpdk.org [217.70.189.124])
	by inbox.dpdk.org (Postfix) with ESMTP id 1E72643C92
	for <public@inbox.dpdk.org>; Tue, 12 Mar 2024 15:25:00 +0100 (CET)
Received: from mails.dpdk.org (localhost [127.0.0.1])
	by mails.dpdk.org (Postfix) with ESMTP id 16BB0402E0;
	Tue, 12 Mar 2024 15:25:00 +0100 (CET)
Received: from mail-oi1-f227.google.com (mail-oi1-f227.google.com
 [209.85.167.227])
 by mails.dpdk.org (Postfix) with ESMTP id 20EBA402D8
 for <test-report@dpdk.org>; Tue, 12 Mar 2024 15:24:58 +0100 (CET)
Received: by mail-oi1-f227.google.com with SMTP id
 5614622812f47-3c23a477b10so5429b6e.3
 for <test-report@dpdk.org>; Tue, 12 Mar 2024 07:24:58 -0700 (PDT)
DKIM-Signature: v=1; a=rsa-sha256; c=relaxed/relaxed;
 d=iol.unh.edu; s=unh-iol; t=1710253497; x=1710858297; darn=dpdk.org;
 h=references:in-reply-to:cc:to:from:subject:message-id:date:from:to
 :cc:subject:date:message-id:reply-to;
 bh=4dguRgJ4RnpwrujGfb9blS/BjiszkGrMqwycuEbgzVk=;
 b=UNv3qDwOxh8VXu3sQj8IPbIaJ55TEagOSbmegUOgSmBKtloVauWySmumMU+aj1BJ0z
 bEgI8FbTcDV8Cz5hJSDarJfdIIFAB8vF800JhDztkBhtgFNCTJZglOVCmtmNpsGzyTZh
 nkDH1cHrD04H4T9swjF3Q1rMKpjBx+UQOP4U8=
X-Google-DKIM-Signature: v=1; a=rsa-sha256; c=relaxed/relaxed;
 d=1e100.net; s=20230601; t=1710253497; x=1710858297;
 h=references:in-reply-to:cc:to:from:subject:message-id:date
 :x-gm-message-state:from:to:cc:subject:date:message-id:reply-to;
 bh=4dguRgJ4RnpwrujGfb9blS/BjiszkGrMqwycuEbgzVk=;
 b=xFkg2rx8CXP+wRHkhceJI0yDw8xnRJg47XxX15OuT8M6F4htQzh3VICzADxY02v0rg
 Vj44lDyvfH/affH+oAqPpE3REOnUKC7GfUe70CwO8Ks0OQgtQQUNAF2t4trtuAfl0GWn
 9PdnaTlZ+D/4wjBYdnRUC7pgSU0FpI9uZ7lNtkHQ7Tj+ak/ODjmlpqs3eTK1jzg+i+Cl
 mhGfQoAtYqBBHmLmTrss7WUXa3hUeRhzLI0M1D6TXpoYuWJReRB1BfV1EkLp5I63iz0I
 3gpt8RDpqhUcBqanqtIDoHon8mMruCVF++owDZGFKp+7d6TrIbZmLSrVLQLBQoX6zr4u
 o3CQ==
X-Gm-Message-State: AOJu0YwOzNuxfPUXhXLnn/FJ14DvIeaTdN4OhMPYygdUEWOk3JgQH2rJ
 9ux66sWpDmpIqGplh7c69sdUtiIjDpNWmL5OkSf+DSbOQL+wCjrEDDaVaBDd0dkJuevHKXqQ2LQ
 7U3yFNgJz2HHyvmFPlWlsOBvXzKx8uqwm+8ppexyogU/PL0h8kw+YRtbl
X-Google-Smtp-Source: AGHT+IFOqeawob5WfQPMbVV6AIt09Isel07JXKgG3Fb7Jl8xcxvhzcEt4pIbac/6qI+XVid0RMR6VhOrb1aL
X-Received: by 2002:a05:6808:18a1:b0:3c1:f3c6:81be with SMTP id
 bi33-20020a05680818a100b003c1f3c681bemr376833oib.56.1710253497381; 
 Tue, 12 Mar 2024 07:24:57 -0700 (PDT)
Received: from postal.iol.unh.edu (postal.iol.unh.edu.
 [2606:4100:3880:1234::84]) by smtp-relay.gmail.com with ESMTPS id
 l12-20020ac8078c000000b0042f4bc631dbsm175374qth.2.2024.03.12.07.24.57
 (version=TLS1_2 cipher=ECDHE-ECDSA-AES128-GCM-SHA256 bits=128/128);
 Tue, 12 Mar 2024 07:24:57 -0700 (PDT)
X-Relaying-Domain: iol.unh.edu
Date: Tue, 12 Mar 2024 07:24:57 -0700 (PDT)
Message-ID: <65f065b9.c80a0220.f57a2.96e7SMTPIN_ADDED_MISSING@mx.google.com>
Received: from [172.21.0.6] (unknown [172.18.0.240])
 by postal.iol.unh.edu (Postfix) with ESMTP id 1609C6052471;
 Tue, 12 Mar 2024 10:24:57 -0400 (EDT)
Subject: |SUCCESS| pw138212-138216 [PATCH] [v6,5/5] crypto/ipsec_mb: unify so
From: dpdklab@iol.unh.edu
To: Test Report <test-report@dpdk.org>
Cc: dpdk-test-reports@iol.unh.edu
In-Reply-To: <20240312135020.2969533-5-brian.dooley@intel.com>
References: <20240312135020.2969533-5-brian.dooley@intel.com>
Content-Type: text/plain
X-BeenThere: test-report@dpdk.org
X-Mailman-Version: 2.1.29
Precedence: list
List-Id: automatic DPDK test reports <test-report.dpdk.org>
List-Unsubscribe: <https://mails.dpdk.org/options/test-report>,
 <mailto:test-report-request@dpdk.org?subject=unsubscribe>
List-Archive: <http://mails.dpdk.org/archives/test-report/>
List-Post: <mailto:test-report@dpdk.org>
List-Help: <mailto:test-report-request@dpdk.org?subject=help>
List-Subscribe: <https://mails.dpdk.org/listinfo/test-report>,
 <mailto:test-report-request@dpdk.org?subject=subscribe>
Errors-To: test-report-bounces@dpdk.org

Test-Label: iol-abi-testing
Test-Status: SUCCESS
http://dpdk.org/patch/138216

_Testing PASS_

Submitter: Brian Dooley <brian.dooley@intel.com>
Date: Tuesday, March 12 2024 13:50:19 
DPDK git baseline: Repo:dpdk
  Branch: master
  CommitID:a86f381b826660e88794754c41d3aec79ce9b87c

138212-138216 --> testing pass

Test environment and result as below:

+------------------+----------+
|   Environment    | abi_test |
+==================+==========+
| Debian Bullseye  | PASS     |
+------------------+----------+
| Debian 12 (arm)  | PASS     |
+------------------+----------+
| openSUSE Leap 15 | PASS     |
+------------------+----------+
| CentOS Stream 8  | PASS     |
+------------------+----------+
| Fedora 37        | PASS     |
+------------------+----------+


Debian Bullseye
	Kernel: 5.4.0-122-generic
	Compiler: gcc 10.2.1-6

Debian 12 (arm)
	Kernel: Container Host Kernel
	Compiler: gcc 11

openSUSE Leap 15
	Kernel: 4.18.0-240.10.1.el8_3.x86_64
	Compiler: gcc 7.5.0

CentOS Stream 8
	Kernel: 4.18.0-240.10.1.el8_3.x86_64
	Compiler: gcc 8.4.1 20200928

Fedora 37
	Kernel: Depends on container host system
	Compiler: gcc 12.3.1

To view detailed results, visit:
https://lab.dpdk.org/results/dashboard/patchsets/29516/

UNH-IOL DPDK Community Lab

To manage your email subscriptions, visit: 
https://lab.dpdk.org/results/dashboard/preferences/subscriptions/