From mboxrd@z Thu Jan  1 00:00:00 1970
Return-Path: <test-report-bounces@dpdk.org>
Received: from mails.dpdk.org (mails.dpdk.org [217.70.189.124])
	by inbox.dpdk.org (Postfix) with ESMTP id 2310543C92
	for <public@inbox.dpdk.org>; Tue, 12 Mar 2024 15:27:17 +0100 (CET)
Received: from mails.dpdk.org (localhost [127.0.0.1])
	by mails.dpdk.org (Postfix) with ESMTP id 1C14C402E0;
	Tue, 12 Mar 2024 15:27:17 +0100 (CET)
Received: from mail-ua1-f99.google.com (mail-ua1-f99.google.com
 [209.85.222.99]) by mails.dpdk.org (Postfix) with ESMTP id F0473402D8
 for <test-report@dpdk.org>; Tue, 12 Mar 2024 15:27:15 +0100 (CET)
Received: by mail-ua1-f99.google.com with SMTP id
 a1e0cc1a2514c-7dba7c2a730so2205465241.0
 for <test-report@dpdk.org>; Tue, 12 Mar 2024 07:27:15 -0700 (PDT)
DKIM-Signature: v=1; a=rsa-sha256; c=relaxed/relaxed;
 d=iol.unh.edu; s=unh-iol; t=1710253635; x=1710858435; darn=dpdk.org;
 h=references:in-reply-to:cc:to:from:subject:message-id:date:from:to
 :cc:subject:date:message-id:reply-to;
 bh=RQBtnJ6k2J8Lw/wmDImBlJ8d1IA80DuERog4uc+yU80=;
 b=UgG8RlQjvlGCC0l6COeMSzplvpK90zD6J1VRh3z+jcWguJ8eL0GZxHjytepVl9U5WK
 xSexUdEoTAQP95zfYEio3JKhQAqhs70RBmSocOMdayTNTsmIaxW/qm/SIAe4xLkT7Cbc
 0UAVGKzEzU+yYLiBWvCCvwTNWjUGy4KFzmeX0=
X-Google-DKIM-Signature: v=1; a=rsa-sha256; c=relaxed/relaxed;
 d=1e100.net; s=20230601; t=1710253635; x=1710858435;
 h=references:in-reply-to:cc:to:from:subject:message-id:date
 :x-gm-message-state:from:to:cc:subject:date:message-id:reply-to;
 bh=RQBtnJ6k2J8Lw/wmDImBlJ8d1IA80DuERog4uc+yU80=;
 b=QHS/bDAiAswmHTouv65iKTiPTH6xQo+yDA33Q71nhhpaBFyl5uHLQwXJGvPjihAr5B
 f9akxFxTir7Zg1aAFSyM0x+awmKtFszL0mGYYUN+PGiivj+P6gQ38duq2sMr5BEf3whK
 xxOYJzoA4ZK/mw25bnElo8Hj52GL0Rb5IO0IcIbHmPfLz9cnbs/HoA0AfXYlp40VIhub
 t+zFahcjNQ17OjSBzMiRo61W1hlU1L6sXMhHO9cwtJQSZomsOO62S/np8S+AYKf2x9vM
 PBZ3hd58uBYExExwld+WjHYcJsIZ/r0LqeVrG/WrN1NOQ1oiNw2gAoDMNMqr+ONT6BqF
 EaEw==
X-Gm-Message-State: AOJu0Yx0Jd6nkMVgqGHo4bg++ZgzJDhtTKd5U5A/8ruXGTC3cSvZPDG6
 alMT4m6lxwcx5wZwC3BttLMj287EJ/nc8lg6Ead9K/bBBVzBYP813d2GvRRLaK6cEnFMgHFVRXm
 osyjBaNCZ9LZ50CANtlb6XoD7Xkb+kEKvEKxBNyR0
X-Google-Smtp-Source: AGHT+IEub+v7j6gaxuc6ubc3D8Io7DBX9MQ2z3u7K++2/CDEPsjqewW20HOflh57r6UFs8KBFWhkJi6nwzVV
X-Received: by 2002:a05:6122:4e8f:b0:4d3:3a8c:13ad with SMTP id
 gf15-20020a0561224e8f00b004d33a8c13admr6347951vkb.8.1710253635397; 
 Tue, 12 Mar 2024 07:27:15 -0700 (PDT)
Received: from postal.iol.unh.edu (postal.iol.unh.edu. [132.177.123.84])
 by smtp-relay.gmail.com with ESMTPS id
 de15-20020a056122458f00b004d34b1adccbsm459931vkb.10.2024.03.12.07.27.15
 (version=TLS1_2 cipher=ECDHE-ECDSA-AES128-GCM-SHA256 bits=128/128);
 Tue, 12 Mar 2024 07:27:15 -0700 (PDT)
X-Relaying-Domain: iol.unh.edu
Date: Tue, 12 Mar 2024 07:27:15 -0700 (PDT)
Message-ID: <65f06643.050a0220.6476a.9dd1SMTPIN_ADDED_MISSING@mx.google.com>
Received: from [172.17.0.9] (unknown [172.18.0.217])
 by postal.iol.unh.edu (Postfix) with ESMTP id 0A0546052471;
 Tue, 12 Mar 2024 10:27:15 -0400 (EDT)
Subject: |SUCCESS| pw138212-138216 [PATCH] [v6,5/5] crypto/ipsec_mb: unify so
From: dpdklab@iol.unh.edu
To: Test Report <test-report@dpdk.org>
Cc: dpdk-test-reports@iol.unh.edu
In-Reply-To: <20240312135020.2969533-5-brian.dooley@intel.com>
References: <20240312135020.2969533-5-brian.dooley@intel.com>
Content-Type: text/plain
X-BeenThere: test-report@dpdk.org
X-Mailman-Version: 2.1.29
Precedence: list
List-Id: automatic DPDK test reports <test-report.dpdk.org>
List-Unsubscribe: <https://mails.dpdk.org/options/test-report>,
 <mailto:test-report-request@dpdk.org?subject=unsubscribe>
List-Archive: <http://mails.dpdk.org/archives/test-report/>
List-Post: <mailto:test-report@dpdk.org>
List-Help: <mailto:test-report-request@dpdk.org?subject=help>
List-Subscribe: <https://mails.dpdk.org/listinfo/test-report>,
 <mailto:test-report-request@dpdk.org?subject=subscribe>
Errors-To: test-report-bounces@dpdk.org

Test-Label: iol-compile-amd64-testing
Test-Status: SUCCESS
http://dpdk.org/patch/138216

_Testing PASS_

Submitter: Brian Dooley <brian.dooley@intel.com>
Date: Tuesday, March 12 2024 13:50:19 
DPDK git baseline: Repo:dpdk
  Branch: master
  CommitID:a86f381b826660e88794754c41d3aec79ce9b87c

138212-138216 --> testing pass

Test environment and result as below:

+---------------------+--------------------+----------------------+
|     Environment     | dpdk_meson_compile | dpdk_mingw64_compile |
+=====================+====================+======================+
| FreeBSD 13.2        | PASS               | SKIPPED              |
+---------------------+--------------------+----------------------+
| Windows Server 2022 | PASS               | SKIPPED              |
+---------------------+--------------------+----------------------+
| CentOS Stream 9     | PASS               | SKIPPED              |
+---------------------+--------------------+----------------------+
| CentOS Stream 8     | PASS               | SKIPPED              |
+---------------------+--------------------+----------------------+
| Debian Bullseye     | PASS               | SKIPPED              |
+---------------------+--------------------+----------------------+
| Windows Server 2019 | PASS               | PASS                 |
+---------------------+--------------------+----------------------+
| Fedora 37           | PASS               | SKIPPED              |
+---------------------+--------------------+----------------------+
| Debian 12 (arm)     | PASS               | SKIPPED              |
+---------------------+--------------------+----------------------+
| Fedora 38           | PASS               | SKIPPED              |
+---------------------+--------------------+----------------------+
| openSUSE Leap 15    | PASS               | SKIPPED              |
+---------------------+--------------------+----------------------+
| Ubuntu 20.04        | PASS               | SKIPPED              |
+---------------------+--------------------+----------------------+
| RHEL8               | PASS               | SKIPPED              |
+---------------------+--------------------+----------------------+
| Ubuntu 22.04        | PASS               | SKIPPED              |
+---------------------+--------------------+----------------------+


FreeBSD 13.2
	Kernel: 13.2
	Compiler: clang 11.3.0

Windows Server 2022
	Kernel: OS Build 20348.2031
	Compiler: MSVC VS-Preview

CentOS Stream 9
	Kernel: 4.18.0-240.10.1.el8_3.x86_64
	Compiler: gcc 11.3.1 20220421

CentOS Stream 8
	Kernel: 4.18.0-240.10.1.el8_3.x86_64
	Compiler: gcc 8.4.1 20200928

Debian Bullseye
	Kernel: 5.4.0-122-generic
	Compiler: gcc 10.2.1-6

Windows Server 2019
	Kernel: 10.0
	Compiler: clang 14.0 and gcc 8.1.0 (MinGW)

Fedora 37
	Kernel: Depends on container host system
	Compiler: gcc 12.3.1

Debian 12 (arm)
	Kernel: Container Host Kernel
	Compiler: gcc 11

Fedora 38
	Kernel: Depends on container host
	Compiler: gcc 13.1.1

openSUSE Leap 15
	Kernel: 4.18.0-240.10.1.el8_3.x86_64
	Compiler: gcc 7.5.0

Ubuntu 20.04
	Kernel: 5.4.0-153-generic
	Compiler: gcc 9.4.0-1ubuntu1~20.04.1

RHEL8
	Kernel: 4.18.0-240.10.1.el8_3.x86_64
	Compiler: gcc 8.3.1 20191121 (Red Hat 8.3.1-5)

Ubuntu 22.04
	Kernel: 4.18.0-240.10.1.el8_3.x86_64
	Compiler: gcc 11.3.0

To view detailed results, visit:
https://lab.dpdk.org/results/dashboard/patchsets/29516/

UNH-IOL DPDK Community Lab

To manage your email subscriptions, visit: 
https://lab.dpdk.org/results/dashboard/preferences/subscriptions/