From mboxrd@z Thu Jan  1 00:00:00 1970
Return-Path: <test-report-bounces@dpdk.org>
Received: from mails.dpdk.org (mails.dpdk.org [217.70.189.124])
	by inbox.dpdk.org (Postfix) with ESMTP id 5ABEE43C92
	for <public@inbox.dpdk.org>; Tue, 12 Mar 2024 15:27:50 +0100 (CET)
Received: from mails.dpdk.org (localhost [127.0.0.1])
	by mails.dpdk.org (Postfix) with ESMTP id 568B2402E0;
	Tue, 12 Mar 2024 15:27:50 +0100 (CET)
Received: from mail-io1-f99.google.com (mail-io1-f99.google.com
 [209.85.166.99]) by mails.dpdk.org (Postfix) with ESMTP id C0B2E402D8
 for <test-report@dpdk.org>; Tue, 12 Mar 2024 15:27:43 +0100 (CET)
Received: by mail-io1-f99.google.com with SMTP id
 ca18e2360f4ac-7c8aed81a3bso41072139f.1
 for <test-report@dpdk.org>; Tue, 12 Mar 2024 07:27:43 -0700 (PDT)
DKIM-Signature: v=1; a=rsa-sha256; c=relaxed/relaxed;
 d=iol.unh.edu; s=unh-iol; t=1710253663; x=1710858463; darn=dpdk.org;
 h=references:in-reply-to:cc:to:from:subject:message-id:date:from:to
 :cc:subject:date:message-id:reply-to;
 bh=7Moc93EeXFEJjQ9jlVbgxQG+0nH1Upz7+zmK+QKaqC8=;
 b=bOUeM+usZB6nYS6Ug3SVfJqxj5Xc6yhK7OBM4TpGbjD4xuDSJbgXm/VEjSE4DQ1wfu
 TZN+dO38HELxZmFZlwl21MK95eBIoxG+g6LRzrTxuJSmCPJDWGQgMYvbpP4L04eag67q
 bh2L4BYngwPFxmMXhbR6jYCGlB1eBJkTfj3hg=
X-Google-DKIM-Signature: v=1; a=rsa-sha256; c=relaxed/relaxed;
 d=1e100.net; s=20230601; t=1710253663; x=1710858463;
 h=references:in-reply-to:cc:to:from:subject:message-id:date
 :x-gm-message-state:from:to:cc:subject:date:message-id:reply-to;
 bh=7Moc93EeXFEJjQ9jlVbgxQG+0nH1Upz7+zmK+QKaqC8=;
 b=N56ukAzrBELo0BIkwu9/si781BwXPy9XZ6RPgeIXvzp97EF739p1tiRDywXpD5YER0
 hbpzB892TMrDbdnd51B2z0KqlVwoc7F237ggW+WnXB/A7F9usgrVkH1IIufH6Kgz8qhd
 VU6StS5vnMdmopAvEXmRgiGeZkU2wuVwUpJNIERU8pMAVbrM2/oPd2V66xikxdSszItc
 5irrLQnQHbH9ccn+p0OJVYmlBFMzsVNJPJ/aSba5PNKmZcOUHsIgdUwkIbLw9+Aw2kTw
 Q1Ho3A6Qo3zuGXPDo88ZCtxLElAS/GzNZZy+5naca2FaT0VtK9CRKfXuZrKI6kn7E1RG
 xeiA==
X-Gm-Message-State: AOJu0YwPafqd+jJgFBI1dIq/0/zkhAv58LpaUbMAO5Z7bitH81WtS4s5
 k3BDVfk0diZJXKVZwu72ThIVW8HkHT/bbxE8ENBuQpjgZ+f2LObjeF4t9OgcjuzcJFfbNk4wz4g
 m8Zy5Xu4knUqd0yzpTgkMJyTwzlS5NQ6X4p0/UBSw+Ixf5p72clXaSYJP
X-Google-Smtp-Source: AGHT+IHAzic9cuabJJ9ltk9voqtc7bpG5d2vSoBITVewf9PUIvC1WYCDczVSHYfujNuLKL8PqfjpxgoTUKeg
X-Received: by 2002:a05:6602:1242:b0:7c8:4fb6:a3e2 with SMTP id
 o2-20020a056602124200b007c84fb6a3e2mr633346iou.19.1710253663222; 
 Tue, 12 Mar 2024 07:27:43 -0700 (PDT)
Received: from postal.iol.unh.edu (postal.iol.unh.edu.
 [2606:4100:3880:1234::84]) by smtp-relay.gmail.com with ESMTPS id
 h22-20020a5d9716000000b007c8a7c76ba8sm299321iol.16.2024.03.12.07.27.43
 (version=TLS1_2 cipher=ECDHE-ECDSA-AES128-GCM-SHA256 bits=128/128);
 Tue, 12 Mar 2024 07:27:43 -0700 (PDT)
X-Relaying-Domain: iol.unh.edu
Date: Tue, 12 Mar 2024 07:27:43 -0700 (PDT)
Message-ID: <65f0665f.5d0a0220.d742c.227eSMTPIN_ADDED_MISSING@mx.google.com>
Received: from [172.21.0.6] (unknown [172.18.0.240])
 by postal.iol.unh.edu (Postfix) with ESMTP id CEE536052471;
 Tue, 12 Mar 2024 10:27:42 -0400 (EDT)
Subject: |SUCCESS| pw138212-138216 [PATCH] [v6,5/5] crypto/ipsec_mb: unify so
From: dpdklab@iol.unh.edu
To: Test Report <test-report@dpdk.org>
Cc: dpdk-test-reports@iol.unh.edu
In-Reply-To: <20240312135020.2969533-5-brian.dooley@intel.com>
References: <20240312135020.2969533-5-brian.dooley@intel.com>
Content-Type: text/plain
X-BeenThere: test-report@dpdk.org
X-Mailman-Version: 2.1.29
Precedence: list
List-Id: automatic DPDK test reports <test-report.dpdk.org>
List-Unsubscribe: <https://mails.dpdk.org/options/test-report>,
 <mailto:test-report-request@dpdk.org?subject=unsubscribe>
List-Archive: <http://mails.dpdk.org/archives/test-report/>
List-Post: <mailto:test-report@dpdk.org>
List-Help: <mailto:test-report-request@dpdk.org?subject=help>
List-Subscribe: <https://mails.dpdk.org/listinfo/test-report>,
 <mailto:test-report-request@dpdk.org?subject=subscribe>
Errors-To: test-report-bounces@dpdk.org

Test-Label: iol-compile-arm64-testing
Test-Status: SUCCESS
http://dpdk.org/patch/138216

_Testing PASS_

Submitter: Brian Dooley <brian.dooley@intel.com>
Date: Tuesday, March 12 2024 13:50:19 
DPDK git baseline: Repo:dpdk
  Branch: master
  CommitID:a86f381b826660e88794754c41d3aec79ce9b87c

138212-138216 --> testing pass

Test environment and result as below:

+--------------------------------------+--------------------+
|             Environment              | dpdk_meson_compile |
+======================================+====================+
| Ubuntu 20.04 ARM SVE                 | PASS               |
+--------------------------------------+--------------------+
| Debian 12 with MUSDK                 | PASS               |
+--------------------------------------+--------------------+
| Ubuntu 20.04 ARM Clang Cross Compile | PASS               |
+--------------------------------------+--------------------+
| Fedora 38 (ARM)                      | PASS               |
+--------------------------------------+--------------------+
| Ubuntu 20.04 (ARM)                   | PASS               |
+--------------------------------------+--------------------+
| Fedora 37 (ARM)                      | PASS               |
+--------------------------------------+--------------------+
| Debian 12 (arm)                      | PASS               |
+--------------------------------------+--------------------+
| CentOS Stream 9 (ARM)                | PASS               |
+--------------------------------------+--------------------+


Ubuntu 20.04 ARM SVE
	Kernel: 5.4.0-80-generic
	Compiler: gcc 10.3.0 (Ubuntu 10.3.0-1ubuntu1~20.04)

Debian 12 with MUSDK
	Kernel: Container Host Kernel
	Compiler: gcc 12

Ubuntu 20.04 ARM Clang Cross Compile
	Kernel: 5.4.0-72-generic
	Compiler: clang version 10.0.0-4ubuntu1

Fedora 38 (ARM)
	Kernel: Depends on container host
	Compiler: gcc 13.1.1

Ubuntu 20.04 (ARM)
	Kernel: Container Host Kernel
	Compiler: gcc 9.4.0

Fedora 37 (ARM)
	Kernel: Depends on container host
	Compiler: gcc 12.3.1

Debian 12 (arm)
	Kernel: Container Host Kernel
	Compiler: gcc 11

CentOS Stream 9 (ARM)
	Kernel: Container Host Kernel
	Compiler: gcc 11.3.1

To view detailed results, visit:
https://lab.dpdk.org/results/dashboard/patchsets/29516/

UNH-IOL DPDK Community Lab

To manage your email subscriptions, visit: 
https://lab.dpdk.org/results/dashboard/preferences/subscriptions/