From mboxrd@z Thu Jan  1 00:00:00 1970
Return-Path: <test-report-bounces@dpdk.org>
Received: from mails.dpdk.org (mails.dpdk.org [217.70.189.124])
	by inbox.dpdk.org (Postfix) with ESMTP id 121F543C92
	for <public@inbox.dpdk.org>; Tue, 12 Mar 2024 15:29:37 +0100 (CET)
Received: from mails.dpdk.org (localhost [127.0.0.1])
	by mails.dpdk.org (Postfix) with ESMTP id 06AE0402E0;
	Tue, 12 Mar 2024 15:29:37 +0100 (CET)
Received: from mail-io1-f97.google.com (mail-io1-f97.google.com
 [209.85.166.97]) by mails.dpdk.org (Postfix) with ESMTP id 0C6B4402D8
 for <test-report@dpdk.org>; Tue, 12 Mar 2024 15:29:36 +0100 (CET)
Received: by mail-io1-f97.google.com with SMTP id
 ca18e2360f4ac-7c8ad87b2acso46389639f.3
 for <test-report@dpdk.org>; Tue, 12 Mar 2024 07:29:35 -0700 (PDT)
DKIM-Signature: v=1; a=rsa-sha256; c=relaxed/relaxed;
 d=iol.unh.edu; s=unh-iol; t=1710253775; x=1710858575; darn=dpdk.org;
 h=references:in-reply-to:cc:to:from:subject:message-id:date:from:to
 :cc:subject:date:message-id:reply-to;
 bh=rsUcenAv8+ibN71kjFbkdgdacrYJQxX6zZHX3AOqhQU=;
 b=Hv2g4PDNe6dpz0qbu8sdm+5WwkvDPRJe/Qqemt8acusk/aG3LM0zmTxjXnR+Y4ne2y
 NtT672yP88gTbQ6mG+mrNZGgJnitiBIXdkdVwfTRtSPTrF7V6aMRUQD5o34r7EKvE7mS
 8Lr1youuZ3qHlsviCKmrTwTeNfGdKDvTVpeU0=
X-Google-DKIM-Signature: v=1; a=rsa-sha256; c=relaxed/relaxed;
 d=1e100.net; s=20230601; t=1710253775; x=1710858575;
 h=references:in-reply-to:cc:to:from:subject:message-id:date
 :x-gm-message-state:from:to:cc:subject:date:message-id:reply-to;
 bh=rsUcenAv8+ibN71kjFbkdgdacrYJQxX6zZHX3AOqhQU=;
 b=ntplKMyVeisU1WcSAasdAnwORckrhz8B+Q01QJJFjH4Tv84guqJfbXLvm+3akktyFK
 LztQ9qjqHB3qspNjsn8fRh6i2+nxbGL8CRQmyXk6HhXazxu5bvLsJ+y5fHIHgMWNHlW4
 miNRdzAfZvQYdd3sSVKS3AEs/ArWB89RCFitsBn5ghsbw5L2vAHNPlcgOOWUCYeNbq91
 FSbtV5fV3oJzpVC917X1zAaPYlvxocrEzre/b9lMYgfWP1B4HL1OfxUOpVTald+ryb6H
 mvVt5W8bihPIVLrtu8adyDyZP2MMIZL7xUYClRi1NRDYCqAXdbUrTr29JvdqCbD4na5G
 MOfA==
X-Gm-Message-State: AOJu0YyBzBa+QVFtegKU7QKCurv8DRHGNf8nUyOTpUwWDBLh76fZEhcN
 bC6pg5PLh1+NPwNij++wlICkG2natT00V6L5UUdSXasWFxFXEZ7rCPm4lalYi2+KiF7S+rN2ehv
 VeFOxmw7P04nUIBnKrb+vZcAaC7aEx1QINy6YEKKC
X-Google-Smtp-Source: AGHT+IGcyFqEM51sIQiIxRiWd304edZhmaMCV0WVPh5ddOxWsNv2dNwcBTt92y4JPXMe91F9ynScLBHg442y
X-Received: by 2002:a6b:6c16:0:b0:7c8:5bb8:96d with SMTP id
 a22-20020a6b6c16000000b007c85bb8096dmr11293070ioh.3.1710253775492; 
 Tue, 12 Mar 2024 07:29:35 -0700 (PDT)
Received: from postal.iol.unh.edu (postal.iol.unh.edu. [132.177.123.84])
 by smtp-relay.gmail.com with ESMTPS id
 s19-20020a056602169300b007c8b99f9687sm208460iow.35.2024.03.12.07.29.35
 (version=TLS1_2 cipher=ECDHE-ECDSA-AES128-GCM-SHA256 bits=128/128);
 Tue, 12 Mar 2024 07:29:35 -0700 (PDT)
X-Relaying-Domain: iol.unh.edu
Date: Tue, 12 Mar 2024 07:29:35 -0700 (PDT)
Message-ID: <65f066cf.050a0220.4ab0a.c0b5SMTPIN_ADDED_MISSING@mx.google.com>
Received: from [172.21.0.6] (unknown [172.18.0.240])
 by postal.iol.unh.edu (Postfix) with ESMTP id 040806052471;
 Tue, 12 Mar 2024 10:29:35 -0400 (EDT)
Subject: |SUCCESS| pw138212-138216 [PATCH] [v6,5/5] crypto/ipsec_mb: unify so
From: dpdklab@iol.unh.edu
To: Test Report <test-report@dpdk.org>
Cc: dpdk-test-reports@iol.unh.edu
In-Reply-To: <20240312135020.2969533-5-brian.dooley@intel.com>
References: <20240312135020.2969533-5-brian.dooley@intel.com>
Content-Type: text/plain
X-BeenThere: test-report@dpdk.org
X-Mailman-Version: 2.1.29
Precedence: list
List-Id: automatic DPDK test reports <test-report.dpdk.org>
List-Unsubscribe: <https://mails.dpdk.org/options/test-report>,
 <mailto:test-report-request@dpdk.org?subject=unsubscribe>
List-Archive: <http://mails.dpdk.org/archives/test-report/>
List-Post: <mailto:test-report@dpdk.org>
List-Help: <mailto:test-report-request@dpdk.org?subject=help>
List-Subscribe: <https://mails.dpdk.org/listinfo/test-report>,
 <mailto:test-report-request@dpdk.org?subject=subscribe>
Errors-To: test-report-bounces@dpdk.org

Test-Label: iol-unit-amd64-testing
Test-Status: SUCCESS
http://dpdk.org/patch/138216

_Testing PASS_

Submitter: Brian Dooley <brian.dooley@intel.com>
Date: Tuesday, March 12 2024 13:50:19 
DPDK git baseline: Repo:dpdk
  Branch: master
  CommitID:a86f381b826660e88794754c41d3aec79ce9b87c

138212-138216 --> testing pass

Test environment and result as below:

+-----------------+----------------+
|   Environment   | dpdk_unit_test |
+=================+================+
| CentOS Stream 8 | PASS           |
+-----------------+----------------+
| Debian 12 (arm) | PASS           |
+-----------------+----------------+
| CentOS Stream 9 | PASS           |
+-----------------+----------------+
| Debian Bullseye | PASS           |
+-----------------+----------------+
| Fedora 37       | PASS           |
+-----------------+----------------+


CentOS Stream 8
	Kernel: 4.18.0-240.10.1.el8_3.x86_64
	Compiler: gcc 8.4.1 20200928

Debian 12 (arm)
	Kernel: Container Host Kernel
	Compiler: gcc 11

CentOS Stream 9
	Kernel: 4.18.0-240.10.1.el8_3.x86_64
	Compiler: gcc 11.3.1 20220421

Debian Bullseye
	Kernel: 5.4.0-122-generic
	Compiler: gcc 10.2.1-6

Fedora 37
	Kernel: Depends on container host system
	Compiler: gcc 12.3.1

To view detailed results, visit:
https://lab.dpdk.org/results/dashboard/patchsets/29516/

UNH-IOL DPDK Community Lab

To manage your email subscriptions, visit: 
https://lab.dpdk.org/results/dashboard/preferences/subscriptions/