From mboxrd@z Thu Jan  1 00:00:00 1970
Return-Path: <test-report-bounces@dpdk.org>
Received: from mails.dpdk.org (mails.dpdk.org [217.70.189.124])
	by inbox.dpdk.org (Postfix) with ESMTP id 25BED43C92
	for <public@inbox.dpdk.org>; Tue, 12 Mar 2024 15:29:53 +0100 (CET)
Received: from mails.dpdk.org (localhost [127.0.0.1])
	by mails.dpdk.org (Postfix) with ESMTP id 21885402E0;
	Tue, 12 Mar 2024 15:29:53 +0100 (CET)
Received: from mail-pf1-f226.google.com (mail-pf1-f226.google.com
 [209.85.210.226])
 by mails.dpdk.org (Postfix) with ESMTP id 0D9FD402D8
 for <test-report@dpdk.org>; Tue, 12 Mar 2024 15:29:52 +0100 (CET)
Received: by mail-pf1-f226.google.com with SMTP id
 d2e1a72fcca58-6e6a9fafacdso397890b3a.2
 for <test-report@dpdk.org>; Tue, 12 Mar 2024 07:29:51 -0700 (PDT)
DKIM-Signature: v=1; a=rsa-sha256; c=relaxed/relaxed;
 d=iol.unh.edu; s=unh-iol; t=1710253791; x=1710858591; darn=dpdk.org;
 h=references:in-reply-to:cc:to:from:subject:message-id:date:from:to
 :cc:subject:date:message-id:reply-to;
 bh=+6lvpCOj2q8pfWbdDB+zfsrWlII4xrIWghPxMf0f+Rs=;
 b=VPqouJLKHr+cqkUDS0xY72Kq4QciWIwH6EaqX/HxYpNmvBgqnEEImq4Gyry1fuCTP0
 0Yu8fh9PFPuef3HADFJHVsjfDI7uce5kymeVMinon2WGpkce1DiFigojFgDdY4scHSlt
 InP0EywsbECPEH4li6pYKuWaUiamc0icYDh5I=
X-Google-DKIM-Signature: v=1; a=rsa-sha256; c=relaxed/relaxed;
 d=1e100.net; s=20230601; t=1710253791; x=1710858591;
 h=references:in-reply-to:cc:to:from:subject:message-id:date
 :x-gm-message-state:from:to:cc:subject:date:message-id:reply-to;
 bh=+6lvpCOj2q8pfWbdDB+zfsrWlII4xrIWghPxMf0f+Rs=;
 b=kL45Qmar91ypEMQAWqRvQ9kvomGVnkegZtLUdI6SNkiRLiFLAffIJJHwW6020Ka+F9
 8US6gMjfGaq1XtzAN75ZfaC2hFl2ol7GVKqTzQwiMbvujSoO00AOf0aWkP6SoCUF9D2g
 JsDFLkPJ9uypvWjjAAJT43GbQCzzAkXBnJ8gVQ9g6KuOf/gitbUPU3gDllPmjtZFUy2a
 jQhvGz0a/ff8OHX+pGbTSCIPz3y8PeHaE+yfgRzc6KKF2bwvWFfWrlumus+osQ9Th5aP
 Uie6u8Tbu9ySOqauwj1DuG26Z4kUkw52hDBfUOx3GPAWgkawgTVTagypyKWsdnYiw/F9
 yHcA==
X-Gm-Message-State: AOJu0YyWphBCJ/sZojH4hpFH+vsyApwRhPf+PUxtTuNdGnRCfP9Ny0Vs
 1T797KdadAF0rHLYRJ6J1J/HRREmp7PKfRlEEQ08FDAc5o1sWaNy+oMMKIRDjJpmZRgRB0jNcDX
 +Eh82m6CtfxefvVsAhx4A9Ih6/Zr3ud4ZgC2GTcge/CeFmVUu8uzN9tK7
X-Google-Smtp-Source: AGHT+IH3pf9k5y6WCP7/CWJwWHr+XPjgZRXvGDrg6HAMBxz4UL9IzcLkta0tW6IE3s20Z68A//vglzdTnlit
X-Received: by 2002:a05:6a20:840f:b0:1a1:4757:927e with SMTP id
 c15-20020a056a20840f00b001a14757927emr8355367pzd.33.1710253791171; 
 Tue, 12 Mar 2024 07:29:51 -0700 (PDT)
Received: from postal.iol.unh.edu (postal.iol.unh.edu.
 [2606:4100:3880:1234::84]) by smtp-relay.gmail.com with ESMTPS id
 hk10-20020a056a00878a00b006e6aca0981esm43790pfb.0.2024.03.12.07.29.51
 (version=TLS1_2 cipher=ECDHE-ECDSA-AES128-GCM-SHA256 bits=128/128);
 Tue, 12 Mar 2024 07:29:51 -0700 (PDT)
X-Relaying-Domain: iol.unh.edu
Date: Tue, 12 Mar 2024 07:29:51 -0700 (PDT)
Message-ID: <65f066df.050a0220.46827.3305SMTPIN_ADDED_MISSING@mx.google.com>
Received: from [172.17.0.9] (unknown [172.18.0.217])
 by postal.iol.unh.edu (Postfix) with ESMTP id 579A66052471;
 Tue, 12 Mar 2024 10:29:50 -0400 (EDT)
Subject: |SUCCESS| pw138212-138216 [PATCH] [v6,5/5] crypto/ipsec_mb: unify so
From: dpdklab@iol.unh.edu
To: Test Report <test-report@dpdk.org>
Cc: dpdk-test-reports@iol.unh.edu
In-Reply-To: <20240312135020.2969533-5-brian.dooley@intel.com>
References: <20240312135020.2969533-5-brian.dooley@intel.com>
Content-Type: text/plain
X-BeenThere: test-report@dpdk.org
X-Mailman-Version: 2.1.29
Precedence: list
List-Id: automatic DPDK test reports <test-report.dpdk.org>
List-Unsubscribe: <https://mails.dpdk.org/options/test-report>,
 <mailto:test-report-request@dpdk.org?subject=unsubscribe>
List-Archive: <http://mails.dpdk.org/archives/test-report/>
List-Post: <mailto:test-report@dpdk.org>
List-Help: <mailto:test-report-request@dpdk.org?subject=help>
List-Subscribe: <https://mails.dpdk.org/listinfo/test-report>,
 <mailto:test-report-request@dpdk.org?subject=subscribe>
Errors-To: test-report-bounces@dpdk.org

Test-Label: iol-compile-arm64-testing
Test-Status: SUCCESS
http://dpdk.org/patch/138216

_Testing PASS_

Submitter: Brian Dooley <brian.dooley@intel.com>
Date: Tuesday, March 12 2024 13:50:19 
DPDK git baseline: Repo:dpdk
  Branch: master
  CommitID:a86f381b826660e88794754c41d3aec79ce9b87c

138212-138216 --> testing pass

Test environment and result as below:

+--------------------------------------+--------------------+
|             Environment              | dpdk_meson_compile |
+======================================+====================+
| Ubuntu 20.04 ARM SVE                 | PASS               |
+--------------------------------------+--------------------+
| Debian 12 with MUSDK                 | PASS               |
+--------------------------------------+--------------------+
| Ubuntu 20.04 ARM Clang Cross Compile | PASS               |
+--------------------------------------+--------------------+
| Fedora 38 (ARM)                      | PASS               |
+--------------------------------------+--------------------+
| Ubuntu 20.04 (ARM)                   | PASS               |
+--------------------------------------+--------------------+
| Fedora 37 (ARM)                      | PASS               |
+--------------------------------------+--------------------+
| Debian 12 (arm)                      | PASS               |
+--------------------------------------+--------------------+
| CentOS Stream 9 (ARM)                | PASS               |
+--------------------------------------+--------------------+
| Debian 11 (Buster) (ARM)             | PASS               |
+--------------------------------------+--------------------+


Ubuntu 20.04 ARM SVE
	Kernel: 5.4.0-80-generic
	Compiler: gcc 10.3.0 (Ubuntu 10.3.0-1ubuntu1~20.04)

Debian 12 with MUSDK
	Kernel: Container Host Kernel
	Compiler: gcc 12

Ubuntu 20.04 ARM Clang Cross Compile
	Kernel: 5.4.0-72-generic
	Compiler: clang version 10.0.0-4ubuntu1

Fedora 38 (ARM)
	Kernel: Depends on container host
	Compiler: gcc 13.1.1

Ubuntu 20.04 (ARM)
	Kernel: Container Host Kernel
	Compiler: gcc 9.4.0

Fedora 37 (ARM)
	Kernel: Depends on container host
	Compiler: gcc 12.3.1

Debian 12 (arm)
	Kernel: Container Host Kernel
	Compiler: gcc 11

CentOS Stream 9 (ARM)
	Kernel: Container Host Kernel
	Compiler: gcc 11.3.1

Debian 11 (Buster) (ARM)
	Kernel: Container Host Kernel
	Compiler: gcc 10.2.1

To view detailed results, visit:
https://lab.dpdk.org/results/dashboard/patchsets/29516/

UNH-IOL DPDK Community Lab

To manage your email subscriptions, visit: 
https://lab.dpdk.org/results/dashboard/preferences/subscriptions/