From mboxrd@z Thu Jan  1 00:00:00 1970
Return-Path: <test-report-bounces@dpdk.org>
Received: from mails.dpdk.org (mails.dpdk.org [217.70.189.124])
	by inbox.dpdk.org (Postfix) with ESMTP id 9AE4643C92
	for <public@inbox.dpdk.org>; Tue, 12 Mar 2024 15:31:28 +0100 (CET)
Received: from mails.dpdk.org (localhost [127.0.0.1])
	by mails.dpdk.org (Postfix) with ESMTP id 9689C4111B;
	Tue, 12 Mar 2024 15:31:28 +0100 (CET)
Received: from mail-yw1-f227.google.com (mail-yw1-f227.google.com
 [209.85.128.227])
 by mails.dpdk.org (Postfix) with ESMTP id C0DBE41104
 for <test-report@dpdk.org>; Tue, 12 Mar 2024 15:31:27 +0100 (CET)
Received: by mail-yw1-f227.google.com with SMTP id
 00721157ae682-60a434ea806so20400117b3.3
 for <test-report@dpdk.org>; Tue, 12 Mar 2024 07:31:27 -0700 (PDT)
DKIM-Signature: v=1; a=rsa-sha256; c=relaxed/relaxed;
 d=iol.unh.edu; s=unh-iol; t=1710253887; x=1710858687; darn=dpdk.org;
 h=references:in-reply-to:cc:to:from:subject:message-id:date:from:to
 :cc:subject:date:message-id:reply-to;
 bh=rsUcenAv8+ibN71kjFbkdgdacrYJQxX6zZHX3AOqhQU=;
 b=bURKI5wdH32KrJNGbKASk5yajZpkyISLBKSlpY4XAoSHdU9jdEgMrVz1IdacEtC8Xw
 JB19J1W2Njayb3H0DTwoRvEYo/ocfopQt5UWXHcbXW/VONQdj0dC+gdZXwgSS5uI4LMn
 xRB3ixx89R32EJAFF+IAlMA8lPrrEJI6UVB+U=
X-Google-DKIM-Signature: v=1; a=rsa-sha256; c=relaxed/relaxed;
 d=1e100.net; s=20230601; t=1710253887; x=1710858687;
 h=references:in-reply-to:cc:to:from:subject:message-id:date
 :x-gm-message-state:from:to:cc:subject:date:message-id:reply-to;
 bh=rsUcenAv8+ibN71kjFbkdgdacrYJQxX6zZHX3AOqhQU=;
 b=je4sNWeF5UmQegyy0vD1zisLUBHjr7NWPioUNNdx2Vv/7yAvoIlb/UBGs5GAljQmLz
 cYIC3oBqdByKt3l9apvWPFWqx7x7P/sgEw0GkbAwUYLW9QcguP7YClUMT8pXEqZ3WzFE
 EuMW6Gt2cukSjaKjwp/JrjJ78xg85LrwJWVEcqOvheb+4bCJUULj5gj7SPfbnpHG9MvG
 ESA4ZWxupE2PZm0NKp+EvrMFGEQm/w5rJc7ny+IOsEiikF6v8VWTlnjtStq24MXNoyZu
 Lk/lp1USeGCTaowV4wOy8Cj0I/E61XlMGQL2Uq3hzs2evCHz+SM5NwI6ZDSS5q62VgzN
 vFGw==
X-Gm-Message-State: AOJu0Yw9djr0LL/s5QlL3iXqUig092vdtwp+QBL6EfwVM06T2oiqVnT1
 FINYeom0w9Co/Be+g+C4VOhOhewyG1Lx3fpTCYVT+jQLjZR+SP/J4XTJA+yjV3tlVqGhZW2a+wD
 3URVO80LFtiSGw1+eIkBHUONqoug98aDAg2PCGTci
X-Google-Smtp-Source: AGHT+IGcTldbQT45zMXVIG69YGjblfpCWBTq8HOnQjcoRJQkWh45OqmF+TW8xHIpuK4RC3O9s5stSAs0+73S
X-Received: by 2002:a81:9107:0:b0:609:a14c:4281 with SMTP id
 i7-20020a819107000000b00609a14c4281mr434547ywg.15.1710253885712; 
 Tue, 12 Mar 2024 07:31:25 -0700 (PDT)
Received: from postal.iol.unh.edu (postal.iol.unh.edu. [132.177.123.84])
 by smtp-relay.gmail.com with ESMTPS id
 et8-20020a05690c2e0800b0060877e3605fsm222372ywb.25.2024.03.12.07.31.25
 (version=TLS1_2 cipher=ECDHE-ECDSA-AES128-GCM-SHA256 bits=128/128);
 Tue, 12 Mar 2024 07:31:25 -0700 (PDT)
X-Relaying-Domain: iol.unh.edu
Date: Tue, 12 Mar 2024 07:31:25 -0700 (PDT)
Message-ID: <65f0673d.050a0220.5feb9.ca85SMTPIN_ADDED_MISSING@mx.google.com>
Received: from [172.17.0.8] (unknown [172.18.0.217])
 by postal.iol.unh.edu (Postfix) with ESMTP id 512CA6052471;
 Tue, 12 Mar 2024 10:31:24 -0400 (EDT)
Subject: |SUCCESS| pw138212-138216 [PATCH] [v6,5/5] crypto/ipsec_mb: unify so
From: dpdklab@iol.unh.edu
To: Test Report <test-report@dpdk.org>
Cc: dpdk-test-reports@iol.unh.edu
In-Reply-To: <20240312135020.2969533-5-brian.dooley@intel.com>
References: <20240312135020.2969533-5-brian.dooley@intel.com>
Content-Type: text/plain
X-BeenThere: test-report@dpdk.org
X-Mailman-Version: 2.1.29
Precedence: list
List-Id: automatic DPDK test reports <test-report.dpdk.org>
List-Unsubscribe: <https://mails.dpdk.org/options/test-report>,
 <mailto:test-report-request@dpdk.org?subject=unsubscribe>
List-Archive: <http://mails.dpdk.org/archives/test-report/>
List-Post: <mailto:test-report@dpdk.org>
List-Help: <mailto:test-report-request@dpdk.org?subject=help>
List-Subscribe: <https://mails.dpdk.org/listinfo/test-report>,
 <mailto:test-report-request@dpdk.org?subject=subscribe>
Errors-To: test-report-bounces@dpdk.org

Test-Label: iol-unit-amd64-testing
Test-Status: SUCCESS
http://dpdk.org/patch/138216

_Testing PASS_

Submitter: Brian Dooley <brian.dooley@intel.com>
Date: Tuesday, March 12 2024 13:50:19 
DPDK git baseline: Repo:dpdk
  Branch: master
  CommitID:a86f381b826660e88794754c41d3aec79ce9b87c

138212-138216 --> testing pass

Test environment and result as below:

+-----------------+----------------+
|   Environment   | dpdk_unit_test |
+=================+================+
| CentOS Stream 8 | PASS           |
+-----------------+----------------+
| Debian 12 (arm) | PASS           |
+-----------------+----------------+
| CentOS Stream 9 | PASS           |
+-----------------+----------------+
| Debian Bullseye | PASS           |
+-----------------+----------------+
| Fedora 37       | PASS           |
+-----------------+----------------+


CentOS Stream 8
	Kernel: 4.18.0-240.10.1.el8_3.x86_64
	Compiler: gcc 8.4.1 20200928

Debian 12 (arm)
	Kernel: Container Host Kernel
	Compiler: gcc 11

CentOS Stream 9
	Kernel: 4.18.0-240.10.1.el8_3.x86_64
	Compiler: gcc 11.3.1 20220421

Debian Bullseye
	Kernel: 5.4.0-122-generic
	Compiler: gcc 10.2.1-6

Fedora 37
	Kernel: Depends on container host system
	Compiler: gcc 12.3.1

To view detailed results, visit:
https://lab.dpdk.org/results/dashboard/patchsets/29516/

UNH-IOL DPDK Community Lab

To manage your email subscriptions, visit: 
https://lab.dpdk.org/results/dashboard/preferences/subscriptions/