From mboxrd@z Thu Jan  1 00:00:00 1970
Return-Path: <test-report-bounces@dpdk.org>
Received: from mails.dpdk.org (mails.dpdk.org [217.70.189.124])
	by inbox.dpdk.org (Postfix) with ESMTP id 8A79543C92
	for <public@inbox.dpdk.org>; Tue, 12 Mar 2024 15:33:41 +0100 (CET)
Received: from mails.dpdk.org (localhost [127.0.0.1])
	by mails.dpdk.org (Postfix) with ESMTP id 81D1A40EDB;
	Tue, 12 Mar 2024 15:33:41 +0100 (CET)
Received: from mail-yw1-f226.google.com (mail-yw1-f226.google.com
 [209.85.128.226])
 by mails.dpdk.org (Postfix) with ESMTP id 13279402E0
 for <test-report@dpdk.org>; Tue, 12 Mar 2024 15:33:40 +0100 (CET)
Received: by mail-yw1-f226.google.com with SMTP id
 00721157ae682-60a0599f631so34335247b3.2
 for <test-report@dpdk.org>; Tue, 12 Mar 2024 07:33:40 -0700 (PDT)
DKIM-Signature: v=1; a=rsa-sha256; c=relaxed/relaxed;
 d=iol.unh.edu; s=unh-iol; t=1710254019; x=1710858819; darn=dpdk.org;
 h=references:in-reply-to:cc:to:from:subject:message-id:date:from:to
 :cc:subject:date:message-id:reply-to;
 bh=1H7WXfSJqBe+jymnmAN/97U1b2CZSXhr0UbSECDLl2w=;
 b=Bw1RqJCkYo8jBrnEStMFowL3P+RTl8Hxlt0mYZbuJJCCPfd3EyDaTfJubnlhcdeQLc
 27t7FprKzFyQshYpoPgown2/YnD8Ofra75a9z2Ap1VQlIUXYBAxz27r8ZS2+biWE2RgM
 nNJIAosbrIngPXVteY9qV9vqKR7ICf52pnFoQ=
X-Google-DKIM-Signature: v=1; a=rsa-sha256; c=relaxed/relaxed;
 d=1e100.net; s=20230601; t=1710254019; x=1710858819;
 h=references:in-reply-to:cc:to:from:subject:message-id:date
 :x-gm-message-state:from:to:cc:subject:date:message-id:reply-to;
 bh=1H7WXfSJqBe+jymnmAN/97U1b2CZSXhr0UbSECDLl2w=;
 b=wYcMDeWX11pYDP6+0SaeJFx9kR8WO9PlMLH3NUECer1xtN/t5V8fKgmUIHXepM9c71
 PfRLernsfVQt+M/XYEqBHnf/HMu4K0spUKYFufltsIbVhkZgY+a9XHlMzv20tqlAFwjN
 vkvtz5gdrOcw94Bh5bu1A6zvkwlcYdkOXqoTEFuPnT+O4JFd+dzGKHD+J8RdiZe7i6PT
 xDindtdRqNm2scJuNH/5jZbR5LUkZ+onPh6L1+FV4V2Rh0G+uw3WWVe4rs+2loY/5iV/
 5wqLZQdOHczqBxO6d7gHbDHDkMF2bX9b2mw2iM/kR8bbBdA4l7P5pX9TiWShOqqH6B+2
 eT/Q==
X-Gm-Message-State: AOJu0YyC/NO2dpDrNjBNIU+Z9iZYGOpjLw+XoYqTJqVs3BQW7iurKyep
 w81oXuEAl6Yx8SvZ0qtXYjNjHL3zr+oSYTCaejubRfB3DI/YDRDY5VX8LdGoXVNMP93KwxgLlwd
 oxz7CgwJrvFBGUcH7xRxSeqxlqT2pITYah3udjSsF
X-Google-Smtp-Source: AGHT+IFz9Z5LPsxLqYzEdf3pjFJYu9JPLopySY6loU/RORXbmIqmJ5ux9+2LcXxwl2xT5Wk/owAw7sXPNHUK
X-Received: by 2002:a0d:d815:0:b0:60a:13f3:9990 with SMTP id
 a21-20020a0dd815000000b0060a13f39990mr1956074ywe.15.1710254019514; 
 Tue, 12 Mar 2024 07:33:39 -0700 (PDT)
Received: from postal.iol.unh.edu (postal.iol.unh.edu. [132.177.123.84])
 by smtp-relay.gmail.com with ESMTPS id
 r75-20020a819a4e000000b0060784b52b43sm421617ywg.53.2024.03.12.07.33.39
 (version=TLS1_2 cipher=ECDHE-ECDSA-AES128-GCM-SHA256 bits=128/128);
 Tue, 12 Mar 2024 07:33:39 -0700 (PDT)
X-Relaying-Domain: iol.unh.edu
Date: Tue, 12 Mar 2024 07:33:39 -0700 (PDT)
Message-ID: <65f067c3.810a0220.42003.b13bSMTPIN_ADDED_MISSING@mx.google.com>
Received: from [172.21.0.6] (unknown [172.18.0.240])
 by postal.iol.unh.edu (Postfix) with ESMTP id 2B31C6052471;
 Tue, 12 Mar 2024 10:33:38 -0400 (EDT)
Subject: |SUCCESS| pw138212-138216 [PATCH] [v6,5/5] crypto/ipsec_mb: unify so
From: dpdklab@iol.unh.edu
To: Test Report <test-report@dpdk.org>
Cc: dpdk-test-reports@iol.unh.edu
In-Reply-To: <20240312135020.2969533-5-brian.dooley@intel.com>
References: <20240312135020.2969533-5-brian.dooley@intel.com>
Content-Type: text/plain
X-BeenThere: test-report@dpdk.org
X-Mailman-Version: 2.1.29
Precedence: list
List-Id: automatic DPDK test reports <test-report.dpdk.org>
List-Unsubscribe: <https://mails.dpdk.org/options/test-report>,
 <mailto:test-report-request@dpdk.org?subject=unsubscribe>
List-Archive: <http://mails.dpdk.org/archives/test-report/>
List-Post: <mailto:test-report@dpdk.org>
List-Help: <mailto:test-report-request@dpdk.org?subject=help>
List-Subscribe: <https://mails.dpdk.org/listinfo/test-report>,
 <mailto:test-report-request@dpdk.org?subject=subscribe>
Errors-To: test-report-bounces@dpdk.org

Test-Label: iol-unit-amd64-testing
Test-Status: SUCCESS
http://dpdk.org/patch/138216

_Testing PASS_

Submitter: Brian Dooley <brian.dooley@intel.com>
Date: Tuesday, March 12 2024 13:50:19 
DPDK git baseline: Repo:dpdk
  Branch: master
  CommitID:a86f381b826660e88794754c41d3aec79ce9b87c

138212-138216 --> testing pass

Test environment and result as below:

+---------------------+----------------+
|     Environment     | dpdk_unit_test |
+=====================+================+
| CentOS Stream 8     | PASS           |
+---------------------+----------------+
| Debian 12 (arm)     | PASS           |
+---------------------+----------------+
| CentOS Stream 9     | PASS           |
+---------------------+----------------+
| Debian Bullseye     | PASS           |
+---------------------+----------------+
| Fedora 37           | PASS           |
+---------------------+----------------+
| RHEL8               | PASS           |
+---------------------+----------------+
| Windows Server 2019 | PASS           |
+---------------------+----------------+
| Fedora 38           | PASS           |
+---------------------+----------------+


CentOS Stream 8
	Kernel: 4.18.0-240.10.1.el8_3.x86_64
	Compiler: gcc 8.4.1 20200928

Debian 12 (arm)
	Kernel: Container Host Kernel
	Compiler: gcc 11

CentOS Stream 9
	Kernel: 4.18.0-240.10.1.el8_3.x86_64
	Compiler: gcc 11.3.1 20220421

Debian Bullseye
	Kernel: 5.4.0-122-generic
	Compiler: gcc 10.2.1-6

Fedora 37
	Kernel: Depends on container host system
	Compiler: gcc 12.3.1

RHEL8
	Kernel: 4.18.0-240.10.1.el8_3.x86_64
	Compiler: gcc 8.3.1 20191121 (Red Hat 8.3.1-5)

Windows Server 2019
	Kernel: 10.0
	Compiler: clang 14.0 and gcc 8.1.0 (MinGW)

Fedora 38
	Kernel: Depends on container host
	Compiler: gcc 13.1.1

To view detailed results, visit:
https://lab.dpdk.org/results/dashboard/patchsets/29516/

UNH-IOL DPDK Community Lab

To manage your email subscriptions, visit: 
https://lab.dpdk.org/results/dashboard/preferences/subscriptions/