From mboxrd@z Thu Jan  1 00:00:00 1970
Return-Path: <test-report-bounces@dpdk.org>
Received: from mails.dpdk.org (mails.dpdk.org [217.70.189.124])
	by inbox.dpdk.org (Postfix) with ESMTP id 32EDB43C92
	for <public@inbox.dpdk.org>; Tue, 12 Mar 2024 15:41:02 +0100 (CET)
Received: from mails.dpdk.org (localhost [127.0.0.1])
	by mails.dpdk.org (Postfix) with ESMTP id 2D80C402E0;
	Tue, 12 Mar 2024 15:41:02 +0100 (CET)
Received: from mail-il1-f227.google.com (mail-il1-f227.google.com
 [209.85.166.227])
 by mails.dpdk.org (Postfix) with ESMTP id B72BD402D8
 for <test-report@dpdk.org>; Tue, 12 Mar 2024 15:41:00 +0100 (CET)
Received: by mail-il1-f227.google.com with SMTP id
 e9e14a558f8ab-3666dc3d22cso2671795ab.2
 for <test-report@dpdk.org>; Tue, 12 Mar 2024 07:41:00 -0700 (PDT)
DKIM-Signature: v=1; a=rsa-sha256; c=relaxed/relaxed;
 d=iol.unh.edu; s=unh-iol; t=1710254460; x=1710859260; darn=dpdk.org;
 h=references:in-reply-to:cc:to:from:subject:message-id:date:from:to
 :cc:subject:date:message-id:reply-to;
 bh=2M4dtpgGz4OPGCur6Q/oFEbp+mTGYOld/Mo4d9awGFw=;
 b=Zqeiby8f/1TB9Jz1Nt/45s9Vm1MtbXTSvOL2/bPIxEw3yMsmv7fPD2DXDgoeDvrhEC
 MTwcqdTaFe4SDkEhGxlG6DDFCFxGA+HSBB/X5nvDuiABjhh3hhUAM0ihJkBzjOtsmjZQ
 oc50PbdgQxMpMA4NKw0PAsKGNBcP6hewuucOE=
X-Google-DKIM-Signature: v=1; a=rsa-sha256; c=relaxed/relaxed;
 d=1e100.net; s=20230601; t=1710254460; x=1710859260;
 h=references:in-reply-to:cc:to:from:subject:message-id:date
 :x-gm-message-state:from:to:cc:subject:date:message-id:reply-to;
 bh=2M4dtpgGz4OPGCur6Q/oFEbp+mTGYOld/Mo4d9awGFw=;
 b=i3xGbEaq6v8EAxqXIIu+K00+Sud7LcREPMzImpvea487hYFWMNIg0/iiApIpWARKwD
 B4aEgLavc0UnnWOteXRnmSHoV213k0n9+8N/rDBWIBh64vLCRz64+Hlgt6iMiPRqBZlo
 V4xh14IbOhBQjPzc8mhNmy+xTT7h4i3HoBq98mc41Oh1acWS0izCOVWELfLvZVJ1ZILW
 f//Bj3yNfu6nvMwHk7/1id4FX9mcylYlNYamLt7g15uShlU/4V98uHoowBRk7Wv/ze7j
 6Ah4GHr0o0ab+G2c2/JnAEPq3aT+rhJkeF/2vge6cVf49UGJLHplzyO2WSYAMz69xqkj
 uDJg==
X-Gm-Message-State: AOJu0YynmmGG19uZezzRYzYxetIgoZ4OGc9/O/d62EW15pTBl1qjfvCk
 Xc4JqumSmHtsm0hEeomMJgsabsRpBeBmVxunBEG5ekVq5MWYzjl7zPWjF09Xfe0kY+ceFh0YpHg
 QKImdvWi5aK6nokvyp5FU8SPrEz7HWJUFN85eZXYP
X-Google-Smtp-Source: AGHT+IFo7YGSmLTI6UghU15pcO3qW3i4yCmnjRJSsGFtu9pcagpHhc1xtO5S2WfwAFNW4gfiyzmMNCGwzrUG
X-Received: by 2002:a05:6e02:190a:b0:365:1035:83ab with SMTP id
 w10-20020a056e02190a00b00365103583abmr12299601ilu.32.1710254460125; 
 Tue, 12 Mar 2024 07:41:00 -0700 (PDT)
Received: from postal.iol.unh.edu (postal.iol.unh.edu. [132.177.123.84])
 by smtp-relay.gmail.com with ESMTPS id
 bz2-20020a056e02268200b0036530bbb2absm458777ilb.60.2024.03.12.07.41.00
 (version=TLS1_2 cipher=ECDHE-ECDSA-AES128-GCM-SHA256 bits=128/128);
 Tue, 12 Mar 2024 07:41:00 -0700 (PDT)
X-Relaying-Domain: iol.unh.edu
Date: Tue, 12 Mar 2024 07:41:00 -0700 (PDT)
Message-ID: <65f0697c.050a0220.19a4d.d62aSMTPIN_ADDED_MISSING@mx.google.com>
Received: from [172.17.0.6] (unknown [172.18.0.217])
 by postal.iol.unh.edu (Postfix) with ESMTP id 93B7C6052471;
 Tue, 12 Mar 2024 10:40:59 -0400 (EDT)
Subject: |SUCCESS| pw138212-138216 [PATCH] [v6,5/5] crypto/ipsec_mb: unify so
From: dpdklab@iol.unh.edu
To: Test Report <test-report@dpdk.org>
Cc: dpdk-test-reports@iol.unh.edu
In-Reply-To: <20240312135020.2969533-5-brian.dooley@intel.com>
References: <20240312135020.2969533-5-brian.dooley@intel.com>
Content-Type: text/plain
X-BeenThere: test-report@dpdk.org
X-Mailman-Version: 2.1.29
Precedence: list
List-Id: automatic DPDK test reports <test-report.dpdk.org>
List-Unsubscribe: <https://mails.dpdk.org/options/test-report>,
 <mailto:test-report-request@dpdk.org?subject=unsubscribe>
List-Archive: <http://mails.dpdk.org/archives/test-report/>
List-Post: <mailto:test-report@dpdk.org>
List-Help: <mailto:test-report-request@dpdk.org?subject=help>
List-Subscribe: <https://mails.dpdk.org/listinfo/test-report>,
 <mailto:test-report-request@dpdk.org?subject=subscribe>
Errors-To: test-report-bounces@dpdk.org

Test-Label: iol-unit-amd64-testing
Test-Status: SUCCESS
http://dpdk.org/patch/138216

_Testing PASS_

Submitter: Brian Dooley <brian.dooley@intel.com>
Date: Tuesday, March 12 2024 13:50:19 
DPDK git baseline: Repo:dpdk
  Branch: master
  CommitID:a86f381b826660e88794754c41d3aec79ce9b87c

138212-138216 --> testing pass

Test environment and result as below:

+---------------------+----------------+
|     Environment     | dpdk_unit_test |
+=====================+================+
| CentOS Stream 8     | PASS           |
+---------------------+----------------+
| Debian 12 (arm)     | PASS           |
+---------------------+----------------+
| CentOS Stream 9     | PASS           |
+---------------------+----------------+
| Debian Bullseye     | PASS           |
+---------------------+----------------+
| Fedora 37           | PASS           |
+---------------------+----------------+
| RHEL8               | PASS           |
+---------------------+----------------+
| Windows Server 2019 | PASS           |
+---------------------+----------------+
| Fedora 38           | PASS           |
+---------------------+----------------+
| Ubuntu 20.04        | PASS           |
+---------------------+----------------+
| openSUSE Leap 15    | PASS           |
+---------------------+----------------+
| Ubuntu 22.04        | PASS           |
+---------------------+----------------+


CentOS Stream 8
	Kernel: 4.18.0-240.10.1.el8_3.x86_64
	Compiler: gcc 8.4.1 20200928

Debian 12 (arm)
	Kernel: Container Host Kernel
	Compiler: gcc 11

CentOS Stream 9
	Kernel: 4.18.0-240.10.1.el8_3.x86_64
	Compiler: gcc 11.3.1 20220421

Debian Bullseye
	Kernel: 5.4.0-122-generic
	Compiler: gcc 10.2.1-6

Fedora 37
	Kernel: Depends on container host system
	Compiler: gcc 12.3.1

RHEL8
	Kernel: 4.18.0-240.10.1.el8_3.x86_64
	Compiler: gcc 8.3.1 20191121 (Red Hat 8.3.1-5)

Windows Server 2019
	Kernel: 10.0
	Compiler: clang 14.0 and gcc 8.1.0 (MinGW)

Fedora 38
	Kernel: Depends on container host
	Compiler: gcc 13.1.1

Ubuntu 20.04
	Kernel: 5.4.0-153-generic
	Compiler: gcc 9.4.0-1ubuntu1~20.04.1

openSUSE Leap 15
	Kernel: 4.18.0-240.10.1.el8_3.x86_64
	Compiler: gcc 7.5.0

Ubuntu 22.04
	Kernel: 4.18.0-240.10.1.el8_3.x86_64
	Compiler: gcc 11.3.0

To view detailed results, visit:
https://lab.dpdk.org/results/dashboard/patchsets/29516/

UNH-IOL DPDK Community Lab

To manage your email subscriptions, visit: 
https://lab.dpdk.org/results/dashboard/preferences/subscriptions/