From mboxrd@z Thu Jan  1 00:00:00 1970
Return-Path: <test-report-bounces@dpdk.org>
Received: from mails.dpdk.org (mails.dpdk.org [217.70.189.124])
	by inbox.dpdk.org (Postfix) with ESMTP id D87DF43C93
	for <public@inbox.dpdk.org>; Tue, 12 Mar 2024 16:42:46 +0100 (CET)
Received: from mails.dpdk.org (localhost [127.0.0.1])
	by mails.dpdk.org (Postfix) with ESMTP id 24ADB42831;
	Tue, 12 Mar 2024 16:42:46 +0100 (CET)
Received: from mail-pl1-f227.google.com (mail-pl1-f227.google.com
 [209.85.214.227])
 by mails.dpdk.org (Postfix) with ESMTP id 0D823427E5
 for <test-report@dpdk.org>; Tue, 12 Mar 2024 16:42:45 +0100 (CET)
Received: by mail-pl1-f227.google.com with SMTP id
 d9443c01a7336-1dda51bb52eso14220585ad.3
 for <test-report@dpdk.org>; Tue, 12 Mar 2024 08:42:44 -0700 (PDT)
DKIM-Signature: v=1; a=rsa-sha256; c=relaxed/relaxed;
 d=iol.unh.edu; s=unh-iol; t=1710258164; x=1710862964; darn=dpdk.org;
 h=references:in-reply-to:cc:to:from:subject:message-id:date:from:to
 :cc:subject:date:message-id:reply-to;
 bh=aHqh955M8kru5PUSV75iN3HKlny6GgaflY9N/CnGr1U=;
 b=SD1EcQn5kMira2/EeofWs+E5kbi+g3M/Edx9UvXeBET28KxiKILh6fFQk7h3ts7aoo
 88GDYrEMu6z33d2jhnlt/Oy1Zukk47JnmL01DrAcQBrfnaNX8dfYafw7pqzViUbPBAEe
 clbbcqrfE02wL8/RZBFrlB8xIegYPgzwAIPaI=
X-Google-DKIM-Signature: v=1; a=rsa-sha256; c=relaxed/relaxed;
 d=1e100.net; s=20230601; t=1710258164; x=1710862964;
 h=references:in-reply-to:cc:to:from:subject:message-id:date
 :x-gm-message-state:from:to:cc:subject:date:message-id:reply-to;
 bh=aHqh955M8kru5PUSV75iN3HKlny6GgaflY9N/CnGr1U=;
 b=AkoBj32FE+pyn5UCd6rTL0o13iGlNVPiYWy7aNl6nLthjlLvUalXlHpYotDzLX8UpA
 wtrKc/+Gmb47M+OC7DrSzrvfyz8ougmwihwDx0FDYGKVS6NLl4ze5mgpZ4K63nbfsjPc
 3e/dypEyeddovAETP0A4K868aVmA6KcJJa9BL1zBHdHBF3v6Oy7s7n2ywtfsbzmuFmwP
 pBEiBzz5P+Ky4ZTE0wv78JIYRRDHETP+oOXsJkq9ywI9gDqpDR9HqQ6adBEL4j/+e6TV
 7fzruFhiQI3Xm89PdiYGX+Pt2/g63Nr3/WcG5zrEmqfsPOgIKSbjD+hsFGNlm0CpXA3v
 mcEQ==
X-Gm-Message-State: AOJu0YzRVfEuJhNc6gwkdQ2S/ZsqyTf38W8k4bPNAU3NLEIULGCUbFmY
 tw1j0eDDhyjNXtbKb6YkxerS/4EgfCSJdOXswJkP8gLZzHdshOaWSlBrKL7mpu3nikfFUWDkrji
 O0bxbp6VqAE3SkOu5GejQk5RQhFwmc0XF/GqAh1KZIk6vES4mQanZCGcj
X-Google-Smtp-Source: AGHT+IHuLNRTSWrmhYJG8AiC1KGfHqubkwhQSk45ZxKI6DI999tkRwFuiB29f8FV7j0Ks6J+n7GjE8R4t86G
X-Received: by 2002:a17:90a:ca87:b0:29b:ab21:6ae1 with SMTP id
 y7-20020a17090aca8700b0029bab216ae1mr2230625pjt.38.1710258164251; 
 Tue, 12 Mar 2024 08:42:44 -0700 (PDT)
Received: from postal.iol.unh.edu (postal.iol.unh.edu.
 [2606:4100:3880:1234::84]) by smtp-relay.gmail.com with ESMTPS id
 fs3-20020a17090af28300b0029b8fc62bfbsm578936pjb.11.2024.03.12.08.42.44
 (version=TLS1_2 cipher=ECDHE-ECDSA-AES128-GCM-SHA256 bits=128/128);
 Tue, 12 Mar 2024 08:42:44 -0700 (PDT)
X-Relaying-Domain: iol.unh.edu
Date: Tue, 12 Mar 2024 08:42:44 -0700 (PDT)
Message-ID: <65f077f4.170a0220.51525.4f45SMTPIN_ADDED_MISSING@mx.google.com>
Received: from [172.21.0.6] (unknown [172.18.0.240])
 by postal.iol.unh.edu (Postfix) with ESMTP id 6661A6052471;
 Tue, 12 Mar 2024 11:42:43 -0400 (EDT)
Subject: |SUCCESS| pw138218 [PATCH] github: Reduce ASLR entropy to be compati
From: dpdklab@iol.unh.edu
To: Test Report <test-report@dpdk.org>
Cc: dpdk-test-reports@iol.unh.edu
In-Reply-To: <20240312145326.1377818-1-aconole@redhat.com>
References: <20240312145326.1377818-1-aconole@redhat.com>
Content-Type: text/plain
X-BeenThere: test-report@dpdk.org
X-Mailman-Version: 2.1.29
Precedence: list
List-Id: automatic DPDK test reports <test-report.dpdk.org>
List-Unsubscribe: <https://mails.dpdk.org/options/test-report>,
 <mailto:test-report-request@dpdk.org?subject=unsubscribe>
List-Archive: <http://mails.dpdk.org/archives/test-report/>
List-Post: <mailto:test-report@dpdk.org>
List-Help: <mailto:test-report-request@dpdk.org?subject=help>
List-Subscribe: <https://mails.dpdk.org/listinfo/test-report>,
 <mailto:test-report-request@dpdk.org?subject=subscribe>
Errors-To: test-report-bounces@dpdk.org

Test-Label: iol-compile-amd64-testing
Test-Status: SUCCESS
http://dpdk.org/patch/138218

_Testing PASS_

Submitter: Aaron Conole <aconole@redhat.com>
Date: Tuesday, March 12 2024 14:53:26 
DPDK git baseline: Repo:dpdk
  Branch: master
  CommitID:a86f381b826660e88794754c41d3aec79ce9b87c

138218 --> testing pass

Test environment and result as below:

+---------------------+--------------------+----------------------+
|     Environment     | dpdk_meson_compile | dpdk_mingw64_compile |
+=====================+====================+======================+
| Debian Bullseye     | PASS               | SKIPPED              |
+---------------------+--------------------+----------------------+
| FreeBSD 13.2        | PASS               | SKIPPED              |
+---------------------+--------------------+----------------------+
| Windows Server 2022 | PASS               | SKIPPED              |
+---------------------+--------------------+----------------------+
| CentOS Stream 8     | PASS               | SKIPPED              |
+---------------------+--------------------+----------------------+
| Fedora 38           | PASS               | SKIPPED              |
+---------------------+--------------------+----------------------+
| CentOS Stream 9     | PASS               | SKIPPED              |
+---------------------+--------------------+----------------------+
| Fedora 37           | PASS               | SKIPPED              |
+---------------------+--------------------+----------------------+
| Windows Server 2019 | PASS               | PASS                 |
+---------------------+--------------------+----------------------+
| Ubuntu 20.04        | PASS               | SKIPPED              |
+---------------------+--------------------+----------------------+
| Ubuntu 22.04        | PASS               | SKIPPED              |
+---------------------+--------------------+----------------------+
| RHEL8               | PASS               | SKIPPED              |
+---------------------+--------------------+----------------------+
| Debian 12 (arm)     | PASS               | SKIPPED              |
+---------------------+--------------------+----------------------+
| openSUSE Leap 15    | PASS               | SKIPPED              |
+---------------------+--------------------+----------------------+
| Alpine              | PASS               | SKIPPED              |
+---------------------+--------------------+----------------------+


Debian Bullseye
	Kernel: 5.4.0-122-generic
	Compiler: gcc 10.2.1-6

FreeBSD 13.2
	Kernel: 13.2
	Compiler: clang 11.3.0

Windows Server 2022
	Kernel: OS Build 20348.2031
	Compiler: MSVC VS-Preview

CentOS Stream 8
	Kernel: 4.18.0-240.10.1.el8_3.x86_64
	Compiler: gcc 8.4.1 20200928

Fedora 38
	Kernel: Depends on container host
	Compiler: gcc 13.1.1

CentOS Stream 9
	Kernel: 4.18.0-240.10.1.el8_3.x86_64
	Compiler: gcc 11.3.1 20220421

Fedora 37
	Kernel: Depends on container host system
	Compiler: gcc 12.3.1

Windows Server 2019
	Kernel: 10.0
	Compiler: clang 14.0 and gcc 8.1.0 (MinGW)

Ubuntu 20.04
	Kernel: 5.4.0-153-generic
	Compiler: gcc 9.4.0-1ubuntu1~20.04.1

Ubuntu 22.04
	Kernel: 4.18.0-240.10.1.el8_3.x86_64
	Compiler: gcc 11.3.0

RHEL8
	Kernel: 4.18.0-240.10.1.el8_3.x86_64
	Compiler: gcc 8.3.1 20191121 (Red Hat 8.3.1-5)

Debian 12 (arm)
	Kernel: Container Host Kernel
	Compiler: gcc 11

openSUSE Leap 15
	Kernel: 4.18.0-240.10.1.el8_3.x86_64
	Compiler: gcc 7.5.0

Alpine
	Kernel: 5.4.0-73-generic
	Compiler: gcc (Alpine 10.3.1_git20210424) 10.3.1 20210424

To view detailed results, visit:
https://lab.dpdk.org/results/dashboard/patchsets/29518/

UNH-IOL DPDK Community Lab

To manage your email subscriptions, visit: 
https://lab.dpdk.org/results/dashboard/preferences/subscriptions/