From mboxrd@z Thu Jan  1 00:00:00 1970
Return-Path: <test-report-bounces@dpdk.org>
Received: from mails.dpdk.org (mails.dpdk.org [217.70.189.124])
	by inbox.dpdk.org (Postfix) with ESMTP id 76DB443C93
	for <public@inbox.dpdk.org>; Tue, 12 Mar 2024 16:51:28 +0100 (CET)
Received: from mails.dpdk.org (localhost [127.0.0.1])
	by mails.dpdk.org (Postfix) with ESMTP id 7005D40ED9;
	Tue, 12 Mar 2024 16:51:28 +0100 (CET)
Received: from mail-oo1-f98.google.com (mail-oo1-f98.google.com
 [209.85.161.98]) by mails.dpdk.org (Postfix) with ESMTP id 71F0A402D8
 for <test-report@dpdk.org>; Tue, 12 Mar 2024 16:51:27 +0100 (CET)
Received: by mail-oo1-f98.google.com with SMTP id
 006d021491bc7-5a1ca29db62so2636496eaf.0
 for <test-report@dpdk.org>; Tue, 12 Mar 2024 08:51:27 -0700 (PDT)
DKIM-Signature: v=1; a=rsa-sha256; c=relaxed/relaxed;
 d=iol.unh.edu; s=unh-iol; t=1710258687; x=1710863487; darn=dpdk.org;
 h=references:in-reply-to:cc:to:from:subject:message-id:date:from:to
 :cc:subject:date:message-id:reply-to;
 bh=aHqh955M8kru5PUSV75iN3HKlny6GgaflY9N/CnGr1U=;
 b=hQbKvhe4O7xKUZxpY2F3rJNeJjx9VOM0maDzL6u88ICnkfFe4pwdZaKUfUVVV3+VGi
 6RX8sd65tN1cK4DeUPeuFIdIBc7poh2oy1bNtxIPSBjDZyhofyopdkpk7dBTzE0MuLAW
 l6qRDTevbqX1uq+/VjLmSG50tMrYgvyrI8DjU=
X-Google-DKIM-Signature: v=1; a=rsa-sha256; c=relaxed/relaxed;
 d=1e100.net; s=20230601; t=1710258687; x=1710863487;
 h=references:in-reply-to:cc:to:from:subject:message-id:date
 :x-gm-message-state:from:to:cc:subject:date:message-id:reply-to;
 bh=aHqh955M8kru5PUSV75iN3HKlny6GgaflY9N/CnGr1U=;
 b=dXscme0Ng1q981nhHEPL0f8ozFgRGDQyjm5w3/T0zJK8KOD3NwnD66APnp0XaZu4tc
 xWOBX+xmYGpqcmlLCLvzlt/C3/7m7h+j9UtcvcW9I8g7k+ffM4m9c3aTNwNWRTaUh53w
 lpV8mqyUeHdHsFW3iiQCnVbrBEd2nJ04YgNUarAIHbDuVuuco12lStqT+3l+feo2wfiK
 Qizbm/5TxFb7Dec1W2Q9WCKcHtFATQ8vxe+QsBX1LSrSiKdUt3kP5qZe/pUcgX42znmG
 X96t+Lx/rljyV8PNu5Il1PJ4HH6cqH0cfM/RH6KSZ3BE3/zRM9aQ60KJBUM/XZqcI1IY
 GdQg==
X-Gm-Message-State: AOJu0YwAfuGlEveMTD3ObAGUTfmGQ84UtDbTdPUO39GYei2Usnkq6Kkd
 jnLp4Fe5oxxd8Lx7Nmn9DXSqFgY/pHXsISN4O+WcB36EMsiEz0+Z08W2H4f4EUeJkLG2WTQ2rx+
 djAO9AX794kLwOpf5/byClvMjQKSbdCCJbUTW4/3CtBQi2UQctFbBUevj
X-Google-Smtp-Source: AGHT+IF9VEoPnIsuN4KuaOYW/tDsiwsKrRtSX6t3rdfiP4Mt9nudy/KDudZ9e4hrP1kkvIhyVrID7xRyA+fc
X-Received: by 2002:a05:6358:598f:b0:17b:5b6a:de9d with SMTP id
 c15-20020a056358598f00b0017b5b6ade9dmr12147707rwf.23.1710258686867; 
 Tue, 12 Mar 2024 08:51:26 -0700 (PDT)
Received: from postal.iol.unh.edu (postal.iol.unh.edu.
 [2606:4100:3880:1234::84]) by smtp-relay.gmail.com with ESMTPS id
 q11-20020a635c0b000000b005dc1e620401sm376202pgb.13.2024.03.12.08.51.26
 (version=TLS1_2 cipher=ECDHE-ECDSA-AES128-GCM-SHA256 bits=128/128);
 Tue, 12 Mar 2024 08:51:26 -0700 (PDT)
X-Relaying-Domain: iol.unh.edu
Date: Tue, 12 Mar 2024 08:51:26 -0700 (PDT)
Message-ID: <65f079fe.630a0220.8ab73.7f4aSMTPIN_ADDED_MISSING@mx.google.com>
Received: from [172.17.0.6] (unknown [172.18.0.217])
 by postal.iol.unh.edu (Postfix) with ESMTP id 168546052471;
 Tue, 12 Mar 2024 11:51:26 -0400 (EDT)
Subject: |SUCCESS| pw138218 [PATCH] github: Reduce ASLR entropy to be compati
From: dpdklab@iol.unh.edu
To: Test Report <test-report@dpdk.org>
Cc: dpdk-test-reports@iol.unh.edu
In-Reply-To: <20240312145326.1377818-1-aconole@redhat.com>
References: <20240312145326.1377818-1-aconole@redhat.com>
Content-Type: text/plain
X-BeenThere: test-report@dpdk.org
X-Mailman-Version: 2.1.29
Precedence: list
List-Id: automatic DPDK test reports <test-report.dpdk.org>
List-Unsubscribe: <https://mails.dpdk.org/options/test-report>,
 <mailto:test-report-request@dpdk.org?subject=unsubscribe>
List-Archive: <http://mails.dpdk.org/archives/test-report/>
List-Post: <mailto:test-report@dpdk.org>
List-Help: <mailto:test-report-request@dpdk.org?subject=help>
List-Subscribe: <https://mails.dpdk.org/listinfo/test-report>,
 <mailto:test-report-request@dpdk.org?subject=subscribe>
Errors-To: test-report-bounces@dpdk.org

Test-Label: iol-compile-amd64-testing
Test-Status: SUCCESS
http://dpdk.org/patch/138218

_Testing PASS_

Submitter: Aaron Conole <aconole@redhat.com>
Date: Tuesday, March 12 2024 14:53:26 
DPDK git baseline: Repo:dpdk
  Branch: master
  CommitID:a86f381b826660e88794754c41d3aec79ce9b87c

138218 --> testing pass

Test environment and result as below:

+---------------------+--------------------+----------------------+
|     Environment     | dpdk_meson_compile | dpdk_mingw64_compile |
+=====================+====================+======================+
| Debian Bullseye     | PASS               | SKIPPED              |
+---------------------+--------------------+----------------------+
| FreeBSD 13.2        | PASS               | SKIPPED              |
+---------------------+--------------------+----------------------+
| Windows Server 2022 | PASS               | SKIPPED              |
+---------------------+--------------------+----------------------+
| CentOS Stream 8     | PASS               | SKIPPED              |
+---------------------+--------------------+----------------------+
| Fedora 38           | PASS               | SKIPPED              |
+---------------------+--------------------+----------------------+
| CentOS Stream 9     | PASS               | SKIPPED              |
+---------------------+--------------------+----------------------+
| Fedora 37           | PASS               | SKIPPED              |
+---------------------+--------------------+----------------------+
| Windows Server 2019 | PASS               | PASS                 |
+---------------------+--------------------+----------------------+
| Ubuntu 20.04        | PASS               | SKIPPED              |
+---------------------+--------------------+----------------------+
| Ubuntu 22.04        | PASS               | SKIPPED              |
+---------------------+--------------------+----------------------+
| RHEL8               | PASS               | SKIPPED              |
+---------------------+--------------------+----------------------+
| Debian 12 (arm)     | PASS               | SKIPPED              |
+---------------------+--------------------+----------------------+
| openSUSE Leap 15    | PASS               | SKIPPED              |
+---------------------+--------------------+----------------------+
| Alpine              | PASS               | SKIPPED              |
+---------------------+--------------------+----------------------+


Debian Bullseye
	Kernel: 5.4.0-122-generic
	Compiler: gcc 10.2.1-6

FreeBSD 13.2
	Kernel: 13.2
	Compiler: clang 11.3.0

Windows Server 2022
	Kernel: OS Build 20348.2031
	Compiler: MSVC VS-Preview

CentOS Stream 8
	Kernel: 4.18.0-240.10.1.el8_3.x86_64
	Compiler: gcc 8.4.1 20200928

Fedora 38
	Kernel: Depends on container host
	Compiler: gcc 13.1.1

CentOS Stream 9
	Kernel: 4.18.0-240.10.1.el8_3.x86_64
	Compiler: gcc 11.3.1 20220421

Fedora 37
	Kernel: Depends on container host system
	Compiler: gcc 12.3.1

Windows Server 2019
	Kernel: 10.0
	Compiler: clang 14.0 and gcc 8.1.0 (MinGW)

Ubuntu 20.04
	Kernel: 5.4.0-153-generic
	Compiler: gcc 9.4.0-1ubuntu1~20.04.1

Ubuntu 22.04
	Kernel: 4.18.0-240.10.1.el8_3.x86_64
	Compiler: gcc 11.3.0

RHEL8
	Kernel: 4.18.0-240.10.1.el8_3.x86_64
	Compiler: gcc 8.3.1 20191121 (Red Hat 8.3.1-5)

Debian 12 (arm)
	Kernel: Container Host Kernel
	Compiler: gcc 11

openSUSE Leap 15
	Kernel: 4.18.0-240.10.1.el8_3.x86_64
	Compiler: gcc 7.5.0

Alpine
	Kernel: 5.4.0-73-generic
	Compiler: gcc (Alpine 10.3.1_git20210424) 10.3.1 20210424

To view detailed results, visit:
https://lab.dpdk.org/results/dashboard/patchsets/29518/

UNH-IOL DPDK Community Lab

To manage your email subscriptions, visit: 
https://lab.dpdk.org/results/dashboard/preferences/subscriptions/