From mboxrd@z Thu Jan  1 00:00:00 1970
Return-Path: <test-report-bounces@dpdk.org>
Received: from mails.dpdk.org (mails.dpdk.org [217.70.189.124])
	by inbox.dpdk.org (Postfix) with ESMTP id CF62443C93
	for <public@inbox.dpdk.org>; Tue, 12 Mar 2024 16:52:15 +0100 (CET)
Received: from mails.dpdk.org (localhost [127.0.0.1])
	by mails.dpdk.org (Postfix) with ESMTP id CB00E40ED9;
	Tue, 12 Mar 2024 16:52:15 +0100 (CET)
Received: from mail-oi1-f225.google.com (mail-oi1-f225.google.com
 [209.85.167.225])
 by mails.dpdk.org (Postfix) with ESMTP id AB3B3402D8
 for <test-report@dpdk.org>; Tue, 12 Mar 2024 16:52:14 +0100 (CET)
Received: by mail-oi1-f225.google.com with SMTP id
 5614622812f47-3c1e6c32a55so2458309b6e.2
 for <test-report@dpdk.org>; Tue, 12 Mar 2024 08:52:14 -0700 (PDT)
DKIM-Signature: v=1; a=rsa-sha256; c=relaxed/relaxed;
 d=iol.unh.edu; s=unh-iol; t=1710258734; x=1710863534; darn=dpdk.org;
 h=references:in-reply-to:cc:to:from:subject:message-id:date:from:to
 :cc:subject:date:message-id:reply-to;
 bh=aHqh955M8kru5PUSV75iN3HKlny6GgaflY9N/CnGr1U=;
 b=IOrvQkxm7y+tQ7mW6cMz7z5VAq/WXiylnGzYa4AiTfgEjoUzCSI9ME4O4vlwmGNcGJ
 AFy7by3ssNfHbiHrHoqGuVESXNtbupy+Nj886c5EEmtbFcvZ3XWr+RvnW9NU6/1Ttjpg
 QOhK4IKI+I6Bzcp75sIUh4hBpT5oly9SfjOno=
X-Google-DKIM-Signature: v=1; a=rsa-sha256; c=relaxed/relaxed;
 d=1e100.net; s=20230601; t=1710258734; x=1710863534;
 h=references:in-reply-to:cc:to:from:subject:message-id:date
 :x-gm-message-state:from:to:cc:subject:date:message-id:reply-to;
 bh=aHqh955M8kru5PUSV75iN3HKlny6GgaflY9N/CnGr1U=;
 b=VAKLVzp40yFG6DMmykzYJaCUq1kBPWodaQFqgVhVNaLDJVGrVxU7ud266x1pUVcw6Z
 h55JlskSOdW+aCKBwzAv5d5c/B1b2mAwNX6dOeVe/odPLwt2pZS+WWTIChLYKbheiS8O
 zMIAUoZIYXFm8p1WYGEgiVIQqyXeHB2juzzo46B93/eq3o13F/G0vYpBxa/RsVHyuPaJ
 t0Tr37kBNY77orAbPGBhKTh17ABbq7KCktBXXH2Y+BAauaJkY47P1tEAbLkEIXkgmTVX
 3RsBsWMd040rdOX8OLSQGi0cdopg3Oh/U9BrhUVP8VWH0jGvqhT8SENB7n1mAJ8+luME
 DtTw==
X-Gm-Message-State: AOJu0YxTPHrsgi/OlFMgM9SwvgwORe76hp/95x9zlcPhzMZy7LTvul4Q
 OKkYuoqFWWteakDJny6KY1p/pvMrxNtXVdZEgCRS1y8+/KGfd2cywih9IR0uEys0g4sg73ep64W
 DD5hexon86g0k2J2Ho1eHFAX1kTFI4NAfMlDEBOAs
X-Google-Smtp-Source: AGHT+IEJPWNQJULYdjjhy91xBP25MeqYpcvvq+e/UHpadIl+C830+V4uDFSDVrFxcmt3TbTZ0+oteScGvcW8
X-Received: by 2002:a05:6808:300e:b0:3c2:2f9a:f87b with SMTP id
 ay14-20020a056808300e00b003c22f9af87bmr625968oib.19.1710258734051; 
 Tue, 12 Mar 2024 08:52:14 -0700 (PDT)
Received: from postal.iol.unh.edu (postal.iol.unh.edu. [132.177.123.84])
 by smtp-relay.gmail.com with ESMTPS id
 b16-20020ac84f10000000b0042f4b785107sm192025qte.6.2024.03.12.08.52.13
 (version=TLS1_2 cipher=ECDHE-ECDSA-AES128-GCM-SHA256 bits=128/128);
 Tue, 12 Mar 2024 08:52:14 -0700 (PDT)
X-Relaying-Domain: iol.unh.edu
Date: Tue, 12 Mar 2024 08:52:14 -0700 (PDT)
Message-ID: <65f07a2e.c80a0220.69d1a.a486SMTPIN_ADDED_MISSING@mx.google.com>
Received: from [172.17.0.7] (unknown [172.18.0.217])
 by postal.iol.unh.edu (Postfix) with ESMTP id AE8BF6052471;
 Tue, 12 Mar 2024 11:52:13 -0400 (EDT)
Subject: |SUCCESS| pw138218 [PATCH] github: Reduce ASLR entropy to be compati
From: dpdklab@iol.unh.edu
To: Test Report <test-report@dpdk.org>
Cc: dpdk-test-reports@iol.unh.edu
In-Reply-To: <20240312145326.1377818-1-aconole@redhat.com>
References: <20240312145326.1377818-1-aconole@redhat.com>
Content-Type: text/plain
X-BeenThere: test-report@dpdk.org
X-Mailman-Version: 2.1.29
Precedence: list
List-Id: automatic DPDK test reports <test-report.dpdk.org>
List-Unsubscribe: <https://mails.dpdk.org/options/test-report>,
 <mailto:test-report-request@dpdk.org?subject=unsubscribe>
List-Archive: <http://mails.dpdk.org/archives/test-report/>
List-Post: <mailto:test-report@dpdk.org>
List-Help: <mailto:test-report-request@dpdk.org?subject=help>
List-Subscribe: <https://mails.dpdk.org/listinfo/test-report>,
 <mailto:test-report-request@dpdk.org?subject=subscribe>
Errors-To: test-report-bounces@dpdk.org

Test-Label: iol-compile-amd64-testing
Test-Status: SUCCESS
http://dpdk.org/patch/138218

_Testing PASS_

Submitter: Aaron Conole <aconole@redhat.com>
Date: Tuesday, March 12 2024 14:53:26 
DPDK git baseline: Repo:dpdk
  Branch: master
  CommitID:a86f381b826660e88794754c41d3aec79ce9b87c

138218 --> testing pass

Test environment and result as below:

+---------------------+--------------------+----------------------+
|     Environment     | dpdk_meson_compile | dpdk_mingw64_compile |
+=====================+====================+======================+
| Debian Bullseye     | PASS               | SKIPPED              |
+---------------------+--------------------+----------------------+
| FreeBSD 13.2        | PASS               | SKIPPED              |
+---------------------+--------------------+----------------------+
| Windows Server 2022 | PASS               | SKIPPED              |
+---------------------+--------------------+----------------------+
| CentOS Stream 8     | PASS               | SKIPPED              |
+---------------------+--------------------+----------------------+
| Fedora 38           | PASS               | SKIPPED              |
+---------------------+--------------------+----------------------+
| CentOS Stream 9     | PASS               | SKIPPED              |
+---------------------+--------------------+----------------------+
| Fedora 37           | PASS               | SKIPPED              |
+---------------------+--------------------+----------------------+
| Windows Server 2019 | PASS               | PASS                 |
+---------------------+--------------------+----------------------+
| Ubuntu 20.04        | PASS               | SKIPPED              |
+---------------------+--------------------+----------------------+
| Ubuntu 22.04        | PASS               | SKIPPED              |
+---------------------+--------------------+----------------------+
| RHEL8               | PASS               | SKIPPED              |
+---------------------+--------------------+----------------------+
| Debian 12 (arm)     | PASS               | SKIPPED              |
+---------------------+--------------------+----------------------+
| openSUSE Leap 15    | PASS               | SKIPPED              |
+---------------------+--------------------+----------------------+
| Alpine              | PASS               | SKIPPED              |
+---------------------+--------------------+----------------------+


Debian Bullseye
	Kernel: 5.4.0-122-generic
	Compiler: gcc 10.2.1-6

FreeBSD 13.2
	Kernel: 13.2
	Compiler: clang 11.3.0

Windows Server 2022
	Kernel: OS Build 20348.2031
	Compiler: MSVC VS-Preview

CentOS Stream 8
	Kernel: 4.18.0-240.10.1.el8_3.x86_64
	Compiler: gcc 8.4.1 20200928

Fedora 38
	Kernel: Depends on container host
	Compiler: gcc 13.1.1

CentOS Stream 9
	Kernel: 4.18.0-240.10.1.el8_3.x86_64
	Compiler: gcc 11.3.1 20220421

Fedora 37
	Kernel: Depends on container host system
	Compiler: gcc 12.3.1

Windows Server 2019
	Kernel: 10.0
	Compiler: clang 14.0 and gcc 8.1.0 (MinGW)

Ubuntu 20.04
	Kernel: 5.4.0-153-generic
	Compiler: gcc 9.4.0-1ubuntu1~20.04.1

Ubuntu 22.04
	Kernel: 4.18.0-240.10.1.el8_3.x86_64
	Compiler: gcc 11.3.0

RHEL8
	Kernel: 4.18.0-240.10.1.el8_3.x86_64
	Compiler: gcc 8.3.1 20191121 (Red Hat 8.3.1-5)

Debian 12 (arm)
	Kernel: Container Host Kernel
	Compiler: gcc 11

openSUSE Leap 15
	Kernel: 4.18.0-240.10.1.el8_3.x86_64
	Compiler: gcc 7.5.0

Alpine
	Kernel: 5.4.0-73-generic
	Compiler: gcc (Alpine 10.3.1_git20210424) 10.3.1 20210424

To view detailed results, visit:
https://lab.dpdk.org/results/dashboard/patchsets/29518/

UNH-IOL DPDK Community Lab

To manage your email subscriptions, visit: 
https://lab.dpdk.org/results/dashboard/preferences/subscriptions/