From mboxrd@z Thu Jan  1 00:00:00 1970
Return-Path: <test-report-bounces@dpdk.org>
Received: from mails.dpdk.org (mails.dpdk.org [217.70.189.124])
	by inbox.dpdk.org (Postfix) with ESMTP id A18D743C93
	for <public@inbox.dpdk.org>; Tue, 12 Mar 2024 16:58:49 +0100 (CET)
Received: from mails.dpdk.org (localhost [127.0.0.1])
	by mails.dpdk.org (Postfix) with ESMTP id 9DC4540ED9;
	Tue, 12 Mar 2024 16:58:49 +0100 (CET)
Received: from mail-yw1-f228.google.com (mail-yw1-f228.google.com
 [209.85.128.228])
 by mails.dpdk.org (Postfix) with ESMTP id A5AD240ED9
 for <test-report@dpdk.org>; Tue, 12 Mar 2024 16:58:47 +0100 (CET)
Received: by mail-yw1-f228.google.com with SMTP id
 00721157ae682-609fc742044so52490197b3.1
 for <test-report@dpdk.org>; Tue, 12 Mar 2024 08:58:47 -0700 (PDT)
DKIM-Signature: v=1; a=rsa-sha256; c=relaxed/relaxed;
 d=iol.unh.edu; s=unh-iol; t=1710259127; x=1710863927; darn=dpdk.org;
 h=references:in-reply-to:cc:to:from:subject:message-id:date:from:to
 :cc:subject:date:message-id:reply-to;
 bh=dTFkGyWaGFXstOqrzDQmGu7iF/FDKo1gAaWkOJZRPkc=;
 b=gIQcNNudBEOsV9DwUnWGuFzxQ+HJlNoNl8C80/6s/qnB68Kk1DIPLbEIVIOyOPzKf4
 E2PPAS/sMGhQQxpMEePkmreklALWYkeAasM7ughrT7clDGv7U8K9l98DnUhlps5+B874
 ODCW1eGUTZb5apnY4ysIyk3v8QpVsNJsJF5Sk=
X-Google-DKIM-Signature: v=1; a=rsa-sha256; c=relaxed/relaxed;
 d=1e100.net; s=20230601; t=1710259127; x=1710863927;
 h=references:in-reply-to:cc:to:from:subject:message-id:date
 :x-gm-message-state:from:to:cc:subject:date:message-id:reply-to;
 bh=dTFkGyWaGFXstOqrzDQmGu7iF/FDKo1gAaWkOJZRPkc=;
 b=BdLk+m5TrJYECaOL/aPS08KIwOHr7GaT6/5/f7s0vrYf1EerkaxNbCSzGxQ+DrcUG/
 KNyKM/9wLEq++rbFIjpaZKTvb3NacBrG8+MkmqnTzGOvisr9yYFDjSQ2hjTADaTUTboV
 J1e/muWnpg8dN6ZdBqxnS4KDMsxM99aX2uCgbd+NSYLoQEFS57mNdkP1LC1feVwM/787
 hXq4QtHchIX/KkA6seu0uCsvvRwVHE+fMpB2Zx/YOaoHJNfCPNYJwZjv0MS9GvFIzkPE
 H8xxi7iDY3BVsHO+w0U7BaDjaOYatPOS5eRQcuf67jZWjwwg95rh7lKC7u87cBgZTDoc
 AAlQ==
X-Gm-Message-State: AOJu0YyyibFHa4NwIkpG5U65mHyeidQAASdRPJ0Di8IBOsDC721VWXBW
 ZSlWkfPul6VhAAqUpEdxi/Jm3ZE5q7RffvvP8duGbCVgEAnkmtAPnHR4OzzbENjthryjzB4prLJ
 xhD+EwYQOHO1UJPvv4gdKg9jQKmSDVjvE4o/eZWGGQJtfDyxTfMAIGwm8
X-Google-Smtp-Source: AGHT+IH4VvJXajydPK3zlks9kesIYGqOu1sC31SM0u34oyPVSbfYBInKZ+HRnPxsUQkOpPUNNEZgsmWbAPa6
X-Received: by 2002:a0d:cc05:0:b0:60a:438f:596d with SMTP id
 o5-20020a0dcc05000000b0060a438f596dmr5010171ywd.44.1710259127064; 
 Tue, 12 Mar 2024 08:58:47 -0700 (PDT)
Received: from postal.iol.unh.edu (postal.iol.unh.edu.
 [2606:4100:3880:1234::84]) by smtp-relay.gmail.com with ESMTPS id
 n19-20020a81af13000000b0060929b7a242sm415084ywh.78.2024.03.12.08.58.46
 (version=TLS1_2 cipher=ECDHE-ECDSA-AES128-GCM-SHA256 bits=128/128);
 Tue, 12 Mar 2024 08:58:47 -0700 (PDT)
X-Relaying-Domain: iol.unh.edu
Date: Tue, 12 Mar 2024 08:58:47 -0700 (PDT)
Message-ID: <65f07bb7.810a0220.7e9f5.a325SMTPIN_ADDED_MISSING@mx.google.com>
Received: from [172.17.0.8] (unknown [172.18.0.217])
 by postal.iol.unh.edu (Postfix) with ESMTP id AE9736052471;
 Tue, 12 Mar 2024 11:58:46 -0400 (EDT)
Subject: |SUCCESS| pw138218 [PATCH] github: Reduce ASLR entropy to be compati
From: dpdklab@iol.unh.edu
To: Test Report <test-report@dpdk.org>
Cc: dpdk-test-reports@iol.unh.edu
In-Reply-To: <20240312145326.1377818-1-aconole@redhat.com>
References: <20240312145326.1377818-1-aconole@redhat.com>
Content-Type: text/plain
X-BeenThere: test-report@dpdk.org
X-Mailman-Version: 2.1.29
Precedence: list
List-Id: automatic DPDK test reports <test-report.dpdk.org>
List-Unsubscribe: <https://mails.dpdk.org/options/test-report>,
 <mailto:test-report-request@dpdk.org?subject=unsubscribe>
List-Archive: <http://mails.dpdk.org/archives/test-report/>
List-Post: <mailto:test-report@dpdk.org>
List-Help: <mailto:test-report-request@dpdk.org?subject=help>
List-Subscribe: <https://mails.dpdk.org/listinfo/test-report>,
 <mailto:test-report-request@dpdk.org?subject=subscribe>
Errors-To: test-report-bounces@dpdk.org

Test-Label: iol-unit-amd64-testing
Test-Status: SUCCESS
http://dpdk.org/patch/138218

_Testing PASS_

Submitter: Aaron Conole <aconole@redhat.com>
Date: Tuesday, March 12 2024 14:53:26 
DPDK git baseline: Repo:dpdk
  Branch: master
  CommitID:a86f381b826660e88794754c41d3aec79ce9b87c

138218 --> testing pass

Test environment and result as below:

+---------------------+----------------+
|     Environment     | dpdk_unit_test |
+=====================+================+
| Debian Bullseye     | PASS           |
+---------------------+----------------+
| Debian 12 (arm)     | PASS           |
+---------------------+----------------+
| CentOS Stream 8     | PASS           |
+---------------------+----------------+
| Fedora 37           | PASS           |
+---------------------+----------------+
| Fedora 38           | PASS           |
+---------------------+----------------+
| openSUSE Leap 15    | PASS           |
+---------------------+----------------+
| RHEL8               | PASS           |
+---------------------+----------------+
| CentOS Stream 9     | PASS           |
+---------------------+----------------+
| Ubuntu 22.04        | PASS           |
+---------------------+----------------+
| Windows Server 2019 | PASS           |
+---------------------+----------------+
| Ubuntu 20.04        | PASS           |
+---------------------+----------------+


Debian Bullseye
	Kernel: 5.4.0-122-generic
	Compiler: gcc 10.2.1-6

Debian 12 (arm)
	Kernel: Container Host Kernel
	Compiler: gcc 11

CentOS Stream 8
	Kernel: 4.18.0-240.10.1.el8_3.x86_64
	Compiler: gcc 8.4.1 20200928

Fedora 37
	Kernel: Depends on container host system
	Compiler: gcc 12.3.1

Fedora 38
	Kernel: Depends on container host
	Compiler: gcc 13.1.1

openSUSE Leap 15
	Kernel: 4.18.0-240.10.1.el8_3.x86_64
	Compiler: gcc 7.5.0

RHEL8
	Kernel: 4.18.0-240.10.1.el8_3.x86_64
	Compiler: gcc 8.3.1 20191121 (Red Hat 8.3.1-5)

CentOS Stream 9
	Kernel: 4.18.0-240.10.1.el8_3.x86_64
	Compiler: gcc 11.3.1 20220421

Ubuntu 22.04
	Kernel: 4.18.0-240.10.1.el8_3.x86_64
	Compiler: gcc 11.3.0

Windows Server 2019
	Kernel: 10.0
	Compiler: clang 14.0 and gcc 8.1.0 (MinGW)

Ubuntu 20.04
	Kernel: 5.4.0-153-generic
	Compiler: gcc 9.4.0-1ubuntu1~20.04.1

To view detailed results, visit:
https://lab.dpdk.org/results/dashboard/patchsets/29518/

UNH-IOL DPDK Community Lab

To manage your email subscriptions, visit: 
https://lab.dpdk.org/results/dashboard/preferences/subscriptions/