From mboxrd@z Thu Jan  1 00:00:00 1970
Return-Path: <test-report-bounces@dpdk.org>
Received: from mails.dpdk.org (mails.dpdk.org [217.70.189.124])
	by inbox.dpdk.org (Postfix) with ESMTP id 7024743C93
	for <public@inbox.dpdk.org>; Tue, 12 Mar 2024 17:00:36 +0100 (CET)
Received: from mails.dpdk.org (localhost [127.0.0.1])
	by mails.dpdk.org (Postfix) with ESMTP id 6BC3340ED9;
	Tue, 12 Mar 2024 17:00:36 +0100 (CET)
Received: from mail-qt1-f227.google.com (mail-qt1-f227.google.com
 [209.85.160.227])
 by mails.dpdk.org (Postfix) with ESMTP id 5F0D6402D8
 for <test-report@dpdk.org>; Tue, 12 Mar 2024 17:00:27 +0100 (CET)
Received: by mail-qt1-f227.google.com with SMTP id
 d75a77b69052e-42f2009e559so1239751cf.0
 for <test-report@dpdk.org>; Tue, 12 Mar 2024 09:00:27 -0700 (PDT)
DKIM-Signature: v=1; a=rsa-sha256; c=relaxed/relaxed;
 d=iol.unh.edu; s=unh-iol; t=1710259227; x=1710864027; darn=dpdk.org;
 h=references:in-reply-to:cc:to:from:subject:message-id:date:from:to
 :cc:subject:date:message-id:reply-to;
 bh=S6DkoSFtDQc1MCKDMN7QgLAeoWcYUnu+uKLWOwkafTI=;
 b=RgbITtMOx3cM6aQO0t6pwkrHdRY6tWStVs1IPGOI0IbTc9GmnRrqFsvxirp+yvXL/f
 9lkB2G0bGAbGcoaWuNKQXMmoh+Bqm1xNHH5qtFazCi/vb6OFaviPcBi54P6D/bNgsHl0
 Sk53Fwvd/Y9q0B2td0C1ky74hlC5jxEJlpGNc=
X-Google-DKIM-Signature: v=1; a=rsa-sha256; c=relaxed/relaxed;
 d=1e100.net; s=20230601; t=1710259227; x=1710864027;
 h=references:in-reply-to:cc:to:from:subject:message-id:date
 :x-gm-message-state:from:to:cc:subject:date:message-id:reply-to;
 bh=S6DkoSFtDQc1MCKDMN7QgLAeoWcYUnu+uKLWOwkafTI=;
 b=ip/p2KUPogYb2MOeHKcpRimuXmEeb9v+uOxVe4HjDkyWqBiGeRrFLkAFn/ZZdpgrm7
 ENZEZHnhBzeWZMSdb7XGnSrFR5tnRU19Ji65Kr/11AidfIzhLU+WFZaAKnyWL3kEO6B3
 Skdag3BTDxVitnSDVRsXMG2IFjo4+oCVJwTdJJofXeah7uW6bLJ/ZGL+DubK+9H1Z1DO
 3Wqyf6N+kwrPQsFTwHqkk2gLLZhr3n7vwZ1er3U6IJoycoNGA+sHh8BMzQaIHPJwh2VS
 25KsdIuX7HpB7cOajPBNIjlnPJhvb/YN/Qvfnxp1sOj+dRgPGRYb/dMk9OqYCzxAd/pe
 KQ+w==
X-Gm-Message-State: AOJu0YzUlrjCIbm6Y9Zl3DeTQxCzURakrnox+9JUH5cfernPF8WEj8nc
 89A5RqLxdqtY+NtVv+FSTHRps/k6T2RlWUofaMzJ0XchMYgwqTuLhHmTVKYyamNSnyPk4w+wgep
 RasACNICHvL7yaJvSHw80EQpqqhSPXjTL0qZqyT3i
X-Google-Smtp-Source: AGHT+IHvhupwnLn1txuLs0DsuskRyVULyMLLptJMktWlOdxPILdeFcISAvEqdgkdbD2+TRUJgXFn6vjmftZa
X-Received: by 2002:a0c:df87:0:b0:690:b39e:bf0d with SMTP id
 w7-20020a0cdf87000000b00690b39ebf0dmr17534966qvl.8.1710259226631; 
 Tue, 12 Mar 2024 09:00:26 -0700 (PDT)
Received: from postal.iol.unh.edu (postal.iol.unh.edu. [132.177.123.84])
 by smtp-relay.gmail.com with ESMTPS id
 gi15-20020a056214248f00b0068fd39aefa8sm385409qvb.53.2024.03.12.09.00.26
 (version=TLS1_2 cipher=ECDHE-ECDSA-AES128-GCM-SHA256 bits=128/128);
 Tue, 12 Mar 2024 09:00:26 -0700 (PDT)
X-Relaying-Domain: iol.unh.edu
Date: Tue, 12 Mar 2024 09:00:26 -0700 (PDT)
Message-ID: <65f07c1a.050a0220.1ba82.8e4aSMTPIN_ADDED_MISSING@mx.google.com>
Received: from [172.21.0.6] (unknown [172.18.0.240])
 by postal.iol.unh.edu (Postfix) with ESMTP id 057326052471;
 Tue, 12 Mar 2024 12:00:26 -0400 (EDT)
Subject: |SUCCESS| pw138218 [PATCH] github: Reduce ASLR entropy to be compati
From: dpdklab@iol.unh.edu
To: Test Report <test-report@dpdk.org>
Cc: dpdk-test-reports@iol.unh.edu
In-Reply-To: <20240312145326.1377818-1-aconole@redhat.com>
References: <20240312145326.1377818-1-aconole@redhat.com>
Content-Type: text/plain
X-BeenThere: test-report@dpdk.org
X-Mailman-Version: 2.1.29
Precedence: list
List-Id: automatic DPDK test reports <test-report.dpdk.org>
List-Unsubscribe: <https://mails.dpdk.org/options/test-report>,
 <mailto:test-report-request@dpdk.org?subject=unsubscribe>
List-Archive: <http://mails.dpdk.org/archives/test-report/>
List-Post: <mailto:test-report@dpdk.org>
List-Help: <mailto:test-report-request@dpdk.org?subject=help>
List-Subscribe: <https://mails.dpdk.org/listinfo/test-report>,
 <mailto:test-report-request@dpdk.org?subject=subscribe>
Errors-To: test-report-bounces@dpdk.org

Test-Label: iol-abi-testing
Test-Status: SUCCESS
http://dpdk.org/patch/138218

_Testing PASS_

Submitter: Aaron Conole <aconole@redhat.com>
Date: Tuesday, March 12 2024 14:53:26 
DPDK git baseline: Repo:dpdk
  Branch: master
  CommitID:a86f381b826660e88794754c41d3aec79ce9b87c

138218 --> testing pass

Test environment and result as below:

+------------------+----------+
|   Environment    | abi_test |
+==================+==========+
| CentOS Stream 8  | PASS     |
+------------------+----------+
| Debian 12 (arm)  | PASS     |
+------------------+----------+
| CentOS Stream 9  | PASS     |
+------------------+----------+
| Fedora 38        | PASS     |
+------------------+----------+
| RHEL8            | PASS     |
+------------------+----------+
| openSUSE Leap 15 | PASS     |
+------------------+----------+
| Debian Bullseye  | PASS     |
+------------------+----------+
| Ubuntu 22.04     | PASS     |
+------------------+----------+
| Fedora 37        | PASS     |
+------------------+----------+


CentOS Stream 8
	Kernel: 4.18.0-240.10.1.el8_3.x86_64
	Compiler: gcc 8.4.1 20200928

Debian 12 (arm)
	Kernel: Container Host Kernel
	Compiler: gcc 11

CentOS Stream 9
	Kernel: 4.18.0-240.10.1.el8_3.x86_64
	Compiler: gcc 11.3.1 20220421

Fedora 38
	Kernel: Depends on container host
	Compiler: gcc 13.1.1

RHEL8
	Kernel: 4.18.0-240.10.1.el8_3.x86_64
	Compiler: gcc 8.3.1 20191121 (Red Hat 8.3.1-5)

openSUSE Leap 15
	Kernel: 4.18.0-240.10.1.el8_3.x86_64
	Compiler: gcc 7.5.0

Debian Bullseye
	Kernel: 5.4.0-122-generic
	Compiler: gcc 10.2.1-6

Ubuntu 22.04
	Kernel: 4.18.0-240.10.1.el8_3.x86_64
	Compiler: gcc 11.3.0

Fedora 37
	Kernel: Depends on container host system
	Compiler: gcc 12.3.1

To view detailed results, visit:
https://lab.dpdk.org/results/dashboard/patchsets/29518/

UNH-IOL DPDK Community Lab

To manage your email subscriptions, visit: 
https://lab.dpdk.org/results/dashboard/preferences/subscriptions/