From mboxrd@z Thu Jan  1 00:00:00 1970
Return-Path: <test-report-bounces@dpdk.org>
Received: from mails.dpdk.org (mails.dpdk.org [217.70.189.124])
	by inbox.dpdk.org (Postfix) with ESMTP id A00B443C93
	for <public@inbox.dpdk.org>; Tue, 12 Mar 2024 17:00:53 +0100 (CET)
Received: from mails.dpdk.org (localhost [127.0.0.1])
	by mails.dpdk.org (Postfix) with ESMTP id 982E540ED9;
	Tue, 12 Mar 2024 17:00:53 +0100 (CET)
Received: from mail-il1-f227.google.com (mail-il1-f227.google.com
 [209.85.166.227])
 by mails.dpdk.org (Postfix) with ESMTP id 9AF53402D8
 for <test-report@dpdk.org>; Tue, 12 Mar 2024 17:00:51 +0100 (CET)
Received: by mail-il1-f227.google.com with SMTP id
 e9e14a558f8ab-36660d8547eso9336525ab.1
 for <test-report@dpdk.org>; Tue, 12 Mar 2024 09:00:51 -0700 (PDT)
DKIM-Signature: v=1; a=rsa-sha256; c=relaxed/relaxed;
 d=iol.unh.edu; s=unh-iol; t=1710259251; x=1710864051; darn=dpdk.org;
 h=references:in-reply-to:cc:to:from:subject:message-id:date:from:to
 :cc:subject:date:message-id:reply-to;
 bh=XUEERAZEizBa+OEM2x3SyBh3akLTtbOOivkmsmvFvH4=;
 b=h+CCUQGKWQUHqFawCzyd80ELzjd1OiAh/PUvJ/PdD6CoyoYcBcKyYzI+eQBLr3qzJ1
 eV8XroS4FVmfWbgoUrZyqL3d1Sg0BYT6sdBWCL0miUHIE/deY82IgteeMfxf1cqBiI3K
 0dnCpkpGf8bQnMkf4444GEHcYnXmhWrYY+VEs=
X-Google-DKIM-Signature: v=1; a=rsa-sha256; c=relaxed/relaxed;
 d=1e100.net; s=20230601; t=1710259251; x=1710864051;
 h=references:in-reply-to:cc:to:from:subject:message-id:date
 :x-gm-message-state:from:to:cc:subject:date:message-id:reply-to;
 bh=XUEERAZEizBa+OEM2x3SyBh3akLTtbOOivkmsmvFvH4=;
 b=jY2WSD/uDNAShFrtFea9mrhVWQ340XQmVzE2FDhPFUOFKVL6ToAOxzea/03xvKGn9J
 GnOxBuoy8ob8Chwlpf4cxy+iDbu2Om6Kaw8VauuS2KcH+OvHgxZrCJtkMVfeTCj/nwOb
 JpUjqZ5AIdfK5FN/QCGrizAdTvRyOFhD1tHeZUpvXTpRHqo2vGFcljO3o7VEgQSOE0Fs
 4RQB7gekzOyvofKZXsIW2s8U3VmdZU0H6y+U0XdDRTY3Bl1RmIfcjqIY57XZKCUwMdAY
 pR9NZkW7lsw05WO2zJhRjkvPNbTdiU7PO1E8aXTUzmOAFRPQW7jcDy5rTYKdbV+7XdFf
 eVNQ==
X-Gm-Message-State: AOJu0YwVFTIHOmRp6/sZHwlP9FlJCmJgbt6Rrllq8u0Vtv7MNqmInMSW
 Tx30uEEt7rkBSGMYxFr3QciZxPVAvIHMZrs2l9uZq5+dqhdGfUYIqgItZ8LvuYdjFHYrpEy2MfE
 XMCBBGj7uDSoeDuDweUvlL/9OppzZlPsZ3Zz80Nmtd8hrOknfA5uCoGkq
X-Google-Smtp-Source: AGHT+IHhTEiKe1UVJnd5nAaNf38alsI0i2juUhO8VzojNCEItlyoVnRcd+q7wJu0sQft8zkuktauutrCBcs8
X-Received: by 2002:a05:6e02:1a8c:b0:365:2390:931f with SMTP id
 k12-20020a056e021a8c00b003652390931fmr13104433ilv.4.1710259251094; 
 Tue, 12 Mar 2024 09:00:51 -0700 (PDT)
Received: from postal.iol.unh.edu (postal.iol.unh.edu.
 [2606:4100:3880:1234::84]) by smtp-relay.gmail.com with ESMTPS id
 bs10-20020a056e02240a00b0036659347571sm245481ilb.56.2024.03.12.09.00.51
 (version=TLS1_2 cipher=ECDHE-ECDSA-AES128-GCM-SHA256 bits=128/128);
 Tue, 12 Mar 2024 09:00:51 -0700 (PDT)
X-Relaying-Domain: iol.unh.edu
Date: Tue, 12 Mar 2024 09:00:51 -0700 (PDT)
Message-ID: <65f07c33.050a0220.d3b9f.dfc9SMTPIN_ADDED_MISSING@mx.google.com>
Received: from [172.17.0.8] (unknown [172.18.0.217])
 by postal.iol.unh.edu (Postfix) with ESMTP id B6B806052471;
 Tue, 12 Mar 2024 12:00:50 -0400 (EDT)
Subject: |SUCCESS| pw138218 [PATCH] github: Reduce ASLR entropy to be compati
From: dpdklab@iol.unh.edu
To: Test Report <test-report@dpdk.org>
Cc: dpdk-test-reports@iol.unh.edu
In-Reply-To: <20240312145326.1377818-1-aconole@redhat.com>
References: <20240312145326.1377818-1-aconole@redhat.com>
Content-Type: text/plain
X-BeenThere: test-report@dpdk.org
X-Mailman-Version: 2.1.29
Precedence: list
List-Id: automatic DPDK test reports <test-report.dpdk.org>
List-Unsubscribe: <https://mails.dpdk.org/options/test-report>,
 <mailto:test-report-request@dpdk.org?subject=unsubscribe>
List-Archive: <http://mails.dpdk.org/archives/test-report/>
List-Post: <mailto:test-report@dpdk.org>
List-Help: <mailto:test-report-request@dpdk.org?subject=help>
List-Subscribe: <https://mails.dpdk.org/listinfo/test-report>,
 <mailto:test-report-request@dpdk.org?subject=subscribe>
Errors-To: test-report-bounces@dpdk.org

Test-Label: iol-unit-arm64-testing
Test-Status: SUCCESS
http://dpdk.org/patch/138218

_Testing PASS_

Submitter: Aaron Conole <aconole@redhat.com>
Date: Tuesday, March 12 2024 14:53:26 
DPDK git baseline: Repo:dpdk
  Branch: master
  CommitID:a86f381b826660e88794754c41d3aec79ce9b87c

138218 --> testing pass

Test environment and result as below:

+--------------------------+----------------+---------------------------+------------------------------+--------------+
|       Environment        | dpdk_unit_test | cryptodev_sw_zuc_autotest | cryptodev_sw_snow3g_autotest | lpm_autotest |
+==========================+================+===========================+==============================+==============+
| CentOS Stream 9 (ARM)    | PASS           | SKIPPED                   | SKIPPED                      | SKIPPED      |
+--------------------------+----------------+---------------------------+------------------------------+--------------+
| Debian 11 (Buster) (ARM) | PASS           | SKIPPED                   | SKIPPED                      | SKIPPED      |
+--------------------------+----------------+---------------------------+------------------------------+--------------+
| Debian 12 (arm)          | PASS           | PASS                      | PASS                         | SKIPPED      |
+--------------------------+----------------+---------------------------+------------------------------+--------------+
| Fedora 37 (ARM)          | PASS           | SKIPPED                   | SKIPPED                      | SKIPPED      |
+--------------------------+----------------+---------------------------+------------------------------+--------------+
| Ubuntu 20.04 (ARM)       | PASS           | SKIPPED                   | SKIPPED                      | SKIPPED      |
+--------------------------+----------------+---------------------------+------------------------------+--------------+
| Fedora 38 (ARM)          | PASS           | SKIPPED                   | SKIPPED                      | SKIPPED      |
+--------------------------+----------------+---------------------------+------------------------------+--------------+
| Ubuntu 20.04 ARM SVE     | SKIPPED        | SKIPPED                   | SKIPPED                      | PASS         |
+--------------------------+----------------+---------------------------+------------------------------+--------------+


CentOS Stream 9 (ARM)
	Kernel: Container Host Kernel
	Compiler: gcc 11.3.1

Debian 11 (Buster) (ARM)
	Kernel: Container Host Kernel
	Compiler: gcc 10.2.1

Debian 12 (arm)
	Kernel: Container Host Kernel
	Compiler: gcc 11

Fedora 37 (ARM)
	Kernel: Depends on container host
	Compiler: gcc 12.3.1

Ubuntu 20.04 (ARM)
	Kernel: Container Host Kernel
	Compiler: gcc 9.4.0

Fedora 38 (ARM)
	Kernel: Depends on container host
	Compiler: gcc 13.1.1

Ubuntu 20.04 ARM SVE
	Kernel: 5.4.0-80-generic
	Compiler: gcc 10.3.0 (Ubuntu 10.3.0-1ubuntu1~20.04)

To view detailed results, visit:
https://lab.dpdk.org/results/dashboard/patchsets/29518/

UNH-IOL DPDK Community Lab

To manage your email subscriptions, visit: 
https://lab.dpdk.org/results/dashboard/preferences/subscriptions/