From mboxrd@z Thu Jan  1 00:00:00 1970
Return-Path: <test-report-bounces@dpdk.org>
Received: from mails.dpdk.org (mails.dpdk.org [217.70.189.124])
	by inbox.dpdk.org (Postfix) with ESMTP id 2FF4143C93
	for <public@inbox.dpdk.org>; Tue, 12 Mar 2024 17:03:20 +0100 (CET)
Received: from mails.dpdk.org (localhost [127.0.0.1])
	by mails.dpdk.org (Postfix) with ESMTP id 1D975427D9;
	Tue, 12 Mar 2024 17:03:20 +0100 (CET)
Received: from mail-pl1-f228.google.com (mail-pl1-f228.google.com
 [209.85.214.228])
 by mails.dpdk.org (Postfix) with ESMTP id ACE36402D8
 for <test-report@dpdk.org>; Tue, 12 Mar 2024 17:03:12 +0100 (CET)
Received: by mail-pl1-f228.google.com with SMTP id
 d9443c01a7336-1dd6412da28so324605ad.3
 for <test-report@dpdk.org>; Tue, 12 Mar 2024 09:03:12 -0700 (PDT)
DKIM-Signature: v=1; a=rsa-sha256; c=relaxed/relaxed;
 d=iol.unh.edu; s=unh-iol; t=1710259392; x=1710864192; darn=dpdk.org;
 h=references:in-reply-to:cc:to:from:subject:message-id:date:from:to
 :cc:subject:date:message-id:reply-to;
 bh=3rmAMdMmfez30ZB7l7CHKQjuJzzW007wKx+ejCGGrWg=;
 b=AcndRrnQPTkxj8RvqfPXy2QYFxhsUw6T8Wi2j2krFXEWD3APJ18K+3vRtIacLRd8l5
 MK8bqz8GnEMJlVuMq1tsbQYWLc2T5TecTWl0tUNHu8OWtFuVk+IKzKXNk79FtirlA8I0
 4b3iMw/RKRNw0K9KxiqZi2FTLs3O5oVZ49xIk=
X-Google-DKIM-Signature: v=1; a=rsa-sha256; c=relaxed/relaxed;
 d=1e100.net; s=20230601; t=1710259392; x=1710864192;
 h=references:in-reply-to:cc:to:from:subject:message-id:date
 :x-gm-message-state:from:to:cc:subject:date:message-id:reply-to;
 bh=3rmAMdMmfez30ZB7l7CHKQjuJzzW007wKx+ejCGGrWg=;
 b=KuM//bjUCRSOgfuVNTHbCvJ3mZmJczzwuH/jZ6tiUpwvPPUuZjl/vZ221NYnSXCoeT
 QoD4oBB2ZQ/aYTXavD4QiQWirSohQxs77Dojyau8s8OEDmrLCyjpKZ67as7rkxt7iAOb
 BBwRUyiunuwsUnm0SgV10ootz9FbSPh8g6wxs9i+whMSv3ZzAIXdSPbm0O7C8PxmIcz6
 S3FpVBI074EMyZfxKYSRtKFwuVZKB3OiqfrDNeXA8/SND/YKj3xlVAbvewG3HbGvwLrH
 sjcQXKd8T5E9DoUZQfBCuY6aQFWUWOgxlFyK6EhL48n82DcX9FMgbSSFIV4KauRamtpf
 z12A==
X-Gm-Message-State: AOJu0YxfpZu+ipWV9ekmeOB4TF4GMCEVA+G7MhHSymTAi9ZClGy9XTxu
 a+QMV0EAewYQITGlfcUbWjHSG1r2lg30u5+cnnsfjetiXL9qUbGkywnFQ8XYiDHSKF59eLrhEMo
 WYBwsHlTd9j+L/s+wUhSmD57cYIhS3l8IS0g2gpDO
X-Google-Smtp-Source: AGHT+IEepCnANxzSZx8+bm+UWfV5Ii3j3KiuSCqEeXomEy6OmaIS3O55EjT4lLelSn11so3JH1NgyeO39g9M
X-Received: by 2002:a17:902:cf0d:b0:1d9:8832:f800 with SMTP id
 i13-20020a170902cf0d00b001d98832f800mr4367394plg.8.1710259391857; 
 Tue, 12 Mar 2024 09:03:11 -0700 (PDT)
Received: from postal.iol.unh.edu (postal.iol.unh.edu. [132.177.123.84])
 by smtp-relay.gmail.com with ESMTPS id
 kj3-20020a17090306c300b001dca998bfafsm180780plb.134.2024.03.12.09.03.11
 (version=TLS1_2 cipher=ECDHE-ECDSA-AES128-GCM-SHA256 bits=128/128);
 Tue, 12 Mar 2024 09:03:11 -0700 (PDT)
X-Relaying-Domain: iol.unh.edu
Date: Tue, 12 Mar 2024 09:03:11 -0700 (PDT)
Message-ID: <65f07cbf.170a0220.74ffe.b9edSMTPIN_ADDED_MISSING@mx.google.com>
Received: from [172.21.0.7] (unknown [172.18.0.240])
 by postal.iol.unh.edu (Postfix) with ESMTP id 54B8D6052471;
 Tue, 12 Mar 2024 12:03:11 -0400 (EDT)
Subject: |SUCCESS| pw138218 [PATCH] github: Reduce ASLR entropy to be compati
From: dpdklab@iol.unh.edu
To: Test Report <test-report@dpdk.org>
Cc: dpdk-test-reports@iol.unh.edu
In-Reply-To: <20240312145326.1377818-1-aconole@redhat.com>
References: <20240312145326.1377818-1-aconole@redhat.com>
Content-Type: text/plain
X-BeenThere: test-report@dpdk.org
X-Mailman-Version: 2.1.29
Precedence: list
List-Id: automatic DPDK test reports <test-report.dpdk.org>
List-Unsubscribe: <https://mails.dpdk.org/options/test-report>,
 <mailto:test-report-request@dpdk.org?subject=unsubscribe>
List-Archive: <http://mails.dpdk.org/archives/test-report/>
List-Post: <mailto:test-report@dpdk.org>
List-Help: <mailto:test-report-request@dpdk.org?subject=help>
List-Subscribe: <https://mails.dpdk.org/listinfo/test-report>,
 <mailto:test-report-request@dpdk.org?subject=subscribe>
Errors-To: test-report-bounces@dpdk.org

Test-Label: iol-unit-arm64-testing
Test-Status: SUCCESS
http://dpdk.org/patch/138218

_Testing PASS_

Submitter: Aaron Conole <aconole@redhat.com>
Date: Tuesday, March 12 2024 14:53:26 
DPDK git baseline: Repo:dpdk
  Branch: master
  CommitID:a86f381b826660e88794754c41d3aec79ce9b87c

138218 --> testing pass

Test environment and result as below:

+--------------------------+----------------+---------------------------+------------------------------+--------------+
|       Environment        | dpdk_unit_test | cryptodev_sw_zuc_autotest | cryptodev_sw_snow3g_autotest | lpm_autotest |
+==========================+================+===========================+==============================+==============+
| CentOS Stream 9 (ARM)    | PASS           | SKIPPED                   | SKIPPED                      | SKIPPED      |
+--------------------------+----------------+---------------------------+------------------------------+--------------+
| Debian 11 (Buster) (ARM) | PASS           | SKIPPED                   | SKIPPED                      | SKIPPED      |
+--------------------------+----------------+---------------------------+------------------------------+--------------+
| Debian 12 (arm)          | PASS           | PASS                      | PASS                         | SKIPPED      |
+--------------------------+----------------+---------------------------+------------------------------+--------------+
| Fedora 37 (ARM)          | PASS           | SKIPPED                   | SKIPPED                      | SKIPPED      |
+--------------------------+----------------+---------------------------+------------------------------+--------------+
| Ubuntu 20.04 (ARM)       | PASS           | SKIPPED                   | SKIPPED                      | SKIPPED      |
+--------------------------+----------------+---------------------------+------------------------------+--------------+
| Fedora 38 (ARM)          | PASS           | SKIPPED                   | SKIPPED                      | SKIPPED      |
+--------------------------+----------------+---------------------------+------------------------------+--------------+
| Fedora 38 (ARM Clang)    | PASS           | SKIPPED                   | SKIPPED                      | SKIPPED      |
+--------------------------+----------------+---------------------------+------------------------------+--------------+
| Ubuntu 20.04 ARM SVE     | SKIPPED        | SKIPPED                   | SKIPPED                      | PASS         |
+--------------------------+----------------+---------------------------+------------------------------+--------------+


CentOS Stream 9 (ARM)
	Kernel: Container Host Kernel
	Compiler: gcc 11.3.1

Debian 11 (Buster) (ARM)
	Kernel: Container Host Kernel
	Compiler: gcc 10.2.1

Debian 12 (arm)
	Kernel: Container Host Kernel
	Compiler: gcc 11

Fedora 37 (ARM)
	Kernel: Depends on container host
	Compiler: gcc 12.3.1

Ubuntu 20.04 (ARM)
	Kernel: Container Host Kernel
	Compiler: gcc 9.4.0

Fedora 38 (ARM)
	Kernel: Depends on container host
	Compiler: gcc 13.1.1

Fedora 38 (ARM Clang)
	Kernel: Depends on container host
	Compiler: clang 16.0.3

Ubuntu 20.04 ARM SVE
	Kernel: 5.4.0-80-generic
	Compiler: gcc 10.3.0 (Ubuntu 10.3.0-1ubuntu1~20.04)

To view detailed results, visit:
https://lab.dpdk.org/results/dashboard/patchsets/29518/

UNH-IOL DPDK Community Lab

To manage your email subscriptions, visit: 
https://lab.dpdk.org/results/dashboard/preferences/subscriptions/