From mboxrd@z Thu Jan  1 00:00:00 1970
Return-Path: <test-report-bounces@dpdk.org>
Received: from mails.dpdk.org (mails.dpdk.org [217.70.189.124])
	by inbox.dpdk.org (Postfix) with ESMTP id C043243C94
	for <public@inbox.dpdk.org>; Tue, 12 Mar 2024 18:38:51 +0100 (CET)
Received: from mails.dpdk.org (localhost [127.0.0.1])
	by mails.dpdk.org (Postfix) with ESMTP id BBBDA40EE2;
	Tue, 12 Mar 2024 18:38:51 +0100 (CET)
Received: from mail-qv1-f97.google.com (mail-qv1-f97.google.com
 [209.85.219.97]) by mails.dpdk.org (Postfix) with ESMTP id 7030F40ED9
 for <test-report@dpdk.org>; Tue, 12 Mar 2024 18:38:50 +0100 (CET)
Received: by mail-qv1-f97.google.com with SMTP id
 6a1803df08f44-690be110d0dso1217656d6.3
 for <test-report@dpdk.org>; Tue, 12 Mar 2024 10:38:50 -0700 (PDT)
DKIM-Signature: v=1; a=rsa-sha256; c=relaxed/relaxed;
 d=iol.unh.edu; s=unh-iol; t=1710265130; x=1710869930; darn=dpdk.org;
 h=references:in-reply-to:cc:to:from:subject:message-id:date:from:to
 :cc:subject:date:message-id:reply-to;
 bh=jN07gtUuW11H1TSFG4sxZ6W+IbnGPnnRpnknXU5ucUU=;
 b=eYTbe6kP7B30MaoWIdUhfnL/vs47ShnJ1okXQ5HrtTA0jTBRMoLKszomz8UQKVjWJq
 PIOfnTeel5VFx7Vp9gquQT8uzo08tbT4obFokSfhGpxu8LggUTUZVFd7eOUsW7KcnKxy
 DGHKQzzwwngrnXU4lCOyLwWuu8XYJj8CpO4bI=
X-Google-DKIM-Signature: v=1; a=rsa-sha256; c=relaxed/relaxed;
 d=1e100.net; s=20230601; t=1710265130; x=1710869930;
 h=references:in-reply-to:cc:to:from:subject:message-id:date
 :x-gm-message-state:from:to:cc:subject:date:message-id:reply-to;
 bh=jN07gtUuW11H1TSFG4sxZ6W+IbnGPnnRpnknXU5ucUU=;
 b=oQBMSTrW1qJvXl6HUPcaQe0NNZkcIzjd5TNz+TxgzZeHK1/yMG/a3jMLFMj0YGZUQH
 5gl/riAJ6rNPoJyX3LDSCv2sRx/QP/diQ9MS1ozMimBzDSsnq+TYn1rbKxk7AQtFb73A
 fBKikncf3E0iEzKO5vE9eL50z2YZfgYgWw90Facv3ZHFPdfv+h4SLDaIxyNSBCngJMAq
 4w497dRmZ8UFAn/8nhD/ZQNhf7y1xHRlp6wzE8L/mwP0YTry3KwKU4I+Q0slwJ5dZSnm
 6S3MwOjvqXhJwr1ZfMNaAaUmUNb0dcMjQiKpmzN5cahO3/Q5K8DUiBDtQf47CVky3Nqu
 6o6w==
X-Gm-Message-State: AOJu0YyZDSfYnZcgSVxOcCtrPkS+TM+ehBEXmdCcsolVaEUMxc68BvJg
 o7XrFmJWTfyz5EHTyJhKwh5V4SfvTgFLC5ikcS6xDBpbN81DlTnKwUozuadDgKkgIj6CJ+x9ILg
 cIisQ5UnIZH3VnUmNQynwVUmf1uzhuEGe4bm3bLE2/IqCN1LqOzlFu9Gw
X-Google-Smtp-Source: AGHT+IHkCzYTvCfOqMEJzjU3ko7iuSnrw5/c3AwE/nSdzq/NuoRwTbBLb1l+nH/7HiwG5gjYmf8zTM1dQ8zW
X-Received: by 2002:a05:6214:580b:b0:691:e1f:a61c with SMTP id
 mk11-20020a056214580b00b006910e1fa61cmr151688qvb.45.1710265129935; 
 Tue, 12 Mar 2024 10:38:49 -0700 (PDT)
Received: from postal.iol.unh.edu (postal.iol.unh.edu.
 [2606:4100:3880:1234::84]) by smtp-relay.gmail.com with ESMTPS id
 pt17-20020a056214049100b0068ec08c8733sm422931qvb.47.2024.03.12.10.38.49
 (version=TLS1_2 cipher=ECDHE-ECDSA-AES128-GCM-SHA256 bits=128/128);
 Tue, 12 Mar 2024 10:38:49 -0700 (PDT)
X-Relaying-Domain: iol.unh.edu
Date: Tue, 12 Mar 2024 10:38:49 -0700 (PDT)
Message-ID: <65f09329.050a0220.65ff.b10cSMTPIN_ADDED_MISSING@mx.google.com>
Received: from [172.21.0.6] (unknown [172.18.0.240])
 by postal.iol.unh.edu (Postfix) with ESMTP id 9B3DE6052471;
 Tue, 12 Mar 2024 13:38:49 -0400 (EDT)
Subject: |SUCCESS| pw138224-138225 [PATCH] [v5,2/2] eal: initialize shared pl
From: dpdklab@iol.unh.edu
To: Test Report <test-report@dpdk.org>
Cc: dpdk-test-reports@iol.unh.edu
In-Reply-To: <1710262359-14217-3-git-send-email-roretzla@linux.microsoft.com>
References: <1710262359-14217-3-git-send-email-roretzla@linux.microsoft.com>
Content-Type: text/plain
X-BeenThere: test-report@dpdk.org
X-Mailman-Version: 2.1.29
Precedence: list
List-Id: automatic DPDK test reports <test-report.dpdk.org>
List-Unsubscribe: <https://mails.dpdk.org/options/test-report>,
 <mailto:test-report-request@dpdk.org?subject=unsubscribe>
List-Archive: <http://mails.dpdk.org/archives/test-report/>
List-Post: <mailto:test-report@dpdk.org>
List-Help: <mailto:test-report-request@dpdk.org?subject=help>
List-Subscribe: <https://mails.dpdk.org/listinfo/test-report>,
 <mailto:test-report-request@dpdk.org?subject=subscribe>
Errors-To: test-report-bounces@dpdk.org

Test-Label: iol-compile-amd64-testing
Test-Status: SUCCESS
http://dpdk.org/patch/138225

_Testing PASS_

Submitter: Tyler Retzlaff <roretzla@linux.microsoft.com>
Date: Tuesday, March 12 2024 16:52:39 
DPDK git baseline: Repo:dpdk
  Branch: master
  CommitID:a86f381b826660e88794754c41d3aec79ce9b87c

138224-138225 --> testing pass

Test environment and result as below:

+---------------------+--------------------+----------------------+
|     Environment     | dpdk_meson_compile | dpdk_mingw64_compile |
+=====================+====================+======================+
| Windows Server 2022 | PASS               | SKIPPED              |
+---------------------+--------------------+----------------------+
| FreeBSD 13.2        | PASS               | SKIPPED              |
+---------------------+--------------------+----------------------+
| Debian Bullseye     | PASS               | SKIPPED              |
+---------------------+--------------------+----------------------+
| Fedora 38           | PASS               | SKIPPED              |
+---------------------+--------------------+----------------------+
| CentOS Stream 9     | PASS               | SKIPPED              |
+---------------------+--------------------+----------------------+
| Fedora 37           | PASS               | SKIPPED              |
+---------------------+--------------------+----------------------+
| CentOS Stream 8     | PASS               | SKIPPED              |
+---------------------+--------------------+----------------------+
| Windows Server 2019 | PASS               | PASS                 |
+---------------------+--------------------+----------------------+
| Debian 12 (arm)     | PASS               | SKIPPED              |
+---------------------+--------------------+----------------------+
| Ubuntu 22.04        | PASS               | SKIPPED              |
+---------------------+--------------------+----------------------+
| Ubuntu 20.04        | PASS               | SKIPPED              |
+---------------------+--------------------+----------------------+
| RHEL8               | PASS               | SKIPPED              |
+---------------------+--------------------+----------------------+
| openSUSE Leap 15    | PASS               | SKIPPED              |
+---------------------+--------------------+----------------------+
| Alpine              | PASS               | SKIPPED              |
+---------------------+--------------------+----------------------+


Windows Server 2022
	Kernel: OS Build 20348.2031
	Compiler: MSVC VS-Preview

FreeBSD 13.2
	Kernel: 13.2
	Compiler: clang 11.3.0

Debian Bullseye
	Kernel: 5.4.0-122-generic
	Compiler: gcc 10.2.1-6

Fedora 38
	Kernel: Depends on container host
	Compiler: gcc 13.1.1

CentOS Stream 9
	Kernel: 4.18.0-240.10.1.el8_3.x86_64
	Compiler: gcc 11.3.1 20220421

Fedora 37
	Kernel: Depends on container host system
	Compiler: gcc 12.3.1

CentOS Stream 8
	Kernel: 4.18.0-240.10.1.el8_3.x86_64
	Compiler: gcc 8.4.1 20200928

Windows Server 2019
	Kernel: 10.0
	Compiler: clang 14.0 and gcc 8.1.0 (MinGW)

Debian 12 (arm)
	Kernel: Container Host Kernel
	Compiler: gcc 11

Ubuntu 22.04
	Kernel: 4.18.0-240.10.1.el8_3.x86_64
	Compiler: gcc 11.3.0

Ubuntu 20.04
	Kernel: 5.4.0-153-generic
	Compiler: gcc 9.4.0-1ubuntu1~20.04.1

RHEL8
	Kernel: 4.18.0-240.10.1.el8_3.x86_64
	Compiler: gcc 8.3.1 20191121 (Red Hat 8.3.1-5)

openSUSE Leap 15
	Kernel: 4.18.0-240.10.1.el8_3.x86_64
	Compiler: gcc 7.5.0

Alpine
	Kernel: 5.4.0-73-generic
	Compiler: gcc (Alpine 10.3.1_git20210424) 10.3.1 20210424

To view detailed results, visit:
https://lab.dpdk.org/results/dashboard/patchsets/29521/

UNH-IOL DPDK Community Lab

To manage your email subscriptions, visit: 
https://lab.dpdk.org/results/dashboard/preferences/subscriptions/