From mboxrd@z Thu Jan  1 00:00:00 1970
Return-Path: <test-report-bounces@dpdk.org>
Received: from mails.dpdk.org (mails.dpdk.org [217.70.189.124])
	by inbox.dpdk.org (Postfix) with ESMTP id 0D2CE43C94
	for <public@inbox.dpdk.org>; Tue, 12 Mar 2024 18:39:33 +0100 (CET)
Received: from mails.dpdk.org (localhost [127.0.0.1])
	by mails.dpdk.org (Postfix) with ESMTP id 0935A40EE2;
	Tue, 12 Mar 2024 18:39:33 +0100 (CET)
Received: from mail-pl1-f225.google.com (mail-pl1-f225.google.com
 [209.85.214.225])
 by mails.dpdk.org (Postfix) with ESMTP id 8DC9940ED9
 for <test-report@dpdk.org>; Tue, 12 Mar 2024 18:39:31 +0100 (CET)
Received: by mail-pl1-f225.google.com with SMTP id
 d9443c01a7336-1dd955753edso23459465ad.1
 for <test-report@dpdk.org>; Tue, 12 Mar 2024 10:39:31 -0700 (PDT)
DKIM-Signature: v=1; a=rsa-sha256; c=relaxed/relaxed;
 d=iol.unh.edu; s=unh-iol; t=1710265171; x=1710869971; darn=dpdk.org;
 h=references:in-reply-to:cc:to:from:subject:message-id:date:from:to
 :cc:subject:date:message-id:reply-to;
 bh=0tgSVMir/vl0n6sE2brDSL4l4zO0YYl/iGt1iVCI8JY=;
 b=NmvmfHba6TyO3dYCx7hSKNl10Cm7WiyNW1g1aPLseYDjgmv8vgGAgwgYUK9sASp1Ut
 NP9YYdNgQF34rBvDXS2Wvox54QSEv3vbCsxUUw+0Y9PIzI9Kkj1RoJkkvLjTMZY3H/OV
 cy29ISIjLhAyDLERaBj9g/ad7RRB+ItRZPVB8=
X-Google-DKIM-Signature: v=1; a=rsa-sha256; c=relaxed/relaxed;
 d=1e100.net; s=20230601; t=1710265171; x=1710869971;
 h=references:in-reply-to:cc:to:from:subject:message-id:date
 :x-gm-message-state:from:to:cc:subject:date:message-id:reply-to;
 bh=0tgSVMir/vl0n6sE2brDSL4l4zO0YYl/iGt1iVCI8JY=;
 b=TadbGbcXX8iRJt+xOxgPUFzvNWJGkdixdCUrw8Nl3Z4PiQoPI88C2gOGdjJZo1OBAq
 qr83GcTWCGK2debMnFAvUxNLH+VTqFUlnVO+uP/7YB/X8PMywSwPDeCOoo+xqguvmgyi
 +HRZalYzbKd2U8PYcaXVMlC4LYQL0qZ7WGNL6hw5ISCEyjd5IwVIUbwA/9A/cYr923t8
 xjfhpJY1suNzs1r0fcKua/8sceuTDRtQDQ+wUSDVJm8qt3JkIZF2kzbu70Axxyp1HfsP
 mduRi9nmxvXtZVHJ8mrkA3BxaBytMMrEvwIa4xjbhjORu15hBzUzbtXMX21IIVjrTmtb
 VgDA==
X-Gm-Message-State: AOJu0YyovqIyI5hn8Gv4IHFglhh/fHZetg/CjzN9/vkJxCeHZ0eKtsyw
 tfy/r8mVYwOdznk/1FeWLfFugWse/uP+mgjyPF+qJVmurlmKTuc9cKAfiuLlqE/tUGnq0wBCTeP
 bxtV6foIwjgQAwHLVojuDtzoUoa+Wj/bE736wUF1D
X-Google-Smtp-Source: AGHT+IHbIQ9xhlrdfKcVI5M2SRXz1WN+Tfx01mNXL2wNMkNEP6W7g9XND5HskQ4wDf6EmAbc9X81OHlTDYo9
X-Received: by 2002:a17:902:eb4a:b0:1dd:5f78:c969 with SMTP id
 i10-20020a170902eb4a00b001dd5f78c969mr9630795pli.62.1710265170720; 
 Tue, 12 Mar 2024 10:39:30 -0700 (PDT)
Received: from postal.iol.unh.edu (postal.iol.unh.edu. [132.177.123.84])
 by smtp-relay.gmail.com with ESMTPS id
 e6-20020a170902744600b001dd852e5eeasm152371plt.139.2024.03.12.10.39.30
 (version=TLS1_2 cipher=ECDHE-ECDSA-AES128-GCM-SHA256 bits=128/128);
 Tue, 12 Mar 2024 10:39:30 -0700 (PDT)
X-Relaying-Domain: iol.unh.edu
Date: Tue, 12 Mar 2024 10:39:30 -0700 (PDT)
Message-ID: <65f09352.170a0220.30172.a9beSMTPIN_ADDED_MISSING@mx.google.com>
Received: from [172.21.0.6] (unknown [172.18.0.240])
 by postal.iol.unh.edu (Postfix) with ESMTP id 2FD606052471;
 Tue, 12 Mar 2024 13:39:30 -0400 (EDT)
Subject: |SUCCESS| pw138224-138225 [PATCH] [v5,2/2] eal: initialize shared pl
From: dpdklab@iol.unh.edu
To: Test Report <test-report@dpdk.org>
Cc: dpdk-test-reports@iol.unh.edu
In-Reply-To: <1710262359-14217-3-git-send-email-roretzla@linux.microsoft.com>
References: <1710262359-14217-3-git-send-email-roretzla@linux.microsoft.com>
Content-Type: text/plain
X-BeenThere: test-report@dpdk.org
X-Mailman-Version: 2.1.29
Precedence: list
List-Id: automatic DPDK test reports <test-report.dpdk.org>
List-Unsubscribe: <https://mails.dpdk.org/options/test-report>,
 <mailto:test-report-request@dpdk.org?subject=unsubscribe>
List-Archive: <http://mails.dpdk.org/archives/test-report/>
List-Post: <mailto:test-report@dpdk.org>
List-Help: <mailto:test-report-request@dpdk.org?subject=help>
List-Subscribe: <https://mails.dpdk.org/listinfo/test-report>,
 <mailto:test-report-request@dpdk.org?subject=subscribe>
Errors-To: test-report-bounces@dpdk.org

Test-Label: iol-compile-arm64-testing
Test-Status: SUCCESS
http://dpdk.org/patch/138225

_Testing PASS_

Submitter: Tyler Retzlaff <roretzla@linux.microsoft.com>
Date: Tuesday, March 12 2024 16:52:39 
DPDK git baseline: Repo:dpdk
  Branch: master
  CommitID:a86f381b826660e88794754c41d3aec79ce9b87c

138224-138225 --> testing pass

Test environment and result as below:

+----------------------------------------+--------------------+
|              Environment               | dpdk_meson_compile |
+========================================+====================+
| Ubuntu 20.04 ARM SVE                   | PASS               |
+----------------------------------------+--------------------+
| Debian 12 with MUSDK                   | PASS               |
+----------------------------------------+--------------------+
| Debian 12 (arm)                        | PASS               |
+----------------------------------------+--------------------+
| Ubuntu 20.04 aarch32 GCC Cross Compile | PASS               |
+----------------------------------------+--------------------+
| Fedora 38 (ARM)                        | PASS               |
+----------------------------------------+--------------------+
| Fedora 37 (ARM)                        | PASS               |
+----------------------------------------+--------------------+
| CentOS Stream 9 (ARM)                  | PASS               |
+----------------------------------------+--------------------+
| Debian 11 (Buster) (ARM)               | PASS               |
+----------------------------------------+--------------------+
| Ubuntu 20.04 ARM Clang Cross Compile   | PASS               |
+----------------------------------------+--------------------+
| Ubuntu 20.04 (ARM)                     | PASS               |
+----------------------------------------+--------------------+
| Ubuntu 20.04 ARM GCC Cross Compile     | PASS               |
+----------------------------------------+--------------------+


Ubuntu 20.04 ARM SVE
	Kernel: 5.4.0-80-generic
	Compiler: gcc 10.3.0 (Ubuntu 10.3.0-1ubuntu1~20.04)

Debian 12 with MUSDK
	Kernel: Container Host Kernel
	Compiler: gcc 12

Debian 12 (arm)
	Kernel: Container Host Kernel
	Compiler: gcc 11

Ubuntu 20.04 aarch32 GCC Cross Compile
	Kernel: 5.4.0-72-generic
	Compiler: gcc 9.3.0

Fedora 38 (ARM)
	Kernel: Depends on container host
	Compiler: gcc 13.1.1

Fedora 37 (ARM)
	Kernel: Depends on container host
	Compiler: gcc 12.3.1

CentOS Stream 9 (ARM)
	Kernel: Container Host Kernel
	Compiler: gcc 11.3.1

Debian 11 (Buster) (ARM)
	Kernel: Container Host Kernel
	Compiler: gcc 10.2.1

Ubuntu 20.04 ARM Clang Cross Compile
	Kernel: 5.4.0-72-generic
	Compiler: clang version 10.0.0-4ubuntu1

Ubuntu 20.04 (ARM)
	Kernel: Container Host Kernel
	Compiler: gcc 9.4.0

Ubuntu 20.04 ARM GCC Cross Compile
	Kernel: 5.4.0-72-generic
	Compiler: aarch64-linux-gnu-gcc (Ubuntu 9.3.0-17ubuntu1~20.04) 9.3.0

To view detailed results, visit:
https://lab.dpdk.org/results/dashboard/patchsets/29521/

UNH-IOL DPDK Community Lab

To manage your email subscriptions, visit: 
https://lab.dpdk.org/results/dashboard/preferences/subscriptions/