From mboxrd@z Thu Jan  1 00:00:00 1970
Return-Path: <test-report-bounces@dpdk.org>
Received: from mails.dpdk.org (mails.dpdk.org [217.70.189.124])
	by inbox.dpdk.org (Postfix) with ESMTP id DE41E43C94
	for <public@inbox.dpdk.org>; Tue, 12 Mar 2024 18:45:56 +0100 (CET)
Received: from mails.dpdk.org (localhost [127.0.0.1])
	by mails.dpdk.org (Postfix) with ESMTP id D862542831;
	Tue, 12 Mar 2024 18:45:56 +0100 (CET)
Received: from mail-vs1-f98.google.com (mail-vs1-f98.google.com
 [209.85.217.98]) by mails.dpdk.org (Postfix) with ESMTP id 8557842831
 for <test-report@dpdk.org>; Tue, 12 Mar 2024 18:45:55 +0100 (CET)
Received: by mail-vs1-f98.google.com with SMTP id
 ada2fe7eead31-4726608233fso658822137.2
 for <test-report@dpdk.org>; Tue, 12 Mar 2024 10:45:55 -0700 (PDT)
DKIM-Signature: v=1; a=rsa-sha256; c=relaxed/relaxed;
 d=iol.unh.edu; s=unh-iol; t=1710265555; x=1710870355; darn=dpdk.org;
 h=references:in-reply-to:cc:to:from:subject:message-id:date:from:to
 :cc:subject:date:message-id:reply-to;
 bh=fXoWI443OaWrvoMCFoRZNvMrbmZUK6pochTvSrfXb18=;
 b=brt8JJqoXwbuvHr7C53LBdIOpfyPWyiehlojQgkIT5Dmg85jDpNO1bYnDtuTMNoFjY
 QQig5MxQPtMLeMHvSzuP40PjmMxbfi4sy2zNJSn4jF4zTyLwp0pLJ32tTurFsLqQVlQp
 3rJYYE8xYeJQ+b9FBB+IOHytmL4Kyi/4MPvzQ=
X-Google-DKIM-Signature: v=1; a=rsa-sha256; c=relaxed/relaxed;
 d=1e100.net; s=20230601; t=1710265555; x=1710870355;
 h=references:in-reply-to:cc:to:from:subject:message-id:date
 :x-gm-message-state:from:to:cc:subject:date:message-id:reply-to;
 bh=fXoWI443OaWrvoMCFoRZNvMrbmZUK6pochTvSrfXb18=;
 b=v4wUN7Dvjx0Y8F1X7Clkc6rAF21A9ulZZZj2TaWKfRSTgMe2PDErpkbkrlALVpQWgD
 Ziz2/hYzy7Xxe/dA6Qxko9OKmOH9ZpNemh+rWsjdH5LwzVAt/1zBmcybQYFpFx4tT1OY
 HnkTNKEVy/gELk4FCpJJBE5zCfi8lgxVhw2Gmel1e1NN8oziYpIvpLwIJngz119hyRmm
 tt3YUcFOI7eY+wixy8nHEak+KQ2EMs1YOkrhDOUL23bd+8L1xx+s4CuJonK8rG7sJLKJ
 YrLpFQB4/FAvB8S8E2fxVnABbeI9vLPSMtb3VsP+UlPAllhA2BtZnt7N1OSd09c2LQLE
 Cuuw==
X-Gm-Message-State: AOJu0Yzrlmxd8Sq5qdUCURUTrkJ4UJeQuhvPeDUWZJ8YfxkUluDLN7BS
 +4BglNLCEnUewKT+IPiqqIsBCwvqS4jaa5UVBq+U/i4Vp+xvLzEDLqsY1iWHc8rB8h/CacnXE/4
 SpenZmScY4sz65y2hQuli2s5NOH6C4rK9vE+cIwgWASvI139XBRWg58nU
X-Google-Smtp-Source: AGHT+IHOn/k09hmtm1l4zybDCgNq8uQu0nsBDh9iMFKmPWXU5LRBlFbZO9PU2ehHybB9QqI9DEUZ1kvZ6dOl
X-Received: by 2002:a67:f649:0:b0:472:eca1:46c with SMTP id
 u9-20020a67f649000000b00472eca1046cmr1103120vso.30.1710265554860; 
 Tue, 12 Mar 2024 10:45:54 -0700 (PDT)
Received: from postal.iol.unh.edu (postal.iol.unh.edu.
 [2606:4100:3880:1234::84]) by smtp-relay.gmail.com with ESMTPS id
 b23-20020ab00857000000b007daf6e3e292sm477820uaf.17.2024.03.12.10.45.54
 (version=TLS1_2 cipher=ECDHE-ECDSA-AES128-GCM-SHA256 bits=128/128);
 Tue, 12 Mar 2024 10:45:54 -0700 (PDT)
X-Relaying-Domain: iol.unh.edu
Date: Tue, 12 Mar 2024 10:45:54 -0700 (PDT)
Message-ID: <65f094d2.b00a0220.6ab4d.c692SMTPIN_ADDED_MISSING@mx.google.com>
Received: from [172.21.0.6] (unknown [172.18.0.240])
 by postal.iol.unh.edu (Postfix) with ESMTP id 7246E6052471;
 Tue, 12 Mar 2024 13:45:54 -0400 (EDT)
Subject: |SUCCESS| pw138224-138225 [PATCH] [v5,2/2] eal: initialize shared pl
From: dpdklab@iol.unh.edu
To: Test Report <test-report@dpdk.org>
Cc: dpdk-test-reports@iol.unh.edu
In-Reply-To: <1710262359-14217-3-git-send-email-roretzla@linux.microsoft.com>
References: <1710262359-14217-3-git-send-email-roretzla@linux.microsoft.com>
Content-Type: text/plain
X-BeenThere: test-report@dpdk.org
X-Mailman-Version: 2.1.29
Precedence: list
List-Id: automatic DPDK test reports <test-report.dpdk.org>
List-Unsubscribe: <https://mails.dpdk.org/options/test-report>,
 <mailto:test-report-request@dpdk.org?subject=unsubscribe>
List-Archive: <http://mails.dpdk.org/archives/test-report/>
List-Post: <mailto:test-report@dpdk.org>
List-Help: <mailto:test-report-request@dpdk.org?subject=help>
List-Subscribe: <https://mails.dpdk.org/listinfo/test-report>,
 <mailto:test-report-request@dpdk.org?subject=subscribe>
Errors-To: test-report-bounces@dpdk.org

Test-Label: iol-unit-arm64-testing
Test-Status: SUCCESS
http://dpdk.org/patch/138225

_Testing PASS_

Submitter: Tyler Retzlaff <roretzla@linux.microsoft.com>
Date: Tuesday, March 12 2024 16:52:39 
DPDK git baseline: Repo:dpdk
  Branch: master
  CommitID:a86f381b826660e88794754c41d3aec79ce9b87c

138224-138225 --> testing pass

Test environment and result as below:

+--------------------------+---------------------------+----------------+------------------------------+
|       Environment        | cryptodev_sw_zuc_autotest | dpdk_unit_test | cryptodev_sw_snow3g_autotest |
+==========================+===========================+================+==============================+
| Debian 12 (arm)          | PASS                      | SKIPPED        | PASS                         |
+--------------------------+---------------------------+----------------+------------------------------+
| Fedora 37 (ARM)          | SKIPPED                   | PASS           | SKIPPED                      |
+--------------------------+---------------------------+----------------+------------------------------+
| Debian 11 (Buster) (ARM) | SKIPPED                   | PASS           | SKIPPED                      |
+--------------------------+---------------------------+----------------+------------------------------+
| CentOS Stream 9 (ARM)    | SKIPPED                   | PASS           | SKIPPED                      |
+--------------------------+---------------------------+----------------+------------------------------+


Debian 12 (arm)
	Kernel: Container Host Kernel
	Compiler: gcc 11

Fedora 37 (ARM)
	Kernel: Depends on container host
	Compiler: gcc 12.3.1

Debian 11 (Buster) (ARM)
	Kernel: Container Host Kernel
	Compiler: gcc 10.2.1

CentOS Stream 9 (ARM)
	Kernel: Container Host Kernel
	Compiler: gcc 11.3.1

To view detailed results, visit:
https://lab.dpdk.org/results/dashboard/patchsets/29521/

UNH-IOL DPDK Community Lab

To manage your email subscriptions, visit: 
https://lab.dpdk.org/results/dashboard/preferences/subscriptions/