From mboxrd@z Thu Jan  1 00:00:00 1970
Return-Path: <test-report-bounces@dpdk.org>
Received: from mails.dpdk.org (mails.dpdk.org [217.70.189.124])
	by inbox.dpdk.org (Postfix) with ESMTP id 636CA43C94
	for <public@inbox.dpdk.org>; Tue, 12 Mar 2024 18:58:23 +0100 (CET)
Received: from mails.dpdk.org (localhost [127.0.0.1])
	by mails.dpdk.org (Postfix) with ESMTP id 5ED3742D72;
	Tue, 12 Mar 2024 18:58:23 +0100 (CET)
Received: from mail-qv1-f99.google.com (mail-qv1-f99.google.com
 [209.85.219.99]) by mails.dpdk.org (Postfix) with ESMTP id E3F1640ED9
 for <test-report@dpdk.org>; Tue, 12 Mar 2024 18:58:21 +0100 (CET)
Received: by mail-qv1-f99.google.com with SMTP id
 6a1803df08f44-69107859bedso1317756d6.2
 for <test-report@dpdk.org>; Tue, 12 Mar 2024 10:58:21 -0700 (PDT)
DKIM-Signature: v=1; a=rsa-sha256; c=relaxed/relaxed;
 d=iol.unh.edu; s=unh-iol; t=1710266301; x=1710871101; darn=dpdk.org;
 h=references:in-reply-to:cc:to:from:subject:message-id:date:from:to
 :cc:subject:date:message-id:reply-to;
 bh=JxDwC07LOb2a0/Xty8lNOjOdHbcprucCGvPrrugFucQ=;
 b=b/zDokE9sNeanjK1Vyj3Jbti5fABmf+bZsx5v2UEjsbLkB77/h9pqFKwbuq7bfTuhs
 V3ZIW37ldQjipsrxkCSiXLZI2i3F8ETW3/HVg6NH0JdoQdfdm7NUEksOSD0MKOo6BX39
 SXm1lCGGxP/uX8dLpw7D4H4IR9MbaVGNtjKgY=
X-Google-DKIM-Signature: v=1; a=rsa-sha256; c=relaxed/relaxed;
 d=1e100.net; s=20230601; t=1710266301; x=1710871101;
 h=references:in-reply-to:cc:to:from:subject:message-id:date
 :x-gm-message-state:from:to:cc:subject:date:message-id:reply-to;
 bh=JxDwC07LOb2a0/Xty8lNOjOdHbcprucCGvPrrugFucQ=;
 b=WfAPfPHM2IsPK93Rl91vbej+CPnRsWH/OwbuTmhWRF451DB6FGVtov+pW48CJ7mNah
 9ogoBE3I95+Ko/DaSBvWbuD9omH4vFvCSE33fTBrMnNJe+HTYUCfcdC5eua0obYjU5h9
 IoOOC/eYB1XDZLUP0NF9JEWtvncw9VWuyS8YEEqJ7h2VpJVlMpPD3PA0n5aDu+pdZAij
 z5mhdeSDg51ZINmbvNuU3ddIEQjhchmG+tLFLSOzijMypxrrlr4bKYKmRlQhdVuWmI6Y
 CH1SkEDiyMftlm18jHqe3mC55AxAOVSTNnAxYeDvvINMGT5aIqRAGPCiTJ4CfIrVK+rg
 PNQA==
X-Gm-Message-State: AOJu0YzJDMcTgXRTUTuN/llyu2pfcJR5+XekW1Q9gZVlO+Sj8fwn+pXd
 nnFm13IdRG1wcwYGPsljsYViSUJscUiNpn2gc1DgnmP8z4HiyWCXb4UXBYZDO+5cXf1aTiToaV3
 40D1yJOdnkrhT71SwurcRXFnH6+i6TtJQZo0C1s00
X-Google-Smtp-Source: AGHT+IHkT2xhTOq13ce5FaI3hoPbP7Ob0zpRpnd2ZwcY2F3sNZ8kzPEAKWGiGRnazrwngLFvzdrZeSqYKOC/
X-Received: by 2002:ad4:4087:0:b0:690:ce66:dda2 with SMTP id
 l7-20020ad44087000000b00690ce66dda2mr4249047qvp.60.1710266301354; 
 Tue, 12 Mar 2024 10:58:21 -0700 (PDT)
Received: from postal.iol.unh.edu (postal.iol.unh.edu. [132.177.123.84])
 by smtp-relay.gmail.com with ESMTPS id
 gw11-20020a0562140f0b00b0068f3801fd5esm360888qvb.17.2024.03.12.10.58.21
 (version=TLS1_2 cipher=ECDHE-ECDSA-AES128-GCM-SHA256 bits=128/128);
 Tue, 12 Mar 2024 10:58:21 -0700 (PDT)
X-Relaying-Domain: iol.unh.edu
Date: Tue, 12 Mar 2024 10:58:21 -0700 (PDT)
Message-ID: <65f097bd.050a0220.8c09b.6ffaSMTPIN_ADDED_MISSING@mx.google.com>
Received: from [172.21.0.7] (unknown [172.18.0.240])
 by postal.iol.unh.edu (Postfix) with ESMTP id 16AD46052471;
 Tue, 12 Mar 2024 13:58:21 -0400 (EDT)
Subject: |SUCCESS| pw138224-138225 [PATCH] [v5,2/2] eal: initialize shared pl
From: dpdklab@iol.unh.edu
To: Test Report <test-report@dpdk.org>
Cc: dpdk-test-reports@iol.unh.edu
In-Reply-To: <1710262359-14217-3-git-send-email-roretzla@linux.microsoft.com>
References: <1710262359-14217-3-git-send-email-roretzla@linux.microsoft.com>
Content-Type: text/plain
X-BeenThere: test-report@dpdk.org
X-Mailman-Version: 2.1.29
Precedence: list
List-Id: automatic DPDK test reports <test-report.dpdk.org>
List-Unsubscribe: <https://mails.dpdk.org/options/test-report>,
 <mailto:test-report-request@dpdk.org?subject=unsubscribe>
List-Archive: <http://mails.dpdk.org/archives/test-report/>
List-Post: <mailto:test-report@dpdk.org>
List-Help: <mailto:test-report-request@dpdk.org?subject=help>
List-Subscribe: <https://mails.dpdk.org/listinfo/test-report>,
 <mailto:test-report-request@dpdk.org?subject=subscribe>
Errors-To: test-report-bounces@dpdk.org

Test-Label: iol-unit-amd64-testing
Test-Status: SUCCESS
http://dpdk.org/patch/138225

_Testing PASS_

Submitter: Tyler Retzlaff <roretzla@linux.microsoft.com>
Date: Tuesday, March 12 2024 16:52:39 
DPDK git baseline: Repo:dpdk
  Branch: master
  CommitID:a86f381b826660e88794754c41d3aec79ce9b87c

138224-138225 --> testing pass

Test environment and result as below:

+---------------------+----------------+
|     Environment     | dpdk_unit_test |
+=====================+================+
| CentOS Stream 9     | PASS           |
+---------------------+----------------+
| Fedora 37           | PASS           |
+---------------------+----------------+
| Windows Server 2019 | PASS           |
+---------------------+----------------+
| CentOS Stream 8     | PASS           |
+---------------------+----------------+
| Debian Bullseye     | PASS           |
+---------------------+----------------+
| Debian 12 (arm)     | PASS           |
+---------------------+----------------+
| Ubuntu 22.04        | PASS           |
+---------------------+----------------+
| Fedora 38           | PASS           |
+---------------------+----------------+
| openSUSE Leap 15    | PASS           |
+---------------------+----------------+


CentOS Stream 9
	Kernel: 4.18.0-240.10.1.el8_3.x86_64
	Compiler: gcc 11.3.1 20220421

Fedora 37
	Kernel: Depends on container host system
	Compiler: gcc 12.3.1

Windows Server 2019
	Kernel: 10.0
	Compiler: clang 14.0 and gcc 8.1.0 (MinGW)

CentOS Stream 8
	Kernel: 4.18.0-240.10.1.el8_3.x86_64
	Compiler: gcc 8.4.1 20200928

Debian Bullseye
	Kernel: 5.4.0-122-generic
	Compiler: gcc 10.2.1-6

Debian 12 (arm)
	Kernel: Container Host Kernel
	Compiler: gcc 11

Ubuntu 22.04
	Kernel: 4.18.0-240.10.1.el8_3.x86_64
	Compiler: gcc 11.3.0

Fedora 38
	Kernel: Depends on container host
	Compiler: gcc 13.1.1

openSUSE Leap 15
	Kernel: 4.18.0-240.10.1.el8_3.x86_64
	Compiler: gcc 7.5.0

To view detailed results, visit:
https://lab.dpdk.org/results/dashboard/patchsets/29521/

UNH-IOL DPDK Community Lab

To manage your email subscriptions, visit: 
https://lab.dpdk.org/results/dashboard/preferences/subscriptions/