From mboxrd@z Thu Jan  1 00:00:00 1970
Return-Path: <test-report-bounces@dpdk.org>
Received: from mails.dpdk.org (mails.dpdk.org [217.70.189.124])
	by inbox.dpdk.org (Postfix) with ESMTP id 647A343C94
	for <public@inbox.dpdk.org>; Tue, 12 Mar 2024 19:17:06 +0100 (CET)
Received: from mails.dpdk.org (localhost [127.0.0.1])
	by mails.dpdk.org (Postfix) with ESMTP id 6041442D28;
	Tue, 12 Mar 2024 19:17:06 +0100 (CET)
Received: from mail-pl1-f226.google.com (mail-pl1-f226.google.com
 [209.85.214.226])
 by mails.dpdk.org (Postfix) with ESMTP id 1FF78427E1
 for <test-report@dpdk.org>; Tue, 12 Mar 2024 19:17:05 +0100 (CET)
Received: by mail-pl1-f226.google.com with SMTP id
 d9443c01a7336-1dd9568fc51so23526055ad.2
 for <test-report@dpdk.org>; Tue, 12 Mar 2024 11:17:05 -0700 (PDT)
DKIM-Signature: v=1; a=rsa-sha256; c=relaxed/relaxed;
 d=iol.unh.edu; s=unh-iol; t=1710267424; x=1710872224; darn=dpdk.org;
 h=references:in-reply-to:cc:to:from:subject:message-id:date:from:to
 :cc:subject:date:message-id:reply-to;
 bh=KPlzauMPD+4brv5pDhvYL55LhXRmJELHUnUg07J79oQ=;
 b=PHUvcIgNmgTT2sM1ixuw1DlUHWsGeO1/TJQSIeC2QVCOe56XkB4QpVnlEZh3PCLSeD
 6h4kPgVseUrOEMeusjC7GGx3kR+LE+r4dwahB+0aqnbn85YU258NInAjQtNhy1B4SVQo
 2QwWV6icjT7IGKRr+Yh6lyxPesLGD1UctMVPE=
X-Google-DKIM-Signature: v=1; a=rsa-sha256; c=relaxed/relaxed;
 d=1e100.net; s=20230601; t=1710267424; x=1710872224;
 h=references:in-reply-to:cc:to:from:subject:message-id:date
 :x-gm-message-state:from:to:cc:subject:date:message-id:reply-to;
 bh=KPlzauMPD+4brv5pDhvYL55LhXRmJELHUnUg07J79oQ=;
 b=AOfgRrZUjEvg0k7h/KqLUv0bW/QFJFiA9k8r8LNMgNxQWFLhwZk4AFKi27yeA/Sbgv
 ywm7AO0LI6Mt6jZ4Rpsk/7hjH/Lmz/EmbcCfP0L6Na3EvEI8AWGJom2Yz5sS7/fgkZKn
 pG+yHLjWOJeIg+zaJoEElTxYgYU1NW54uNp7HtGctmK2ak1DJIKrdCXYoFsg6ClbFcBK
 WIJzVoUpQYX8JjA8+cWy6dmcYMDlzq2hJoSE+ux1s2PeMszK2LixYv/T766tLhQQQcYs
 38Cdp3ftUJ+E143P2qp7u0Obpzg50iTE3gsWbhej7oBQjIe57M0zhn3iGTo12nMplJCr
 5Ezw==
X-Gm-Message-State: AOJu0YxbgIgrWzXlMI++oVCuQyz3UsDhfQmWxJTRUFCES9pRxSRCIRtR
 6Ej4RHuRWAnanRDlr7qmmwWNGVOpfB8BbUeo6Lubz1YgllJoNuhmlk5+V9djkPU2r9xEPJBBhQc
 kT1IXV9t1IAaBHu05HG3bVamuHSV+NzKu0eelhn0c
X-Google-Smtp-Source: AGHT+IH3+9VAlGU2WJNVp1eyRiRBEhT3SfitCQz8LzUtDVg+zlyUiSVYYXQ/g05zfM7RYMZx5OQNJwZJX43l
X-Received: by 2002:a17:902:d586:b0:1dc:fc86:2e7a with SMTP id
 k6-20020a170902d58600b001dcfc862e7amr11527405plh.59.1710267424265; 
 Tue, 12 Mar 2024 11:17:04 -0700 (PDT)
Received: from postal.iol.unh.edu (postal.iol.unh.edu. [132.177.123.84])
 by smtp-relay.gmail.com with ESMTPS id
 jk15-20020a170903330f00b001dd68a826fesm184492plb.51.2024.03.12.11.17.04
 (version=TLS1_2 cipher=ECDHE-ECDSA-AES128-GCM-SHA256 bits=128/128);
 Tue, 12 Mar 2024 11:17:04 -0700 (PDT)
X-Relaying-Domain: iol.unh.edu
Date: Tue, 12 Mar 2024 11:17:04 -0700 (PDT)
Message-ID: <65f09c20.170a0220.3bfa0.b25aSMTPIN_ADDED_MISSING@mx.google.com>
Received: from [172.21.0.6] (unknown [172.18.0.240])
 by postal.iol.unh.edu (Postfix) with ESMTP id 700FF6052471;
 Tue, 12 Mar 2024 14:17:03 -0400 (EDT)
Subject: |SUCCESS| pw138224-138225 [PATCH] [v5,2/2] eal: initialize shared pl
From: dpdklab@iol.unh.edu
To: Test Report <test-report@dpdk.org>
Cc: dpdk-test-reports@iol.unh.edu
In-Reply-To: <1710262359-14217-3-git-send-email-roretzla@linux.microsoft.com>
References: <1710262359-14217-3-git-send-email-roretzla@linux.microsoft.com>
Content-Type: text/plain
X-BeenThere: test-report@dpdk.org
X-Mailman-Version: 2.1.29
Precedence: list
List-Id: automatic DPDK test reports <test-report.dpdk.org>
List-Unsubscribe: <https://mails.dpdk.org/options/test-report>,
 <mailto:test-report-request@dpdk.org?subject=unsubscribe>
List-Archive: <http://mails.dpdk.org/archives/test-report/>
List-Post: <mailto:test-report@dpdk.org>
List-Help: <mailto:test-report-request@dpdk.org?subject=help>
List-Subscribe: <https://mails.dpdk.org/listinfo/test-report>,
 <mailto:test-report-request@dpdk.org?subject=subscribe>
Errors-To: test-report-bounces@dpdk.org

Test-Label: iol-unit-amd64-testing
Test-Status: SUCCESS
http://dpdk.org/patch/138225

_Testing PASS_

Submitter: Tyler Retzlaff <roretzla@linux.microsoft.com>
Date: Tuesday, March 12 2024 16:52:39 
DPDK git baseline: Repo:dpdk
  Branch: master
  CommitID:a86f381b826660e88794754c41d3aec79ce9b87c

138224-138225 --> testing pass

Test environment and result as below:

+---------------------+----------------+
|     Environment     | dpdk_unit_test |
+=====================+================+
| CentOS Stream 9     | PASS           |
+---------------------+----------------+
| Fedora 37           | PASS           |
+---------------------+----------------+
| Windows Server 2019 | PASS           |
+---------------------+----------------+
| CentOS Stream 8     | PASS           |
+---------------------+----------------+
| Debian Bullseye     | PASS           |
+---------------------+----------------+
| Debian 12 (arm)     | PASS           |
+---------------------+----------------+
| Ubuntu 22.04        | PASS           |
+---------------------+----------------+
| Fedora 38           | PASS           |
+---------------------+----------------+
| openSUSE Leap 15    | PASS           |
+---------------------+----------------+
| RHEL8               | PASS           |
+---------------------+----------------+
| Ubuntu 20.04        | PASS           |
+---------------------+----------------+


CentOS Stream 9
	Kernel: 4.18.0-240.10.1.el8_3.x86_64
	Compiler: gcc 11.3.1 20220421

Fedora 37
	Kernel: Depends on container host system
	Compiler: gcc 12.3.1

Windows Server 2019
	Kernel: 10.0
	Compiler: clang 14.0 and gcc 8.1.0 (MinGW)

CentOS Stream 8
	Kernel: 4.18.0-240.10.1.el8_3.x86_64
	Compiler: gcc 8.4.1 20200928

Debian Bullseye
	Kernel: 5.4.0-122-generic
	Compiler: gcc 10.2.1-6

Debian 12 (arm)
	Kernel: Container Host Kernel
	Compiler: gcc 11

Ubuntu 22.04
	Kernel: 4.18.0-240.10.1.el8_3.x86_64
	Compiler: gcc 11.3.0

Fedora 38
	Kernel: Depends on container host
	Compiler: gcc 13.1.1

openSUSE Leap 15
	Kernel: 4.18.0-240.10.1.el8_3.x86_64
	Compiler: gcc 7.5.0

RHEL8
	Kernel: 4.18.0-240.10.1.el8_3.x86_64
	Compiler: gcc 8.3.1 20191121 (Red Hat 8.3.1-5)

Ubuntu 20.04
	Kernel: 5.4.0-153-generic
	Compiler: gcc 9.4.0-1ubuntu1~20.04.1

To view detailed results, visit:
https://lab.dpdk.org/results/dashboard/patchsets/29521/

UNH-IOL DPDK Community Lab

To manage your email subscriptions, visit: 
https://lab.dpdk.org/results/dashboard/preferences/subscriptions/