From mboxrd@z Thu Jan  1 00:00:00 1970
Return-Path: <test-report-bounces@dpdk.org>
Received: from mails.dpdk.org (mails.dpdk.org [217.70.189.124])
	by inbox.dpdk.org (Postfix) with ESMTP id F1B0E43C94
	for <public@inbox.dpdk.org>; Tue, 12 Mar 2024 19:25:51 +0100 (CET)
Received: from mails.dpdk.org (localhost [127.0.0.1])
	by mails.dpdk.org (Postfix) with ESMTP id E5D4042D28;
	Tue, 12 Mar 2024 19:25:51 +0100 (CET)
Received: from mail-pj1-f100.google.com (mail-pj1-f100.google.com
 [209.85.216.100])
 by mails.dpdk.org (Postfix) with ESMTP id 955C5427E1
 for <test-report@dpdk.org>; Tue, 12 Mar 2024 19:25:47 +0100 (CET)
Received: by mail-pj1-f100.google.com with SMTP id
 98e67ed59e1d1-29a2545a1e7so83980a91.2
 for <test-report@dpdk.org>; Tue, 12 Mar 2024 11:25:47 -0700 (PDT)
DKIM-Signature: v=1; a=rsa-sha256; c=relaxed/relaxed;
 d=iol.unh.edu; s=unh-iol; t=1710267947; x=1710872747; darn=dpdk.org;
 h=references:in-reply-to:cc:to:from:subject:message-id:date:from:to
 :cc:subject:date:message-id:reply-to;
 bh=U7kNGEe0Z+TlSsp/PO/eKPrtqyoVZOjZJ5xL7qg8bew=;
 b=J/lHrAVJf+Xa482XrZ3qDfEVk/0jIYJPIZOmlbenvlWUOJZNi5vtU73kvm+XWg88/5
 n8Gtl5gTLSm4vN0MGr2KQsG0UVFKjykvvyWnu2AJ6P/IERscY7bJFaMGPfjjN+MF2Cxp
 EdxO3r3XgfeuBPB270W2m14kCQfltWTO6F9Fk=
X-Google-DKIM-Signature: v=1; a=rsa-sha256; c=relaxed/relaxed;
 d=1e100.net; s=20230601; t=1710267947; x=1710872747;
 h=references:in-reply-to:cc:to:from:subject:message-id:date
 :x-gm-message-state:from:to:cc:subject:date:message-id:reply-to;
 bh=U7kNGEe0Z+TlSsp/PO/eKPrtqyoVZOjZJ5xL7qg8bew=;
 b=PFq39TDaot3C0YQrezvcfkAnXv0/W8o9eRa27z6mjRnElKby6j9JEwNK6quKHyYu4A
 sAu3ltyeergmkvxz/D/EcXyVNkAd6V3RW9uQpx2FuUxYWg9lSRDadbiVfnG/dSJKNVSY
 1QPpKQo1Dqp8QgBt7BOiVqDTNdGuDxQngtgWswfS0lpX3qbp4ZVVO41j2PKs82CDZOfw
 1wBHcXqz+IbRqbDmeAJRZr5wpuup74rMOe2nYgM2s1RRaB039TtJx6bh4Me2K7Ra41gC
 TnequDTMfAWUyx/w/NaObqRV+wF49UXgkIf7578/GFDrn5o/KEThqnu3WScgwnB6bleQ
 0Zdw==
X-Gm-Message-State: AOJu0YwceZuLzx5Q9vVXArTCV6pl3EbKJypiVdRXo5gimIGD/TCe+UZC
 SnfoVAehFMn+U3jzkWF4p5gMLtF8sVGgOOagX3v7s83tZYQnxtzesePMpkiCZHksgEqJrya9Nfe
 K4G5Eo3GvnJz6T+tDUwGX3CDIoqgLlz0uxs3Dx8IM
X-Google-Smtp-Source: AGHT+IHPXeJ8lWZOfli3rfcM1R4mRbvuGodDfSDTVRNdQ6HRbUUNta7A6ey52IyUAsuqrC9FtuWfd0ToIrsV
X-Received: by 2002:a17:90b:1a89:b0:29b:260f:660 with SMTP id
 ng9-20020a17090b1a8900b0029b260f0660mr1332644pjb.0.1710267946763; 
 Tue, 12 Mar 2024 11:25:46 -0700 (PDT)
Received: from postal.iol.unh.edu (postal.iol.unh.edu. [132.177.123.84])
 by smtp-relay.gmail.com with ESMTPS id
 y15-20020a17090abd0f00b0029bece665adsm290188pjr.10.2024.03.12.11.25.46
 (version=TLS1_2 cipher=ECDHE-ECDSA-AES128-GCM-SHA256 bits=128/128);
 Tue, 12 Mar 2024 11:25:46 -0700 (PDT)
X-Relaying-Domain: iol.unh.edu
Date: Tue, 12 Mar 2024 11:25:46 -0700 (PDT)
Message-ID: <65f09e2a.170a0220.af2d4.193dSMTPIN_ADDED_MISSING@mx.google.com>
Received: from [172.17.0.6] (unknown [172.18.0.217])
 by postal.iol.unh.edu (Postfix) with ESMTP id E32796052471;
 Tue, 12 Mar 2024 14:25:45 -0400 (EDT)
Subject: |SUCCESS| pw138220-138223 [PATCH] [v7,4/4] hash: add SVE support for
From: dpdklab@iol.unh.edu
To: Test Report <test-report@dpdk.org>
Cc: dpdk-test-reports@iol.unh.edu
In-Reply-To: <20240312154215.802374-5-yoan.picchi@arm.com>
References: <20240312154215.802374-5-yoan.picchi@arm.com>
Content-Type: text/plain
X-BeenThere: test-report@dpdk.org
X-Mailman-Version: 2.1.29
Precedence: list
List-Id: automatic DPDK test reports <test-report.dpdk.org>
List-Unsubscribe: <https://mails.dpdk.org/options/test-report>,
 <mailto:test-report-request@dpdk.org?subject=unsubscribe>
List-Archive: <http://mails.dpdk.org/archives/test-report/>
List-Post: <mailto:test-report@dpdk.org>
List-Help: <mailto:test-report-request@dpdk.org?subject=help>
List-Subscribe: <https://mails.dpdk.org/listinfo/test-report>,
 <mailto:test-report-request@dpdk.org?subject=subscribe>
Errors-To: test-report-bounces@dpdk.org

Test-Label: iol-compile-amd64-testing
Test-Status: SUCCESS
http://dpdk.org/patch/138223

_Testing PASS_

Submitter: Yoan Picchi <yoan.picchi@arm.com>
Date: Tuesday, March 12 2024 15:42:15 
DPDK git baseline: Repo:dpdk
  Branch: master
  CommitID:a86f381b826660e88794754c41d3aec79ce9b87c

138220-138223 --> testing pass

Test environment and result as below:

+---------------------+--------------------+----------------------+
|     Environment     | dpdk_meson_compile | dpdk_mingw64_compile |
+=====================+====================+======================+
| Windows Server 2022 | PASS               | SKIPPED              |
+---------------------+--------------------+----------------------+
| FreeBSD 13.2        | PASS               | SKIPPED              |
+---------------------+--------------------+----------------------+
| CentOS Stream 8     | PASS               | SKIPPED              |
+---------------------+--------------------+----------------------+
| CentOS Stream 9     | PASS               | SKIPPED              |
+---------------------+--------------------+----------------------+
| Debian 12 (arm)     | PASS               | SKIPPED              |
+---------------------+--------------------+----------------------+
| Debian Bullseye     | PASS               | SKIPPED              |
+---------------------+--------------------+----------------------+
| Fedora 38           | PASS               | SKIPPED              |
+---------------------+--------------------+----------------------+
| Fedora 37           | PASS               | SKIPPED              |
+---------------------+--------------------+----------------------+
| Ubuntu 22.04        | PASS               | SKIPPED              |
+---------------------+--------------------+----------------------+
| Windows Server 2019 | PASS               | PASS                 |
+---------------------+--------------------+----------------------+
| openSUSE Leap 15    | PASS               | SKIPPED              |
+---------------------+--------------------+----------------------+
| Ubuntu 20.04        | PASS               | SKIPPED              |
+---------------------+--------------------+----------------------+
| Alpine              | PASS               | SKIPPED              |
+---------------------+--------------------+----------------------+


Windows Server 2022
	Kernel: OS Build 20348.2031
	Compiler: MSVC VS-Preview

FreeBSD 13.2
	Kernel: 13.2
	Compiler: clang 11.3.0

CentOS Stream 8
	Kernel: 4.18.0-240.10.1.el8_3.x86_64
	Compiler: gcc 8.4.1 20200928

CentOS Stream 9
	Kernel: 4.18.0-240.10.1.el8_3.x86_64
	Compiler: gcc 11.3.1 20220421

Debian 12 (arm)
	Kernel: Container Host Kernel
	Compiler: gcc 11

Debian Bullseye
	Kernel: 5.4.0-122-generic
	Compiler: gcc 10.2.1-6

Fedora 38
	Kernel: Depends on container host
	Compiler: gcc 13.1.1

Fedora 37
	Kernel: Depends on container host system
	Compiler: gcc 12.3.1

Ubuntu 22.04
	Kernel: 4.18.0-240.10.1.el8_3.x86_64
	Compiler: gcc 11.3.0

Windows Server 2019
	Kernel: 10.0
	Compiler: clang 14.0 and gcc 8.1.0 (MinGW)

openSUSE Leap 15
	Kernel: 4.18.0-240.10.1.el8_3.x86_64
	Compiler: gcc 7.5.0

Ubuntu 20.04
	Kernel: 5.4.0-153-generic
	Compiler: gcc 9.4.0-1ubuntu1~20.04.1

Alpine
	Kernel: 5.4.0-73-generic
	Compiler: gcc (Alpine 10.3.1_git20210424) 10.3.1 20210424

To view detailed results, visit:
https://lab.dpdk.org/results/dashboard/patchsets/29520/

UNH-IOL DPDK Community Lab

To manage your email subscriptions, visit: 
https://lab.dpdk.org/results/dashboard/preferences/subscriptions/