From mboxrd@z Thu Jan  1 00:00:00 1970
Return-Path: <test-report-bounces@dpdk.org>
Received: from mails.dpdk.org (mails.dpdk.org [217.70.189.124])
	by inbox.dpdk.org (Postfix) with ESMTP id 1100443C94
	for <public@inbox.dpdk.org>; Tue, 12 Mar 2024 19:26:00 +0100 (CET)
Received: from mails.dpdk.org (localhost [127.0.0.1])
	by mails.dpdk.org (Postfix) with ESMTP id 0687A427E1;
	Tue, 12 Mar 2024 19:26:00 +0100 (CET)
Received: from mail-oa1-f98.google.com (mail-oa1-f98.google.com
 [209.85.160.98]) by mails.dpdk.org (Postfix) with ESMTP id 81CA942D28
 for <test-report@dpdk.org>; Tue, 12 Mar 2024 19:25:57 +0100 (CET)
Received: by mail-oa1-f98.google.com with SMTP id
 586e51a60fabf-2218b571776so3297143fac.0
 for <test-report@dpdk.org>; Tue, 12 Mar 2024 11:25:57 -0700 (PDT)
DKIM-Signature: v=1; a=rsa-sha256; c=relaxed/relaxed;
 d=iol.unh.edu; s=unh-iol; t=1710267957; x=1710872757; darn=dpdk.org;
 h=references:in-reply-to:cc:to:from:subject:message-id:date:from:to
 :cc:subject:date:message-id:reply-to;
 bh=JqWRkgdpk6dSongI+XXCREdw5aqw88QYDhnoINoPTcQ=;
 b=aIYFzraDHVwZpXCAqY7PBJQbqH1UjJymyhmWd0gHTmQZ/glk+n+Ep7pdTvH1VvYPFq
 9435VHUy93D3+jF/PL4KJKrTTzY2bUcY+EOJxG1tJzVBObmaoHUjsu6ka5Ygaxxmf3ob
 5YFcdlVmmg5X6AjAsMGqJkLQALeVfOuz5cwCI=
X-Google-DKIM-Signature: v=1; a=rsa-sha256; c=relaxed/relaxed;
 d=1e100.net; s=20230601; t=1710267957; x=1710872757;
 h=references:in-reply-to:cc:to:from:subject:message-id:date
 :x-gm-message-state:from:to:cc:subject:date:message-id:reply-to;
 bh=JqWRkgdpk6dSongI+XXCREdw5aqw88QYDhnoINoPTcQ=;
 b=eeKz7mgDPbENC+5Jj5PlNQi7W09JuzJ4U1KN4c2cyMlKDYSSxizaThj8cjJ8V1V+ta
 dUsdkLbAJuGPfhyiQ3gcvpJdWsb5HUvgzb+cKirxlNXOjOlNyTlO3FQzPVDyotVdZGpd
 T89yL0zFxlu5soGxMv9dMeoXrLxjbiv0E5MgC5LDkCFih5rBCiPdoqbWQuJDmAuS2rPC
 UesoJz6y4dp/bsS4Ja8gktzSRvJlt5mB8N4Kj+3j82VI49oJMMQMFF56Ju/5bJ6Pyqvd
 WsbYmrIFGtWqpe3QDjvZRQqm2WBK2RzY2npq3Vl9lvAdQ0JUGJ4GkxMyYAbflM9JWUfB
 Thng==
X-Gm-Message-State: AOJu0Yx6VXNdWs/74Lj0dMM/nWdXCSU9PSxHVsvgBRDqeqY19kTxabBx
 cfiUIoOmih+QRWwAmUhjr8Vv1xV665Bb2ZVkpyLe5NwHTHfkYy27zlAY4/prEcx3XtVMOVja33n
 0zohO2vJ01FKCXFAB20Sr76aeJ5Hdv7nV6SdoQUzwywDc1rBt
X-Google-Smtp-Source: AGHT+IEVmh0zYwkqcP6dXt8kgbSz/oTxpYztxJXeco+89d7zq7m7I3ldaAc6BIzxSapRoLozdwdzFqzWByDI
X-Received: by 2002:a05:6870:6112:b0:221:8b50:f1a1 with SMTP id
 s18-20020a056870611200b002218b50f1a1mr11699809oae.40.1710267956897; 
 Tue, 12 Mar 2024 11:25:56 -0700 (PDT)
Received: from postal.iol.unh.edu (postal.iol.unh.edu.
 [2606:4100:3880:1234::84]) by smtp-relay.gmail.com with ESMTPS id
 dy1-20020a056870c78100b001fb03f0db8csm153073oab.49.2024.03.12.11.25.56
 (version=TLS1_2 cipher=ECDHE-ECDSA-AES128-GCM-SHA256 bits=128/128);
 Tue, 12 Mar 2024 11:25:56 -0700 (PDT)
X-Relaying-Domain: iol.unh.edu
Date: Tue, 12 Mar 2024 11:25:56 -0700 (PDT)
Message-ID: <65f09e34.050a0220.44229.850dSMTPIN_ADDED_MISSING@mx.google.com>
Received: from [172.17.0.6] (unknown [172.18.0.217])
 by postal.iol.unh.edu (Postfix) with ESMTP id 5A10D6052471;
 Tue, 12 Mar 2024 14:25:56 -0400 (EDT)
Subject: |SUCCESS| pw138220-138223 [PATCH] [v7,4/4] hash: add SVE support for
From: dpdklab@iol.unh.edu
To: Test Report <test-report@dpdk.org>
Cc: Yoan Picchi <yoan.picchi@arm.com>
In-Reply-To: <20240312154215.802374-5-yoan.picchi@arm.com>
References: <20240312154215.802374-5-yoan.picchi@arm.com>
Content-Type: text/plain
X-BeenThere: test-report@dpdk.org
X-Mailman-Version: 2.1.29
Precedence: list
List-Id: automatic DPDK test reports <test-report.dpdk.org>
List-Unsubscribe: <https://mails.dpdk.org/options/test-report>,
 <mailto:test-report-request@dpdk.org?subject=unsubscribe>
List-Archive: <http://mails.dpdk.org/archives/test-report/>
List-Post: <mailto:test-report@dpdk.org>
List-Help: <mailto:test-report-request@dpdk.org?subject=help>
List-Subscribe: <https://mails.dpdk.org/listinfo/test-report>,
 <mailto:test-report-request@dpdk.org?subject=subscribe>
Errors-To: test-report-bounces@dpdk.org

Test-Label: iol-unit-amd64-testing
Test-Status: SUCCESS
http://dpdk.org/patch/138223

_Testing PASS_

Submitter: Yoan Picchi <yoan.picchi@arm.com>
Date: Tuesday, March 12 2024 15:42:15 
DPDK git baseline: Repo:dpdk
  Branch: master
  CommitID:a86f381b826660e88794754c41d3aec79ce9b87c

138220-138223 --> testing pass

Test environment and result as below:

+---------------------+----------------+
|     Environment     | dpdk_unit_test |
+=====================+================+
| Windows Server 2019 | PASS           |
+---------------------+----------------+
| CentOS Stream 9     | PASS           |
+---------------------+----------------+
| CentOS Stream 8     | PASS           |
+---------------------+----------------+
| Debian Bullseye     | PASS           |
+---------------------+----------------+


Windows Server 2019
	Kernel: 10.0
	Compiler: clang 14.0 and gcc 8.1.0 (MinGW)

CentOS Stream 9
	Kernel: 4.18.0-240.10.1.el8_3.x86_64
	Compiler: gcc 11.3.1 20220421

CentOS Stream 8
	Kernel: 4.18.0-240.10.1.el8_3.x86_64
	Compiler: gcc 8.4.1 20200928

Debian Bullseye
	Kernel: 5.4.0-122-generic
	Compiler: gcc 10.2.1-6

To view detailed results, visit:
https://lab.dpdk.org/results/dashboard/patchsets/29520/

UNH-IOL DPDK Community Lab

To manage your email subscriptions, visit: 
https://lab.dpdk.org/results/dashboard/preferences/subscriptions/