From mboxrd@z Thu Jan  1 00:00:00 1970
Return-Path: <test-report-bounces@dpdk.org>
Received: from mails.dpdk.org (mails.dpdk.org [217.70.189.124])
	by inbox.dpdk.org (Postfix) with ESMTP id DCE3C43C94
	for <public@inbox.dpdk.org>; Tue, 12 Mar 2024 19:36:28 +0100 (CET)
Received: from mails.dpdk.org (localhost [127.0.0.1])
	by mails.dpdk.org (Postfix) with ESMTP id D81D9427E0;
	Tue, 12 Mar 2024 19:36:28 +0100 (CET)
Received: from mail-il1-f228.google.com (mail-il1-f228.google.com
 [209.85.166.228])
 by mails.dpdk.org (Postfix) with ESMTP id DBDA840E40
 for <test-report@dpdk.org>; Tue, 12 Mar 2024 19:36:27 +0100 (CET)
Received: by mail-il1-f228.google.com with SMTP id
 e9e14a558f8ab-3665f8f4d70so13101305ab.1
 for <test-report@dpdk.org>; Tue, 12 Mar 2024 11:36:27 -0700 (PDT)
DKIM-Signature: v=1; a=rsa-sha256; c=relaxed/relaxed;
 d=iol.unh.edu; s=unh-iol; t=1710268587; x=1710873387; darn=dpdk.org;
 h=references:in-reply-to:cc:to:from:subject:message-id:date:from:to
 :cc:subject:date:message-id:reply-to;
 bh=OsrdcczAUmkut/Gk5N5xZZlnA8zHjDlpeQwNlyfowsM=;
 b=GdgPXdUOrZb2WbWg2dgMD/IZxMWuqdJGQlGQpOF4WpbQUUpeQsVdtNFeWQlR1uxvXb
 yAi2UZ5IcFP3N1MpRZx3xRPpyhGdoqWJNIVqGcnnIptmuOnWT3CxhCS+FDiVMXRySa2c
 7CA0fDBSgwXwi1E4SxeOmjzdoZXK8yT+nOC8U=
X-Google-DKIM-Signature: v=1; a=rsa-sha256; c=relaxed/relaxed;
 d=1e100.net; s=20230601; t=1710268587; x=1710873387;
 h=references:in-reply-to:cc:to:from:subject:message-id:date
 :x-gm-message-state:from:to:cc:subject:date:message-id:reply-to;
 bh=OsrdcczAUmkut/Gk5N5xZZlnA8zHjDlpeQwNlyfowsM=;
 b=GAsnmYm5OqWzSjs/MqyfdsJjt9UccA9NZxUhHUX6IEt9IRmrAxLmBPK2s25i5WiMn7
 ZaS4Wuup4gXddUqWu5E7Rbbr9D5Hdfit3qpi/5BrnhqT/QI6kCQSYO/gJtOw17pPOWU2
 Uz6QD+nmjm+7M71IN1Ie4+GOm02Tz/xTBcN8s3lIYrjSXX0h5Pg/OY1Ve0m0hXIKlDqw
 2EvNgMng8WujuouFDqd6AVerZRgTtordtR5yLKuYBp9QQaZc0IeNkXnB+1tJhz+h8I2a
 3Z1DYdORlbWbL0DMUzFIw+Z4gwppUJ8MgrKjQ020jRd9MIN8xPrJ6XeiYwf06elAoUJo
 JCAA==
X-Gm-Message-State: AOJu0Yy6MeJEhdIlSG0IMHtKJxe8yMSiU149HEIF66/P1BBmxJVoClr9
 t46+7Lm2wAnoUttQOlAmocRUQ57CCkVzp117R6CmQQSh5Yal9Ia0Yspm9z7TdBGx3oZuTtfnBmg
 5uYBFbMfKRy7uvjQrGNksdoqB6hKkT1Fvc+qflkoUkO8ydBsl1k/BkRIG
X-Google-Smtp-Source: AGHT+IH/iAJ020DhAmpD4m2q5Lju6KJmDx8mUqjZbYvZkyxdFD8nq+lGxh65+a8en2x9GLkCIkOiPyvmZYnb
X-Received: by 2002:a05:6e02:1d8a:b0:365:1dd9:ee6b with SMTP id
 h10-20020a056e021d8a00b003651dd9ee6bmr3003761ila.25.1710268587284; 
 Tue, 12 Mar 2024 11:36:27 -0700 (PDT)
Received: from postal.iol.unh.edu (postal.iol.unh.edu.
 [2606:4100:3880:1234::84]) by smtp-relay.gmail.com with ESMTPS id
 x13-20020a056e021cad00b003654284f367sm436228ill.8.2024.03.12.11.36.27
 (version=TLS1_2 cipher=ECDHE-ECDSA-AES128-GCM-SHA256 bits=128/128);
 Tue, 12 Mar 2024 11:36:27 -0700 (PDT)
X-Relaying-Domain: iol.unh.edu
Date: Tue, 12 Mar 2024 11:36:27 -0700 (PDT)
Message-ID: <65f0a0ab.050a0220.f419e.c256SMTPIN_ADDED_MISSING@mx.google.com>
Received: from [172.17.0.7] (unknown [172.18.0.217])
 by postal.iol.unh.edu (Postfix) with ESMTP id B96776052471;
 Tue, 12 Mar 2024 14:36:26 -0400 (EDT)
Subject: |SUCCESS| pw138220-138223 [PATCH] [v7,4/4] hash: add SVE support for
From: dpdklab@iol.unh.edu
To: Test Report <test-report@dpdk.org>
Cc: dpdk-test-reports@iol.unh.edu
In-Reply-To: <20240312154215.802374-5-yoan.picchi@arm.com>
References: <20240312154215.802374-5-yoan.picchi@arm.com>
Content-Type: text/plain
X-BeenThere: test-report@dpdk.org
X-Mailman-Version: 2.1.29
Precedence: list
List-Id: automatic DPDK test reports <test-report.dpdk.org>
List-Unsubscribe: <https://mails.dpdk.org/options/test-report>,
 <mailto:test-report-request@dpdk.org?subject=unsubscribe>
List-Archive: <http://mails.dpdk.org/archives/test-report/>
List-Post: <mailto:test-report@dpdk.org>
List-Help: <mailto:test-report-request@dpdk.org?subject=help>
List-Subscribe: <https://mails.dpdk.org/listinfo/test-report>,
 <mailto:test-report-request@dpdk.org?subject=subscribe>
Errors-To: test-report-bounces@dpdk.org

Test-Label: iol-unit-arm64-testing
Test-Status: SUCCESS
http://dpdk.org/patch/138223

_Testing PASS_

Submitter: Yoan Picchi <yoan.picchi@arm.com>
Date: Tuesday, March 12 2024 15:42:15 
DPDK git baseline: Repo:dpdk
  Branch: master
  CommitID:a86f381b826660e88794754c41d3aec79ce9b87c

138220-138223 --> testing pass

Test environment and result as below:

+--------------------------+------------------------------+---------------------------+----------------+--------------+
|       Environment        | cryptodev_sw_snow3g_autotest | cryptodev_sw_zuc_autotest | dpdk_unit_test | lpm_autotest |
+==========================+==============================+===========================+================+==============+
| Debian 12 (arm)          | PASS                         | PASS                      | PASS           | SKIPPED      |
+--------------------------+------------------------------+---------------------------+----------------+--------------+
| CentOS Stream 9 (ARM)    | SKIPPED                      | SKIPPED                   | PASS           | SKIPPED      |
+--------------------------+------------------------------+---------------------------+----------------+--------------+
| Debian 11 (Buster) (ARM) | SKIPPED                      | SKIPPED                   | PASS           | SKIPPED      |
+--------------------------+------------------------------+---------------------------+----------------+--------------+
| Fedora 37 (ARM)          | SKIPPED                      | SKIPPED                   | PASS           | SKIPPED      |
+--------------------------+------------------------------+---------------------------+----------------+--------------+
| Ubuntu 20.04 (ARM)       | SKIPPED                      | SKIPPED                   | PASS           | SKIPPED      |
+--------------------------+------------------------------+---------------------------+----------------+--------------+
| Fedora 38 (ARM)          | SKIPPED                      | SKIPPED                   | PASS           | SKIPPED      |
+--------------------------+------------------------------+---------------------------+----------------+--------------+
| Ubuntu 20.04 ARM SVE     | SKIPPED                      | SKIPPED                   | SKIPPED        | PASS         |
+--------------------------+------------------------------+---------------------------+----------------+--------------+


Debian 12 (arm)
	Kernel: Container Host Kernel
	Compiler: gcc 11

CentOS Stream 9 (ARM)
	Kernel: Container Host Kernel
	Compiler: gcc 11.3.1

Debian 11 (Buster) (ARM)
	Kernel: Container Host Kernel
	Compiler: gcc 10.2.1

Fedora 37 (ARM)
	Kernel: Depends on container host
	Compiler: gcc 12.3.1

Ubuntu 20.04 (ARM)
	Kernel: Container Host Kernel
	Compiler: gcc 9.4.0

Fedora 38 (ARM)
	Kernel: Depends on container host
	Compiler: gcc 13.1.1

Ubuntu 20.04 ARM SVE
	Kernel: 5.4.0-80-generic
	Compiler: gcc 10.3.0 (Ubuntu 10.3.0-1ubuntu1~20.04)

To view detailed results, visit:
https://lab.dpdk.org/results/dashboard/patchsets/29520/

UNH-IOL DPDK Community Lab

To manage your email subscriptions, visit: 
https://lab.dpdk.org/results/dashboard/preferences/subscriptions/