From mboxrd@z Thu Jan  1 00:00:00 1970
Return-Path: <test-report-bounces@dpdk.org>
Received: from mails.dpdk.org (mails.dpdk.org [217.70.189.124])
	by inbox.dpdk.org (Postfix) with ESMTP id E924243C94
	for <public@inbox.dpdk.org>; Tue, 12 Mar 2024 19:41:01 +0100 (CET)
Received: from mails.dpdk.org (localhost [127.0.0.1])
	by mails.dpdk.org (Postfix) with ESMTP id E2950427E0;
	Tue, 12 Mar 2024 19:41:01 +0100 (CET)
Received: from mail-yw1-f225.google.com (mail-yw1-f225.google.com
 [209.85.128.225])
 by mails.dpdk.org (Postfix) with ESMTP id 2996940E40
 for <test-report@dpdk.org>; Tue, 12 Mar 2024 19:41:00 +0100 (CET)
Received: by mail-yw1-f225.google.com with SMTP id
 00721157ae682-609fb0450d8so54711247b3.0
 for <test-report@dpdk.org>; Tue, 12 Mar 2024 11:41:00 -0700 (PDT)
DKIM-Signature: v=1; a=rsa-sha256; c=relaxed/relaxed;
 d=iol.unh.edu; s=unh-iol; t=1710268859; x=1710873659; darn=dpdk.org;
 h=references:in-reply-to:cc:to:from:subject:message-id:date:from:to
 :cc:subject:date:message-id:reply-to;
 bh=OsrdcczAUmkut/Gk5N5xZZlnA8zHjDlpeQwNlyfowsM=;
 b=gy3gu5vRfx3ShpQNbqCgprO36RbnPMMTXB9rQbH3v4jK3OHmwqFYNE6qZ4zxnpCZd9
 3zUqOEEMp4u2R7y8B5r9YRZIKwoD0p3d2uyUvbRRzct1xN0VanBoVEduMCSo4FFTXW3k
 Vt/+8G6qqYOeaqN0N0DHH+gDGJj4NE50JR5gw=
X-Google-DKIM-Signature: v=1; a=rsa-sha256; c=relaxed/relaxed;
 d=1e100.net; s=20230601; t=1710268859; x=1710873659;
 h=references:in-reply-to:cc:to:from:subject:message-id:date
 :x-gm-message-state:from:to:cc:subject:date:message-id:reply-to;
 bh=OsrdcczAUmkut/Gk5N5xZZlnA8zHjDlpeQwNlyfowsM=;
 b=Rx69wW9z8j2EwSE0XVuaJY3sS1xT+f4d1tcUJhpMhHA5MB6ZZfPIo17uRFQP3ffdzp
 2MDtcY9Lq7M2/DEOCTfX46+mzNKX0FYB/He1MToG00Tv+3GRpMzGKvufDtIum4Ggig8h
 /HwWZGREHCvxeqdAaYtk2ieE6e5SfBCE1VvjpURake7B7yN7qaT4r7E7bTo2rso0XPk4
 HfXYqNj3aNlsfDy3QTgAc+EN/FEjW6/2HW8huMlFIwhIDUQkgki+nJVdehPe1mUhTOmz
 Q44aigK6l1MmEy+XP7YuH4jGFCu1KW/BsbQK2lxel5VVZn7eKvKE4d/AY8DDnHzKIh1M
 oyfw==
X-Gm-Message-State: AOJu0YxqAO7mvq+O35DiH2iAbiy8vGrJrlVSQXm2obvkcmj2ph8e6Gv2
 j1vLyGWXUXXVWl8nleN+bYZgtenIIrTcUx2wBXbnhyyrdIopn9jZUy3Odp4837ZS8pVccX+hkzO
 au01eJZyj9HERYJLIQPmMTCUKXaYeh2IBT03ElhsM
X-Google-Smtp-Source: AGHT+IENMPbOj+OQRema+9TU1OnQvIrMZ3+wnnqO8munoHb0vT9Fz1j1zVw4JPj/XMd3WKVton8ex9HMLaOa
X-Received: by 2002:a0d:d591:0:b0:609:fd5f:bcf4 with SMTP id
 x139-20020a0dd591000000b00609fd5fbcf4mr287700ywd.24.1710268859564; 
 Tue, 12 Mar 2024 11:40:59 -0700 (PDT)
Received: from postal.iol.unh.edu (postal.iol.unh.edu. [132.177.123.84])
 by smtp-relay.gmail.com with ESMTPS id
 gw13-20020a05690c460d00b0060a027b92d5sm237842ywb.68.2024.03.12.11.40.59
 (version=TLS1_2 cipher=ECDHE-ECDSA-AES128-GCM-SHA256 bits=128/128);
 Tue, 12 Mar 2024 11:40:59 -0700 (PDT)
X-Relaying-Domain: iol.unh.edu
Date: Tue, 12 Mar 2024 11:40:59 -0700 (PDT)
Message-ID: <65f0a1bb.050a0220.f541.dd1dSMTPIN_ADDED_MISSING@mx.google.com>
Received: from [172.17.0.7] (unknown [172.18.0.217])
 by postal.iol.unh.edu (Postfix) with ESMTP id 418786052471;
 Tue, 12 Mar 2024 14:40:59 -0400 (EDT)
Subject: |SUCCESS| pw138220-138223 [PATCH] [v7,4/4] hash: add SVE support for
From: dpdklab@iol.unh.edu
To: Test Report <test-report@dpdk.org>
Cc: dpdk-test-reports@iol.unh.edu
In-Reply-To: <20240312154215.802374-5-yoan.picchi@arm.com>
References: <20240312154215.802374-5-yoan.picchi@arm.com>
Content-Type: text/plain
X-BeenThere: test-report@dpdk.org
X-Mailman-Version: 2.1.29
Precedence: list
List-Id: automatic DPDK test reports <test-report.dpdk.org>
List-Unsubscribe: <https://mails.dpdk.org/options/test-report>,
 <mailto:test-report-request@dpdk.org?subject=unsubscribe>
List-Archive: <http://mails.dpdk.org/archives/test-report/>
List-Post: <mailto:test-report@dpdk.org>
List-Help: <mailto:test-report-request@dpdk.org?subject=help>
List-Subscribe: <https://mails.dpdk.org/listinfo/test-report>,
 <mailto:test-report-request@dpdk.org?subject=subscribe>
Errors-To: test-report-bounces@dpdk.org

Test-Label: iol-unit-arm64-testing
Test-Status: SUCCESS
http://dpdk.org/patch/138223

_Testing PASS_

Submitter: Yoan Picchi <yoan.picchi@arm.com>
Date: Tuesday, March 12 2024 15:42:15 
DPDK git baseline: Repo:dpdk
  Branch: master
  CommitID:a86f381b826660e88794754c41d3aec79ce9b87c

138220-138223 --> testing pass

Test environment and result as below:

+--------------------------+------------------------------+---------------------------+----------------+--------------+
|       Environment        | cryptodev_sw_snow3g_autotest | cryptodev_sw_zuc_autotest | dpdk_unit_test | lpm_autotest |
+==========================+==============================+===========================+================+==============+
| Debian 12 (arm)          | PASS                         | PASS                      | PASS           | SKIPPED      |
+--------------------------+------------------------------+---------------------------+----------------+--------------+
| CentOS Stream 9 (ARM)    | SKIPPED                      | SKIPPED                   | PASS           | SKIPPED      |
+--------------------------+------------------------------+---------------------------+----------------+--------------+
| Debian 11 (Buster) (ARM) | SKIPPED                      | SKIPPED                   | PASS           | SKIPPED      |
+--------------------------+------------------------------+---------------------------+----------------+--------------+
| Fedora 37 (ARM)          | SKIPPED                      | SKIPPED                   | PASS           | SKIPPED      |
+--------------------------+------------------------------+---------------------------+----------------+--------------+
| Ubuntu 20.04 (ARM)       | SKIPPED                      | SKIPPED                   | PASS           | SKIPPED      |
+--------------------------+------------------------------+---------------------------+----------------+--------------+
| Fedora 38 (ARM)          | SKIPPED                      | SKIPPED                   | PASS           | SKIPPED      |
+--------------------------+------------------------------+---------------------------+----------------+--------------+
| Ubuntu 20.04 ARM SVE     | SKIPPED                      | SKIPPED                   | SKIPPED        | PASS         |
+--------------------------+------------------------------+---------------------------+----------------+--------------+


Debian 12 (arm)
	Kernel: Container Host Kernel
	Compiler: gcc 11

CentOS Stream 9 (ARM)
	Kernel: Container Host Kernel
	Compiler: gcc 11.3.1

Debian 11 (Buster) (ARM)
	Kernel: Container Host Kernel
	Compiler: gcc 10.2.1

Fedora 37 (ARM)
	Kernel: Depends on container host
	Compiler: gcc 12.3.1

Ubuntu 20.04 (ARM)
	Kernel: Container Host Kernel
	Compiler: gcc 9.4.0

Fedora 38 (ARM)
	Kernel: Depends on container host
	Compiler: gcc 13.1.1

Ubuntu 20.04 ARM SVE
	Kernel: 5.4.0-80-generic
	Compiler: gcc 10.3.0 (Ubuntu 10.3.0-1ubuntu1~20.04)

To view detailed results, visit:
https://lab.dpdk.org/results/dashboard/patchsets/29520/

UNH-IOL DPDK Community Lab

To manage your email subscriptions, visit: 
https://lab.dpdk.org/results/dashboard/preferences/subscriptions/