From mboxrd@z Thu Jan  1 00:00:00 1970
Return-Path: <test-report-bounces@dpdk.org>
Received: from mails.dpdk.org (mails.dpdk.org [217.70.189.124])
	by inbox.dpdk.org (Postfix) with ESMTP id 413C043C95
	for <public@inbox.dpdk.org>; Tue, 12 Mar 2024 20:17:58 +0100 (CET)
Received: from mails.dpdk.org (localhost [127.0.0.1])
	by mails.dpdk.org (Postfix) with ESMTP id 2C3B942D72;
	Tue, 12 Mar 2024 20:17:58 +0100 (CET)
Received: from mail-oi1-f226.google.com (mail-oi1-f226.google.com
 [209.85.167.226])
 by mails.dpdk.org (Postfix) with ESMTP id 69864402CD
 for <test-report@dpdk.org>; Tue, 12 Mar 2024 20:17:56 +0100 (CET)
Received: by mail-oi1-f226.google.com with SMTP id
 5614622812f47-3c19e18470aso3861836b6e.1
 for <test-report@dpdk.org>; Tue, 12 Mar 2024 12:17:56 -0700 (PDT)
DKIM-Signature: v=1; a=rsa-sha256; c=relaxed/relaxed;
 d=iol.unh.edu; s=unh-iol; t=1710271075; x=1710875875; darn=dpdk.org;
 h=references:in-reply-to:cc:to:from:subject:message-id:date:from:to
 :cc:subject:date:message-id:reply-to;
 bh=JrhMrwZWEVW/m3dlec0QWPNp02+wJVCEOQ6VvTHSQfo=;
 b=K3ZxQE8z+LIv1Q0Ro/pzbhiEZjLYQA3YJCQMggvx0iUA9D0SmG0Wsj4ivFf3qDPp7U
 zNN3ECnw2SnHqo8KwY3MesR0F6b6yU8IL4kgmvOPHlR90Pz4CCYu2quguCjwuQONxmBU
 k7ThLA/fDyRQPry9cQue68L2SKhZio1/hyMz0=
X-Google-DKIM-Signature: v=1; a=rsa-sha256; c=relaxed/relaxed;
 d=1e100.net; s=20230601; t=1710271075; x=1710875875;
 h=references:in-reply-to:cc:to:from:subject:message-id:date
 :x-gm-message-state:from:to:cc:subject:date:message-id:reply-to;
 bh=JrhMrwZWEVW/m3dlec0QWPNp02+wJVCEOQ6VvTHSQfo=;
 b=aVkWby2BSXAQEPanlTq/c1T/cndaP5C75rycaUELfyU6MdoBeGKD0p41/UZfLGI7iX
 ZVhYWds4qItsF8unftofZzYMae6lqjAHPymj0MmqmlHVmOhVMWvOc9Tp9Q1DOdUdrZ12
 uSuwJO0GA7/o9QyXSI+9S6z0zbrhqJiXCCzmedFbuo15U4f8nIt7gqJffmaWvmqtDyZv
 w5A+JopGo82YJf8VbM7g3YFj8UXxv05teYympmX/3cc3aOSG1B01uP0/A97Ex+1FXeeh
 HZy2uJHS+qm3YP8burcg0vxAcsMfyvgbvyIuMkH0H6HRLTawQj0inl/kQY95uoIW7EMj
 Nx1Q==
X-Gm-Message-State: AOJu0YxovzMiDAFD5Q1HK94UG36sRqs1kB4TD7oOY+bQ8jQVAVZBULXA
 oaB+/9c6huhweODS6Nn4bb3ZBVMo1M5CzXRGueMAIEGvUUW2EGrwZuEtc+DhZirJL0Y8nfX3kRA
 iM8oC84XMzNWF0FJS5K+60gmt9dBBztx8QGkjmABp
X-Google-Smtp-Source: AGHT+IEkxRn2cnBIUzQUOf0xEF/Cms8R8U2ZhQam9C+E1pI59lBqTRlc5j2Y+h7S+jjEWtaGTv7njN5w3ZjH
X-Received: by 2002:a05:6808:1389:b0:3c2:505c:855c with SMTP id
 c9-20020a056808138900b003c2505c855cmr5267187oiw.26.1710271075517; 
 Tue, 12 Mar 2024 12:17:55 -0700 (PDT)
Received: from postal.iol.unh.edu (postal.iol.unh.edu. [132.177.123.84])
 by smtp-relay.gmail.com with ESMTPS id
 3-20020a0562140d0300b00690b8976624sm393321qvh.18.2024.03.12.12.17.55
 (version=TLS1_2 cipher=ECDHE-ECDSA-AES128-GCM-SHA256 bits=128/128);
 Tue, 12 Mar 2024 12:17:55 -0700 (PDT)
X-Relaying-Domain: iol.unh.edu
Date: Tue, 12 Mar 2024 12:17:55 -0700 (PDT)
Message-ID: <65f0aa63.050a0220.99704.743aSMTPIN_ADDED_MISSING@mx.google.com>
Received: from [172.17.0.6] (unknown [172.18.0.217])
 by postal.iol.unh.edu (Postfix) with ESMTP id 346526052471;
 Tue, 12 Mar 2024 15:17:55 -0400 (EDT)
Subject: |SUCCESS| pw138219 [PATCH] [v2] net/bnx2x: fix indentation
From: dpdklab@iol.unh.edu
To: Test Report <test-report@dpdk.org>
Cc: dpdk-test-reports@iol.unh.edu
In-Reply-To: <20240312150240.6373-1-stephen@networkplumber.org>
References: <20240312150240.6373-1-stephen@networkplumber.org>
Content-Type: text/plain
X-BeenThere: test-report@dpdk.org
X-Mailman-Version: 2.1.29
Precedence: list
List-Id: automatic DPDK test reports <test-report.dpdk.org>
List-Unsubscribe: <https://mails.dpdk.org/options/test-report>,
 <mailto:test-report-request@dpdk.org?subject=unsubscribe>
List-Archive: <http://mails.dpdk.org/archives/test-report/>
List-Post: <mailto:test-report@dpdk.org>
List-Help: <mailto:test-report-request@dpdk.org?subject=help>
List-Subscribe: <https://mails.dpdk.org/listinfo/test-report>,
 <mailto:test-report-request@dpdk.org?subject=subscribe>
Errors-To: test-report-bounces@dpdk.org

Test-Label: iol-abi-testing
Test-Status: SUCCESS
http://dpdk.org/patch/138219

_Testing PASS_

Submitter: Stephen Hemminger <stephen@networkplumber.org>
Date: Tuesday, March 12 2024 15:01:28 
DPDK git baseline: Repo:dpdk
  Branch: master
  CommitID:a86f381b826660e88794754c41d3aec79ce9b87c

138219 --> testing pass

Test environment and result as below:

+------------------+----------+
|   Environment    | abi_test |
+==================+==========+
| CentOS Stream 9  | PASS     |
+------------------+----------+
| Debian Bullseye  | PASS     |
+------------------+----------+
| Fedora 37        | PASS     |
+------------------+----------+
| CentOS Stream 8  | PASS     |
+------------------+----------+
| openSUSE Leap 15 | PASS     |
+------------------+----------+
| Fedora 38        | PASS     |
+------------------+----------+
| Debian 12 (arm)  | PASS     |
+------------------+----------+
| RHEL8            | PASS     |
+------------------+----------+
| Ubuntu 22.04     | PASS     |
+------------------+----------+


CentOS Stream 9
	Kernel: 4.18.0-240.10.1.el8_3.x86_64
	Compiler: gcc 11.3.1 20220421

Debian Bullseye
	Kernel: 5.4.0-122-generic
	Compiler: gcc 10.2.1-6

Fedora 37
	Kernel: Depends on container host system
	Compiler: gcc 12.3.1

CentOS Stream 8
	Kernel: 4.18.0-240.10.1.el8_3.x86_64
	Compiler: gcc 8.4.1 20200928

openSUSE Leap 15
	Kernel: 4.18.0-240.10.1.el8_3.x86_64
	Compiler: gcc 7.5.0

Fedora 38
	Kernel: Depends on container host
	Compiler: gcc 13.1.1

Debian 12 (arm)
	Kernel: Container Host Kernel
	Compiler: gcc 11

RHEL8
	Kernel: 4.18.0-240.10.1.el8_3.x86_64
	Compiler: gcc 8.3.1 20191121 (Red Hat 8.3.1-5)

Ubuntu 22.04
	Kernel: 4.18.0-240.10.1.el8_3.x86_64
	Compiler: gcc 11.3.0

To view detailed results, visit:
https://lab.dpdk.org/results/dashboard/patchsets/29519/

UNH-IOL DPDK Community Lab

To manage your email subscriptions, visit: 
https://lab.dpdk.org/results/dashboard/preferences/subscriptions/