From mboxrd@z Thu Jan  1 00:00:00 1970
Return-Path: <test-report-bounces@dpdk.org>
Received: from mails.dpdk.org (mails.dpdk.org [217.70.189.124])
	by inbox.dpdk.org (Postfix) with ESMTP id 8580043C95
	for <public@inbox.dpdk.org>; Tue, 12 Mar 2024 20:24:23 +0100 (CET)
Received: from mails.dpdk.org (localhost [127.0.0.1])
	by mails.dpdk.org (Postfix) with ESMTP id 8161942D72;
	Tue, 12 Mar 2024 20:24:23 +0100 (CET)
Received: from mail-pf1-f228.google.com (mail-pf1-f228.google.com
 [209.85.210.228])
 by mails.dpdk.org (Postfix) with ESMTP id 98AAB402CD
 for <test-report@dpdk.org>; Tue, 12 Mar 2024 20:24:22 +0100 (CET)
Received: by mail-pf1-f228.google.com with SMTP id
 d2e1a72fcca58-6e649a2548cso4136633b3a.3
 for <test-report@dpdk.org>; Tue, 12 Mar 2024 12:24:22 -0700 (PDT)
DKIM-Signature: v=1; a=rsa-sha256; c=relaxed/relaxed;
 d=iol.unh.edu; s=unh-iol; t=1710271462; x=1710876262; darn=dpdk.org;
 h=references:in-reply-to:cc:to:from:subject:message-id:date:from:to
 :cc:subject:date:message-id:reply-to;
 bh=usBDsjI2dd1BRpo/hUQT8ewgCibn7EDU8jJwrQDGutM=;
 b=Zn0HaeEYCBWRuxf27oPVRHt3g7apsTv6ZR8yi4bTDTxw2oPD6Dn1nv9kb9BBBEVfCH
 cyc3/wNo3TnjcHEMC0AHDs9U9vf5aAaKPZfc8WnlhL9Vft+kPv9WaJgU6oQUjuURwuT1
 KzWJKYuJX2+9m5vZoXXQy89CGf1asfg00qpcM=
X-Google-DKIM-Signature: v=1; a=rsa-sha256; c=relaxed/relaxed;
 d=1e100.net; s=20230601; t=1710271462; x=1710876262;
 h=references:in-reply-to:cc:to:from:subject:message-id:date
 :x-gm-message-state:from:to:cc:subject:date:message-id:reply-to;
 bh=usBDsjI2dd1BRpo/hUQT8ewgCibn7EDU8jJwrQDGutM=;
 b=Jo03oEBdrawK/Af4oaQKT6tATA2P0ayxi06Wd0Jd95pZs+NVZ2nbYcmr5AN4aJ7FAW
 auf+XXYu+ryLCofI9eB/dMTCxJkxhiB/hSba7UMxJkN3oLzdJzzyxPKOZX9MA/W0og8e
 AULGRnU2tgXDzsioQvkQgcFjefMemiGSFYw5bx2qNFMPicZXy4fbKZo4MJKh1imexxqW
 pSE8WQ+Ld6Ugi9ls9fAXwHRPkWGsfOADHM5Xpgv3Khwv8qV2jBlMnRz+ya2RV7nnPtyu
 GxEc5xaSawDAaN5/1H4VOqMkAtoEkU+bQ16DSPIVMPf0rRV31tuxGmhHxPXdizGIepXJ
 UdXw==
X-Gm-Message-State: AOJu0YzkV8oMmV/PDl7FqLst6i9hi0ZFXmcbtfDD1UMz35veSTDGSpTd
 WEQueBPIFoYIUrFiBWvINKQiVFbr7C7KTTGQ8jEVDHCxeueWb/d2voAQwfKtEkk5bjnkD/yNsYx
 4MzGtlhp8lHXXtKT16ViGG1C0/HAKTom2OIayjot9
X-Google-Smtp-Source: AGHT+IGXch7x88xxreUn+9O53cHjeRzlI82+dbGnh7e74H3z4ov6DUPc5mi2rKeMaT3X15GYUXpM5jRoRb/e
X-Received: by 2002:a05:6a20:c90e:b0:1a1:4809:50d3 with SMTP id
 gx14-20020a056a20c90e00b001a1480950d3mr1262658pzb.54.1710271461774; 
 Tue, 12 Mar 2024 12:24:21 -0700 (PDT)
Received: from postal.iol.unh.edu (postal.iol.unh.edu. [132.177.123.84])
 by smtp-relay.gmail.com with ESMTPS id
 lp14-20020a056a003d4e00b006e64d887741sm538598pfb.2.2024.03.12.12.24.21
 (version=TLS1_2 cipher=ECDHE-ECDSA-AES128-GCM-SHA256 bits=128/128);
 Tue, 12 Mar 2024 12:24:21 -0700 (PDT)
X-Relaying-Domain: iol.unh.edu
Date: Tue, 12 Mar 2024 12:24:21 -0700 (PDT)
Message-ID: <65f0abe5.050a0220.c3c85.1699SMTPIN_ADDED_MISSING@mx.google.com>
Received: from [172.17.0.6] (unknown [172.18.0.217])
 by postal.iol.unh.edu (Postfix) with ESMTP id E97436052471;
 Tue, 12 Mar 2024 15:24:20 -0400 (EDT)
Subject: |SUCCESS| pw138219 [PATCH] [v2] net/bnx2x: fix indentation
From: dpdklab@iol.unh.edu
To: Test Report <test-report@dpdk.org>
Cc: dpdk-test-reports@iol.unh.edu
In-Reply-To: <20240312150240.6373-1-stephen@networkplumber.org>
References: <20240312150240.6373-1-stephen@networkplumber.org>
Content-Type: text/plain
X-BeenThere: test-report@dpdk.org
X-Mailman-Version: 2.1.29
Precedence: list
List-Id: automatic DPDK test reports <test-report.dpdk.org>
List-Unsubscribe: <https://mails.dpdk.org/options/test-report>,
 <mailto:test-report-request@dpdk.org?subject=unsubscribe>
List-Archive: <http://mails.dpdk.org/archives/test-report/>
List-Post: <mailto:test-report@dpdk.org>
List-Help: <mailto:test-report-request@dpdk.org?subject=help>
List-Subscribe: <https://mails.dpdk.org/listinfo/test-report>,
 <mailto:test-report-request@dpdk.org?subject=subscribe>
Errors-To: test-report-bounces@dpdk.org

Test-Label: iol-compile-amd64-testing
Test-Status: SUCCESS
http://dpdk.org/patch/138219

_Testing PASS_

Submitter: Stephen Hemminger <stephen@networkplumber.org>
Date: Tuesday, March 12 2024 15:01:28 
DPDK git baseline: Repo:dpdk
  Branch: master
  CommitID:a86f381b826660e88794754c41d3aec79ce9b87c

138219 --> testing pass

Test environment and result as below:

+---------------------+--------------------+
|     Environment     | dpdk_meson_compile |
+=====================+====================+
| Windows Server 2022 | PASS               |
+---------------------+--------------------+
| FreeBSD 13.2        | PASS               |
+---------------------+--------------------+
| CentOS Stream 8     | PASS               |
+---------------------+--------------------+
| Debian Bullseye     | PASS               |
+---------------------+--------------------+
| CentOS Stream 9     | PASS               |
+---------------------+--------------------+
| Debian 12 (arm)     | PASS               |
+---------------------+--------------------+
| Fedora 38           | PASS               |
+---------------------+--------------------+
| Ubuntu 22.04        | PASS               |
+---------------------+--------------------+
| Ubuntu 20.04        | PASS               |
+---------------------+--------------------+
| Fedora 37           | PASS               |
+---------------------+--------------------+
| openSUSE Leap 15    | PASS               |
+---------------------+--------------------+
| RHEL8               | PASS               |
+---------------------+--------------------+
| Alpine              | PASS               |
+---------------------+--------------------+


Windows Server 2022
	Kernel: OS Build 20348.2031
	Compiler: MSVC VS-Preview

FreeBSD 13.2
	Kernel: 13.2
	Compiler: clang 11.3.0

CentOS Stream 8
	Kernel: 4.18.0-240.10.1.el8_3.x86_64
	Compiler: gcc 8.4.1 20200928

Debian Bullseye
	Kernel: 5.4.0-122-generic
	Compiler: gcc 10.2.1-6

CentOS Stream 9
	Kernel: 4.18.0-240.10.1.el8_3.x86_64
	Compiler: gcc 11.3.1 20220421

Debian 12 (arm)
	Kernel: Container Host Kernel
	Compiler: gcc 11

Fedora 38
	Kernel: Depends on container host
	Compiler: gcc 13.1.1

Ubuntu 22.04
	Kernel: 4.18.0-240.10.1.el8_3.x86_64
	Compiler: gcc 11.3.0

Ubuntu 20.04
	Kernel: 5.4.0-153-generic
	Compiler: gcc 9.4.0-1ubuntu1~20.04.1

Fedora 37
	Kernel: Depends on container host system
	Compiler: gcc 12.3.1

openSUSE Leap 15
	Kernel: 4.18.0-240.10.1.el8_3.x86_64
	Compiler: gcc 7.5.0

RHEL8
	Kernel: 4.18.0-240.10.1.el8_3.x86_64
	Compiler: gcc 8.3.1 20191121 (Red Hat 8.3.1-5)

Alpine
	Kernel: 5.4.0-73-generic
	Compiler: gcc (Alpine 10.3.1_git20210424) 10.3.1 20210424

To view detailed results, visit:
https://lab.dpdk.org/results/dashboard/patchsets/29519/

UNH-IOL DPDK Community Lab

To manage your email subscriptions, visit: 
https://lab.dpdk.org/results/dashboard/preferences/subscriptions/