From mboxrd@z Thu Jan  1 00:00:00 1970
Return-Path: <test-report-bounces@dpdk.org>
Received: from mails.dpdk.org (mails.dpdk.org [217.70.189.124])
	by inbox.dpdk.org (Postfix) with ESMTP id 63BE343C95
	for <public@inbox.dpdk.org>; Tue, 12 Mar 2024 20:31:04 +0100 (CET)
Received: from mails.dpdk.org (localhost [127.0.0.1])
	by mails.dpdk.org (Postfix) with ESMTP id 5FCCD42D72;
	Tue, 12 Mar 2024 20:31:04 +0100 (CET)
Received: from mail-pl1-f226.google.com (mail-pl1-f226.google.com
 [209.85.214.226])
 by mails.dpdk.org (Postfix) with ESMTP id 8064F402CD
 for <test-report@dpdk.org>; Tue, 12 Mar 2024 20:31:02 +0100 (CET)
Received: by mail-pl1-f226.google.com with SMTP id
 d9443c01a7336-1dc1ff3ba1aso2142745ad.3
 for <test-report@dpdk.org>; Tue, 12 Mar 2024 12:31:02 -0700 (PDT)
DKIM-Signature: v=1; a=rsa-sha256; c=relaxed/relaxed;
 d=iol.unh.edu; s=unh-iol; t=1710271861; x=1710876661; darn=dpdk.org;
 h=references:in-reply-to:cc:to:from:subject:message-id:date:from:to
 :cc:subject:date:message-id:reply-to;
 bh=usBDsjI2dd1BRpo/hUQT8ewgCibn7EDU8jJwrQDGutM=;
 b=HjUx2ndLCxHBf/mga+9BSGbb/dflUbfHIjHwU2kxyiD3RB5ChQeeyQaR+GBO6Ex5CC
 NQQt7eJYdtvehm1gNgtgmSgsi5NJbllCzWJ4OV+biiozpLNF5E5wMfhzaczqJT6hP1lH
 EKz9NY1Yp2G92oIX6XNAUa2DH4xtthgt4YKLw=
X-Google-DKIM-Signature: v=1; a=rsa-sha256; c=relaxed/relaxed;
 d=1e100.net; s=20230601; t=1710271861; x=1710876661;
 h=references:in-reply-to:cc:to:from:subject:message-id:date
 :x-gm-message-state:from:to:cc:subject:date:message-id:reply-to;
 bh=usBDsjI2dd1BRpo/hUQT8ewgCibn7EDU8jJwrQDGutM=;
 b=ZfQ7qGhQXNJSqMuypNO/pDle3pWssg7vDDt3EpoxCPsOQZl5aUuI5iQot/0tOuvdqd
 jqR2kjKg2JtxvnAxFPtBYmIqHMfKUrPwwvCfahu/HXkiIq1HrroEyji3cobarZp3abtf
 PmriyVw0hkr1FBG5VLqgFbR9LsKjL0Z1azHBhQx16I90FUTl/sA+nhoIkxeBGiVhPPpZ
 0m3OXVGCEBS3gu6zraRkFQNtgmVAb7Ow+CjfplYXNc5FQoyrFRi/nByRKh+3IzGTzAB2
 2txj2ylBcwinoCO9F7k+IEW3jcA+bEL2HMLWDhF8GjqMEvfpiKpu/VWhZil5V9sx78et
 F4PQ==
X-Gm-Message-State: AOJu0Ywy28+OwDVeHKBP2vkxJPoJ8PihpRdknkN+cA1uv6o8rWBYb2Kq
 ln2bOQ3G+a6QKFOVup/b1zqD1g08XVXMcXyOccr3u1IERvVPLijrBDCL+zb4MDVY70YhxUr+qqc
 d0oKiikEq/d71Q3+o99xFwkczcIV4EpGmn9Q8Awm/
X-Google-Smtp-Source: AGHT+IFT6Jg/TfcHrIfnSdo/puCEDSSzXy1yZRw9ZW1sOTbQ+ki3cGqVO2Mo/GVNLI49wkeWGRewpdGd/Y1c
X-Received: by 2002:a17:902:f60b:b0:1dd:c288:899f with SMTP id
 n11-20020a170902f60b00b001ddc288899fmr1689227plg.18.1710271861670; 
 Tue, 12 Mar 2024 12:31:01 -0700 (PDT)
Received: from postal.iol.unh.edu (postal.iol.unh.edu. [132.177.123.84])
 by smtp-relay.gmail.com with ESMTPS id
 kp4-20020a170903280400b001dccdf24791sm184734plb.132.2024.03.12.12.31.01
 (version=TLS1_2 cipher=ECDHE-ECDSA-AES128-GCM-SHA256 bits=128/128);
 Tue, 12 Mar 2024 12:31:01 -0700 (PDT)
X-Relaying-Domain: iol.unh.edu
Date: Tue, 12 Mar 2024 12:31:01 -0700 (PDT)
Message-ID: <65f0ad75.170a0220.7fe4.ab19SMTPIN_ADDED_MISSING@mx.google.com>
Received: from [172.17.0.6] (unknown [172.18.0.217])
 by postal.iol.unh.edu (Postfix) with ESMTP id D082E6052471;
 Tue, 12 Mar 2024 15:31:00 -0400 (EDT)
Subject: |SUCCESS| pw138219 [PATCH] [v2] net/bnx2x: fix indentation
From: dpdklab@iol.unh.edu
To: Test Report <test-report@dpdk.org>
Cc: dpdk-test-reports@iol.unh.edu
In-Reply-To: <20240312150240.6373-1-stephen@networkplumber.org>
References: <20240312150240.6373-1-stephen@networkplumber.org>
Content-Type: text/plain
X-BeenThere: test-report@dpdk.org
X-Mailman-Version: 2.1.29
Precedence: list
List-Id: automatic DPDK test reports <test-report.dpdk.org>
List-Unsubscribe: <https://mails.dpdk.org/options/test-report>,
 <mailto:test-report-request@dpdk.org?subject=unsubscribe>
List-Archive: <http://mails.dpdk.org/archives/test-report/>
List-Post: <mailto:test-report@dpdk.org>
List-Help: <mailto:test-report-request@dpdk.org?subject=help>
List-Subscribe: <https://mails.dpdk.org/listinfo/test-report>,
 <mailto:test-report-request@dpdk.org?subject=subscribe>
Errors-To: test-report-bounces@dpdk.org

Test-Label: iol-compile-amd64-testing
Test-Status: SUCCESS
http://dpdk.org/patch/138219

_Testing PASS_

Submitter: Stephen Hemminger <stephen@networkplumber.org>
Date: Tuesday, March 12 2024 15:01:28 
DPDK git baseline: Repo:dpdk
  Branch: master
  CommitID:a86f381b826660e88794754c41d3aec79ce9b87c

138219 --> testing pass

Test environment and result as below:

+---------------------+--------------------+
|     Environment     | dpdk_meson_compile |
+=====================+====================+
| Windows Server 2022 | PASS               |
+---------------------+--------------------+
| FreeBSD 13.2        | PASS               |
+---------------------+--------------------+
| CentOS Stream 8     | PASS               |
+---------------------+--------------------+
| Debian Bullseye     | PASS               |
+---------------------+--------------------+
| CentOS Stream 9     | PASS               |
+---------------------+--------------------+
| Debian 12 (arm)     | PASS               |
+---------------------+--------------------+
| Fedora 38           | PASS               |
+---------------------+--------------------+
| Ubuntu 22.04        | PASS               |
+---------------------+--------------------+
| Ubuntu 20.04        | PASS               |
+---------------------+--------------------+
| Fedora 37           | PASS               |
+---------------------+--------------------+
| openSUSE Leap 15    | PASS               |
+---------------------+--------------------+
| RHEL8               | PASS               |
+---------------------+--------------------+
| Alpine              | PASS               |
+---------------------+--------------------+


Windows Server 2022
	Kernel: OS Build 20348.2031
	Compiler: MSVC VS-Preview

FreeBSD 13.2
	Kernel: 13.2
	Compiler: clang 11.3.0

CentOS Stream 8
	Kernel: 4.18.0-240.10.1.el8_3.x86_64
	Compiler: gcc 8.4.1 20200928

Debian Bullseye
	Kernel: 5.4.0-122-generic
	Compiler: gcc 10.2.1-6

CentOS Stream 9
	Kernel: 4.18.0-240.10.1.el8_3.x86_64
	Compiler: gcc 11.3.1 20220421

Debian 12 (arm)
	Kernel: Container Host Kernel
	Compiler: gcc 11

Fedora 38
	Kernel: Depends on container host
	Compiler: gcc 13.1.1

Ubuntu 22.04
	Kernel: 4.18.0-240.10.1.el8_3.x86_64
	Compiler: gcc 11.3.0

Ubuntu 20.04
	Kernel: 5.4.0-153-generic
	Compiler: gcc 9.4.0-1ubuntu1~20.04.1

Fedora 37
	Kernel: Depends on container host system
	Compiler: gcc 12.3.1

openSUSE Leap 15
	Kernel: 4.18.0-240.10.1.el8_3.x86_64
	Compiler: gcc 7.5.0

RHEL8
	Kernel: 4.18.0-240.10.1.el8_3.x86_64
	Compiler: gcc 8.3.1 20191121 (Red Hat 8.3.1-5)

Alpine
	Kernel: 5.4.0-73-generic
	Compiler: gcc (Alpine 10.3.1_git20210424) 10.3.1 20210424

To view detailed results, visit:
https://lab.dpdk.org/results/dashboard/patchsets/29519/

UNH-IOL DPDK Community Lab

To manage your email subscriptions, visit: 
https://lab.dpdk.org/results/dashboard/preferences/subscriptions/